| Back to Multiple platform build/check report for BioC 3.21: simplified long |
|
This page was generated on 2025-08-18 11:42 -0400 (Mon, 18 Aug 2025).
| Hostname | OS | Arch (*) | R version | Installed pkgs |
|---|---|---|---|---|
| nebbiolo1 | Linux (Ubuntu 24.04.3 LTS) | x86_64 | 4.5.1 (2025-06-13) -- "Great Square Root" | 4824 |
| palomino7 | Windows Server 2022 Datacenter | x64 | 4.5.1 (2025-06-13 ucrt) -- "Great Square Root" | 4566 |
| merida1 | macOS 12.7.5 Monterey | x86_64 | 4.5.1 RC (2025-06-05 r88288) -- "Great Square Root" | 4604 |
| kjohnson1 | macOS 13.6.6 Ventura | arm64 | 4.5.1 Patched (2025-06-14 r88325) -- "Great Square Root" | 4545 |
| kunpeng2 | Linux (openEuler 24.03 LTS) | aarch64 | R Under development (unstable) (2025-02-19 r87757) -- "Unsuffered Consequences" | 4579 |
| Click on any hostname to see more info about the system (e.g. compilers) (*) as reported by 'uname -p', except on Windows and Mac OS X | ||||
| Package 2190/2341 | Hostname | OS / Arch | INSTALL | BUILD | CHECK | BUILD BIN | ||||||||
| tidySingleCellExperiment 1.18.1 (landing page) Stefano Mangiola
| nebbiolo1 | Linux (Ubuntu 24.04.3 LTS) / x86_64 | OK | OK | OK | |||||||||
| palomino7 | Windows Server 2022 Datacenter / x64 | OK | OK | OK | OK | |||||||||
| merida1 | macOS 12.7.5 Monterey / x86_64 | OK | OK | OK | OK | |||||||||
| kjohnson1 | macOS 13.6.6 Ventura / arm64 | OK | OK | OK | OK | |||||||||
| kunpeng2 | Linux (openEuler 24.03 LTS) / aarch64 | OK | OK | NA | ||||||||||
|
To the developers/maintainers of the tidySingleCellExperiment package: - Allow up to 24 hours (and sometimes 48 hours) for your latest push to git@git.bioconductor.org:packages/tidySingleCellExperiment.git to reflect on this report. See Troubleshooting Build Report for more information. - Use the following Renviron settings to reproduce errors and warnings. - If 'R CMD check' started to fail recently on the Linux builder(s) over a missing dependency, add the missing dependency to 'Suggests:' in your DESCRIPTION file. See Renviron.bioc for more information. |
| Package: tidySingleCellExperiment |
| Version: 1.18.1 |
| Command: E:\biocbuild\bbs-3.21-bioc\R\bin\R.exe CMD check --no-multiarch --install=check:tidySingleCellExperiment.install-out.txt --library=E:\biocbuild\bbs-3.21-bioc\R\library --no-vignettes --timings tidySingleCellExperiment_1.18.1.tar.gz |
| StartedAt: 2025-08-15 07:49:44 -0400 (Fri, 15 Aug 2025) |
| EndedAt: 2025-08-15 07:54:24 -0400 (Fri, 15 Aug 2025) |
| EllapsedTime: 279.6 seconds |
| RetCode: 0 |
| Status: OK |
| CheckDir: tidySingleCellExperiment.Rcheck |
| Warnings: 0 |
##############################################################################
##############################################################################
###
### Running command:
###
### E:\biocbuild\bbs-3.21-bioc\R\bin\R.exe CMD check --no-multiarch --install=check:tidySingleCellExperiment.install-out.txt --library=E:\biocbuild\bbs-3.21-bioc\R\library --no-vignettes --timings tidySingleCellExperiment_1.18.1.tar.gz
###
##############################################################################
##############################################################################
* using log directory 'E:/biocbuild/bbs-3.21-bioc/meat/tidySingleCellExperiment.Rcheck'
* using R version 4.5.1 (2025-06-13 ucrt)
* using platform: x86_64-w64-mingw32
* R was compiled by
gcc.exe (GCC) 14.2.0
GNU Fortran (GCC) 14.2.0
* running under: Windows Server 2022 x64 (build 20348)
* using session charset: UTF-8
* using option '--no-vignettes'
* checking for file 'tidySingleCellExperiment/DESCRIPTION' ... OK
* checking extension type ... Package
* this is package 'tidySingleCellExperiment' version '1.18.1'
* package encoding: UTF-8
* checking package namespace information ... OK
* checking package dependencies ... OK
* checking if this is a source package ... OK
* checking if there is a namespace ... OK
* checking for hidden files and directories ... OK
* checking for portable file names ... OK
* checking whether package 'tidySingleCellExperiment' can be installed ... OK
* checking installed package size ... OK
* checking package directory ... OK
* checking 'build' directory ... OK
* checking DESCRIPTION meta-information ... OK
* checking top-level files ... OK
* checking for left-over files ... OK
* checking index information ... OK
* checking package subdirectories ... OK
* checking code files for non-ASCII characters ... OK
* checking R files for syntax errors ... OK
* checking whether the package can be loaded ... OK
* checking whether the package can be loaded with stated dependencies ... OK
* checking whether the package can be unloaded cleanly ... OK
* checking whether the namespace can be loaded with stated dependencies ... OK
* checking whether the namespace can be unloaded cleanly ... OK
* checking whether startup messages can be suppressed ... OK
* checking dependencies in R code ... OK
* checking S3 generic/method consistency ... OK
* checking replacement functions ... OK
* checking foreign function calls ... OK
* checking R code for possible problems ... NOTE
nest.SingleCellExperiment: no visible global function definition for
'n'
aggregate_cells,SingleCellExperiment: no visible binding for global
variable 'my_id_to_split_by___'
aggregate_cells,SingleCellExperiment: no visible binding for global
variable 'assay_name'
aggregate_cells,SingleCellExperiment: no visible binding for global
variable '.feature'
Undefined global functions or variables:
.feature assay_name my_id_to_split_by___ n
* checking Rd files ... NOTE
prepare_Rd: group_by.Rd:98-100: Dropping empty section \seealso
* checking Rd metadata ... OK
* checking Rd cross-references ... NOTE
Non-topic package-anchored link(s) in Rd file 'pipe.Rd':
'[magrittr:pipe]{%>%}'
See section 'Cross-references' in the 'Writing R Extensions' manual.
Found the following Rd file(s) with Rd \link{} targets missing package
anchors:
formatting.Rd: tbl_format_setup
Please provide package anchors for all Rd \link{} targets not in the
package itself and the base packages.
* checking for missing documentation entries ... OK
* checking for code/documentation mismatches ... OK
* checking Rd \usage sections ... OK
* checking Rd contents ... OK
* checking for unstated dependencies in examples ... OK
* checking contents of 'data' directory ... OK
* checking data for non-ASCII characters ... OK
* checking data for ASCII and uncompressed saves ... OK
* checking files in 'vignettes' ... OK
* checking examples ... OK
* checking for unstated dependencies in 'tests' ... OK
* checking tests ...
Running 'testthat.R'
OK
* checking for unstated dependencies in vignettes ... OK
* checking package vignettes ... OK
* checking running R code from vignettes ... SKIPPED
* checking re-building of vignette outputs ... SKIPPED
* checking PDF version of manual ... OK
* DONE
Status: 3 NOTEs
See
'E:/biocbuild/bbs-3.21-bioc/meat/tidySingleCellExperiment.Rcheck/00check.log'
for details.
tidySingleCellExperiment.Rcheck/00install.out
############################################################################## ############################################################################## ### ### Running command: ### ### E:\biocbuild\bbs-3.21-bioc\R\bin\R.exe CMD INSTALL tidySingleCellExperiment ### ############################################################################## ############################################################################## * installing to library 'E:/biocbuild/bbs-3.21-bioc/R/library' * installing *source* package 'tidySingleCellExperiment' ... ** this is package 'tidySingleCellExperiment' version '1.18.1' ** using staged installation ** R ** data ** inst ** byte-compile and prepare package for lazy loading ** help *** installing help indices ** building package indices ** installing vignettes ** testing if installed package can be loaded from temporary location ** testing if installed package can be loaded from final location ** testing if installed package keeps a record of temporary installation path * DONE (tidySingleCellExperiment)
tidySingleCellExperiment.Rcheck/tests/testthat.Rout
R version 4.5.1 (2025-06-13 ucrt) -- "Great Square Root"
Copyright (C) 2025 The R Foundation for Statistical Computing
Platform: x86_64-w64-mingw32/x64
R is free software and comes with ABSOLUTELY NO WARRANTY.
You are welcome to redistribute it under certain conditions.
Type 'license()' or 'licence()' for distribution details.
R is a collaborative project with many contributors.
Type 'contributors()' for more information and
'citation()' on how to cite R or R packages in publications.
Type 'demo()' for some demos, 'help()' for on-line help, or
'help.start()' for an HTML browser interface to help.
Type 'q()' to quit R.
> library(testthat)
> library(tidySingleCellExperiment)
Loading required package: SingleCellExperiment
Loading required package: SummarizedExperiment
Loading required package: MatrixGenerics
Loading required package: matrixStats
Attaching package: 'MatrixGenerics'
The following objects are masked from 'package:matrixStats':
colAlls, colAnyNAs, colAnys, colAvgsPerRowSet, colCollapse,
colCounts, colCummaxs, colCummins, colCumprods, colCumsums,
colDiffs, colIQRDiffs, colIQRs, colLogSumExps, colMadDiffs,
colMads, colMaxs, colMeans2, colMedians, colMins, colOrderStats,
colProds, colQuantiles, colRanges, colRanks, colSdDiffs, colSds,
colSums2, colTabulates, colVarDiffs, colVars, colWeightedMads,
colWeightedMeans, colWeightedMedians, colWeightedSds,
colWeightedVars, rowAlls, rowAnyNAs, rowAnys, rowAvgsPerColSet,
rowCollapse, rowCounts, rowCummaxs, rowCummins, rowCumprods,
rowCumsums, rowDiffs, rowIQRDiffs, rowIQRs, rowLogSumExps,
rowMadDiffs, rowMads, rowMaxs, rowMeans2, rowMedians, rowMins,
rowOrderStats, rowProds, rowQuantiles, rowRanges, rowRanks,
rowSdDiffs, rowSds, rowSums2, rowTabulates, rowVarDiffs, rowVars,
rowWeightedMads, rowWeightedMeans, rowWeightedMedians,
rowWeightedSds, rowWeightedVars
Loading required package: GenomicRanges
Loading required package: stats4
Loading required package: BiocGenerics
Loading required package: generics
Attaching package: 'generics'
The following objects are masked from 'package:base':
as.difftime, as.factor, as.ordered, intersect, is.element, setdiff,
setequal, union
Attaching package: 'BiocGenerics'
The following objects are masked from 'package:stats':
IQR, mad, sd, var, xtabs
The following objects are masked from 'package:base':
Filter, Find, Map, Position, Reduce, anyDuplicated, aperm, append,
as.data.frame, basename, cbind, colnames, dirname, do.call,
duplicated, eval, evalq, get, grep, grepl, is.unsorted, lapply,
mapply, match, mget, order, paste, pmax, pmax.int, pmin, pmin.int,
rank, rbind, rownames, sapply, saveRDS, table, tapply, unique,
unsplit, which.max, which.min
Loading required package: S4Vectors
Attaching package: 'S4Vectors'
The following object is masked from 'package:utils':
findMatches
The following objects are masked from 'package:base':
I, expand.grid, unname
Loading required package: IRanges
Attaching package: 'IRanges'
The following object is masked from 'package:grDevices':
windows
Loading required package: GenomeInfoDb
Loading required package: Biobase
Welcome to Bioconductor
Vignettes contain introductory material; view with
'browseVignettes()'. To cite Bioconductor, see
'citation("Biobase")', and for packages 'citation("pkgname")'.
Attaching package: 'Biobase'
The following object is masked from 'package:MatrixGenerics':
rowMedians
The following objects are masked from 'package:matrixStats':
anyMissing, rowMedians
Attaching package: 'tidySingleCellExperiment'
The following object is masked from 'package:generics':
tidy
>
> test_check("tidySingleCellExperiment")
[ FAIL 0 | WARN 1 | SKIP 0 | PASS 165 ]
[ FAIL 0 | WARN 1 | SKIP 0 | PASS 165 ]
>
> proc.time()
user system elapsed
32.18 1.23 33.35
tidySingleCellExperiment.Rcheck/tidySingleCellExperiment-Ex.timings
| name | user | system | elapsed | |
| aggregate_cells | 0.45 | 0.05 | 0.61 | |
| arrange | 0.32 | 0.03 | 0.34 | |
| as_tibble | 0.17 | 0.00 | 0.17 | |
| bind_rows | 0.84 | 0.04 | 0.89 | |
| count | 0.14 | 0.02 | 0.16 | |
| distinct | 0.17 | 0.01 | 0.18 | |
| extract | 0.32 | 0.05 | 0.36 | |
| filter | 0.31 | 0.03 | 0.50 | |
| formatting | 0.20 | 0.01 | 0.22 | |
| full_join | 0.22 | 0.00 | 0.22 | |
| ggplot | 0.44 | 0.04 | 0.47 | |
| glimpse | 0.01 | 0.03 | 0.05 | |
| group_by | 0.21 | 0.00 | 0.20 | |
| group_split | 0.44 | 0.00 | 0.45 | |
| inner_join | 0.64 | 0.01 | 0.66 | |
| join_features | 0.26 | 0.05 | 0.31 | |
| join_transcripts | 0 | 0 | 0 | |
| left_join | 1.80 | 0.05 | 1.85 | |
| mutate | 0.42 | 0.03 | 0.45 | |
| nest | 1.25 | 0.01 | 1.26 | |
| pipe | 0 | 0 | 0 | |
| pivot_longer | 0.27 | 0.02 | 0.29 | |
| plot_ly | 0.26 | 0.08 | 0.34 | |
| pull | 0.14 | 0.01 | 0.16 | |
| rename | 0.35 | 0.03 | 0.37 | |
| right_join | 0.39 | 0.05 | 0.44 | |
| rowwise | 0 | 0 | 0 | |
| sample_n | 0.37 | 0.03 | 0.40 | |
| select | 0.36 | 0.00 | 0.36 | |
| separate | 0.56 | 0.02 | 0.58 | |
| slice | 2.32 | 0.09 | 2.41 | |
| summarise | 0.19 | 0.00 | 0.19 | |
| tbl_format_header | 0 | 0 | 0 | |
| tidy | 0.22 | 0.02 | 0.24 | |
| unite | 0.38 | 0.03 | 0.41 | |
| unnest | 1.44 | 0.05 | 1.48 | |