Back to Multiple platform build/check report for BioC 3.21:   simplified   long
ABCDEFGHIJKLMNOPQRS[T]UVWXYZ

This page was generated on 2025-02-15 11:42 -0500 (Sat, 15 Feb 2025).

HostnameOSArch (*)R versionInstalled pkgs
nebbiolo1Linux (Ubuntu 24.04.1 LTS)x86_64R Under development (unstable) (2025-01-20 r87609) -- "Unsuffered Consequences" 4720
palomino7Windows Server 2022 Datacenterx64R Under development (unstable) (2025-01-21 r87610 ucrt) -- "Unsuffered Consequences" 4482
lconwaymacOS 12.7.1 Montereyx86_64R Under development (unstable) (2025-01-22 r87618) -- "Unsuffered Consequences" 4493
kjohnson3macOS 13.7.1 Venturaarm64R Under development (unstable) (2025-01-20 r87609) -- "Unsuffered Consequences" 4446
Click on any hostname to see more info about the system (e.g. compilers)      (*) as reported by 'uname -p', except on Windows and Mac OS X

Package 2161/2295HostnameOS / ArchINSTALLBUILDCHECKBUILD BIN
tLOH 1.15.0  (landing page)
Michelle Webb
Snapshot Date: 2025-02-14 13:40 -0500 (Fri, 14 Feb 2025)
git_url: https://git.bioconductor.org/packages/tLOH
git_branch: devel
git_last_commit: fba6f99
git_last_commit_date: 2024-10-29 10:59:07 -0500 (Tue, 29 Oct 2024)
nebbiolo1Linux (Ubuntu 24.04.1 LTS) / x86_64  OK    OK    OK  UNNEEDED, same version is already published
palomino7Windows Server 2022 Datacenter / x64  OK    OK    OK    OK  UNNEEDED, same version is already published
lconwaymacOS 12.7.1 Monterey / x86_64  OK    OK    OK    OK  UNNEEDED, same version is already published
kjohnson3macOS 13.7.1 Ventura / arm64  OK    OK    OK    OK  UNNEEDED, same version is already published


CHECK results for tLOH on palomino7

To the developers/maintainers of the tLOH package:
- Allow up to 24 hours (and sometimes 48 hours) for your latest push to git@git.bioconductor.org:packages/tLOH.git to reflect on this report. See Troubleshooting Build Report for more information.
- Use the following Renviron settings to reproduce errors and warnings.
- If 'R CMD check' started to fail recently on the Linux builder(s) over a missing dependency, add the missing dependency to 'Suggests:' in your DESCRIPTION file. See Renviron.bioc for more information.

raw results


Summary

Package: tLOH
Version: 1.15.0
Command: E:\biocbuild\bbs-3.21-bioc\R\bin\R.exe CMD check --no-multiarch --install=check:tLOH.install-out.txt --library=E:\biocbuild\bbs-3.21-bioc\R\library --no-vignettes --timings tLOH_1.15.0.tar.gz
StartedAt: 2025-02-15 06:23:53 -0500 (Sat, 15 Feb 2025)
EndedAt: 2025-02-15 06:37:08 -0500 (Sat, 15 Feb 2025)
EllapsedTime: 795.3 seconds
RetCode: 0
Status:   OK  
CheckDir: tLOH.Rcheck
Warnings: 0

Command output

##############################################################################
##############################################################################
###
### Running command:
###
###   E:\biocbuild\bbs-3.21-bioc\R\bin\R.exe CMD check --no-multiarch --install=check:tLOH.install-out.txt --library=E:\biocbuild\bbs-3.21-bioc\R\library --no-vignettes --timings tLOH_1.15.0.tar.gz
###
##############################################################################
##############################################################################


* using log directory 'E:/biocbuild/bbs-3.21-bioc/meat/tLOH.Rcheck'
* using R Under development (unstable) (2025-01-21 r87610 ucrt)
* using platform: x86_64-w64-mingw32
* R was compiled by
    gcc.exe (GCC) 13.3.0
    GNU Fortran (GCC) 13.3.0
* running under: Windows Server 2022 x64 (build 20348)
* using session charset: UTF-8
* using option '--no-vignettes'
* checking for file 'tLOH/DESCRIPTION' ... OK
* checking extension type ... Package
* this is package 'tLOH' version '1.15.0'
* package encoding: UTF-8
* checking package namespace information ... OK
* checking package dependencies ... OK
* checking if this is a source package ... OK
* checking if there is a namespace ... OK
* checking for hidden files and directories ... OK
* checking for portable file names ... OK
* checking whether package 'tLOH' can be installed ... OK
* checking installed package size ... OK
* checking package directory ... OK
* checking 'build' directory ... OK
* checking DESCRIPTION meta-information ... NOTE
License stub is invalid DCF.
* checking top-level files ... OK
* checking for left-over files ... OK
* checking index information ... OK
* checking package subdirectories ... NOTE
Problems with news in 'NEWS.md':
No news entries found.
* checking code files for non-ASCII characters ... OK
* checking R files for syntax errors ... OK
* checking whether the package can be loaded ... OK
* checking whether the package can be loaded with stated dependencies ... OK
* checking whether the package can be unloaded cleanly ... OK
* checking whether the namespace can be loaded with stated dependencies ... OK
* checking whether the namespace can be unloaded cleanly ... OK
* checking dependencies in R code ... OK
* checking S3 generic/method consistency ... OK
* checking replacement functions ... OK
* checking foreign function calls ... OK
* checking R code for possible problems ... OK
* checking Rd files ... OK
* checking Rd metadata ... OK
* checking Rd cross-references ... OK
* checking for missing documentation entries ... OK
* checking for code/documentation mismatches ... OK
* checking Rd \usage sections ... OK
* checking Rd contents ... OK
* checking for unstated dependencies in examples ... OK
* checking contents of 'data' directory ... OK
* checking data for non-ASCII characters ... OK
* checking data for ASCII and uncompressed saves ... OK
* checking files in 'vignettes' ... OK
* checking examples ... OK
Examples with CPU (user + system) or elapsed time > 5s
                      user system elapsed
hiddenMarkovAnalysis 99.54   6.28  107.01
regionAnalysis       65.89   1.55   67.44
runHMM_3             58.63   1.56   60.12
runHMM_2             58.25   1.75   59.97
runHMM_1             39.23   0.92   40.16
prepareHMMdataframes 37.02   0.81   37.86
tLOHCalcUpdate       35.05   0.87   35.93
splitByChromosome    33.92   0.85   34.77
aggregateCHRPlot      9.61   0.26    9.87
alleleFrequencyPlot   9.32   0.21    9.55
tLOHCalc              6.23   0.17    6.40
* checking for unstated dependencies in vignettes ... OK
* checking package vignettes ... OK
* checking running R code from vignettes ... SKIPPED
* checking re-building of vignette outputs ... SKIPPED
* checking PDF version of manual ... OK
* DONE

Status: 2 NOTEs
See
  'E:/biocbuild/bbs-3.21-bioc/meat/tLOH.Rcheck/00check.log'
for details.


Installation output

tLOH.Rcheck/00install.out

##############################################################################
##############################################################################
###
### Running command:
###
###   E:\biocbuild\bbs-3.21-bioc\R\bin\R.exe CMD INSTALL tLOH
###
##############################################################################
##############################################################################


* installing to library 'E:/biocbuild/bbs-3.21-bioc/R/library'
* installing *source* package 'tLOH' ...
** this is package 'tLOH' version '1.15.0'
** using staged installation
** R
** data
** inst
** byte-compile and prepare package for lazy loading
** help
*** installing help indices
** building package indices
** installing vignettes
** testing if installed package can be loaded from temporary location
** testing if installed package can be loaded from final location
** testing if installed package keeps a record of temporary installation path
* DONE (tLOH)

Tests output


Example timings

tLOH.Rcheck/tLOH-Ex.timings

nameusersystemelapsed
aggregateCHRPlot9.610.269.87
alleleFrequencyPlot9.320.219.55
documentErrorRegions000
hiddenMarkovAnalysis 99.54 6.28107.01
humanGBMsampleAC0.030.020.05
initialStartProbabilities000
marginalLikelihoodM1000
marginalLikelihoodM20.010.000.01
marginalM1Calc000
marginalM2CalcBHET000
marginalM2CalcBLOH000
modePeakCalc000
prepareHMMdataframes37.02 0.8137.86
regionAnalysis65.89 1.5567.44
regionFinalize000
removeOutlierFromCalc000
runHMM_139.23 0.9240.16
runHMM_258.25 1.7559.97
runHMM_358.63 1.5660.12
splitByChromosome33.92 0.8534.77
summarizeRegions1000
summarizeRegions2000
tLOHCalc6.230.176.40
tLOHCalcUpdate35.05 0.8735.93
tLOHDataImport000