| Back to Multiple platform build/check report for BioC 3.21: simplified long |
|
This page was generated on 2025-04-22 13:17 -0400 (Tue, 22 Apr 2025).
| Hostname | OS | Arch (*) | R version | Installed pkgs |
|---|---|---|---|---|
| nebbiolo1 | Linux (Ubuntu 24.04.1 LTS) | x86_64 | 4.5.0 RC (2025-04-04 r88126) -- "How About a Twenty-Six" | 4831 |
| palomino7 | Windows Server 2022 Datacenter | x64 | 4.5.0 RC (2025-04-04 r88126 ucrt) -- "How About a Twenty-Six" | 4573 |
| lconway | macOS 12.7.1 Monterey | x86_64 | 4.5.0 RC (2025-04-04 r88126) -- "How About a Twenty-Six" | 4599 |
| kjohnson3 | macOS 13.7.1 Ventura | arm64 | 4.5.0 RC (2025-04-04 r88126) -- "How About a Twenty-Six" | 4553 |
| kunpeng2 | Linux (openEuler 24.03 LTS) | aarch64 | R Under development (unstable) (2025-02-19 r87757) -- "Unsuffered Consequences" | 4570 |
| Click on any hostname to see more info about the system (e.g. compilers) (*) as reported by 'uname -p', except on Windows and Mac OS X | ||||
| Package 2154/2341 | Hostname | OS / Arch | INSTALL | BUILD | CHECK | BUILD BIN | ||||||||
| systemPipeShiny 1.18.0 (landing page) Le Zhang
| nebbiolo1 | Linux (Ubuntu 24.04.1 LTS) / x86_64 | OK | OK | OK | |||||||||
| palomino7 | Windows Server 2022 Datacenter / x64 | OK | OK | OK | OK | |||||||||
| lconway | macOS 12.7.1 Monterey / x86_64 | OK | OK | OK | OK | |||||||||
| kjohnson3 | macOS 13.7.1 Ventura / arm64 | OK | OK | OK | OK | |||||||||
| kunpeng2 | Linux (openEuler 24.03 LTS) / aarch64 | OK | OK | OK | ||||||||||
|
To the developers/maintainers of the systemPipeShiny package: - Allow up to 24 hours (and sometimes 48 hours) for your latest push to git@git.bioconductor.org:packages/systemPipeShiny.git to reflect on this report. See Troubleshooting Build Report for more information. - Use the following Renviron settings to reproduce errors and warnings. - If 'R CMD check' started to fail recently on the Linux builder(s) over a missing dependency, add the missing dependency to 'Suggests:' in your DESCRIPTION file. See Renviron.bioc for more information. |
| Package: systemPipeShiny |
| Version: 1.18.0 |
| Command: /Library/Frameworks/R.framework/Resources/bin/R CMD check --install=check:systemPipeShiny.install-out.txt --library=/Library/Frameworks/R.framework/Resources/library --no-vignettes --timings systemPipeShiny_1.18.0.tar.gz |
| StartedAt: 2025-04-22 00:00:17 -0400 (Tue, 22 Apr 2025) |
| EndedAt: 2025-04-22 00:02:16 -0400 (Tue, 22 Apr 2025) |
| EllapsedTime: 118.5 seconds |
| RetCode: 0 |
| Status: OK |
| CheckDir: systemPipeShiny.Rcheck |
| Warnings: 0 |
##############################################################################
##############################################################################
###
### Running command:
###
### /Library/Frameworks/R.framework/Resources/bin/R CMD check --install=check:systemPipeShiny.install-out.txt --library=/Library/Frameworks/R.framework/Resources/library --no-vignettes --timings systemPipeShiny_1.18.0.tar.gz
###
##############################################################################
##############################################################################
* using log directory ‘/Users/biocbuild/bbs-3.21-bioc/meat/systemPipeShiny.Rcheck’
* using R version 4.5.0 RC (2025-04-04 r88126)
* using platform: x86_64-apple-darwin20
* R was compiled by
Apple clang version 14.0.0 (clang-1400.0.29.202)
GNU Fortran (GCC) 14.2.0
* running under: macOS Monterey 12.7.6
* using session charset: UTF-8
* using option ‘--no-vignettes’
* checking for file ‘systemPipeShiny/DESCRIPTION’ ... OK
* this is package ‘systemPipeShiny’ version ‘1.18.0’
* package encoding: UTF-8
* checking package namespace information ... OK
* checking package dependencies ... INFO
Imports includes 28 non-default packages.
Importing from so many packages makes the package vulnerable to any of
them becoming unavailable. Move as many as possible to Suggests and
use conditionally.
* checking if this is a source package ... OK
* checking if there is a namespace ... OK
* checking for hidden files and directories ... OK
* checking for portable file names ... OK
* checking for sufficient/correct file permissions ... OK
* checking whether package ‘systemPipeShiny’ can be installed ... OK
* checking installed package size ... OK
* checking package directory ... OK
* checking ‘build’ directory ... OK
* checking DESCRIPTION meta-information ... OK
* checking top-level files ... OK
* checking for left-over files ... OK
* checking index information ... OK
* checking package subdirectories ... OK
* checking code files for non-ASCII characters ... OK
* checking R files for syntax errors ... OK
* checking whether the package can be loaded ... OK
* checking whether the package can be loaded with stated dependencies ... OK
* checking whether the package can be unloaded cleanly ... OK
* checking whether the namespace can be loaded with stated dependencies ... OK
* checking whether the namespace can be unloaded cleanly ... OK
* checking whether startup messages can be suppressed ... OK
* checking dependencies in R code ... OK
* checking S3 generic/method consistency ... OK
* checking replacement functions ... OK
* checking foreign function calls ... OK
* checking R code for possible problems ... NOTE
core_topServer : module : <anonymous>: warning in eval(code, env =
.GlobalEnv): partial argument match of 'env' to 'envir'
.validateGuide: no visible binding for global variable ‘guide_ui’
.validateGuide: no visible binding for global variable ‘guide_content’
.validateGuide : <anonymous>: no visible binding for global variable
‘guide_content’
admin_infoServer : timeDiffString: no visible binding for global
variable ‘time_start’
admin_infoServer : getCPU: no visible binding for global variable ‘V2’
appLoadingTime: no visible binding for global variable ‘time_start’
core_topServer : module : <anonymous>: no visible global function
definition for ‘dev.off’
core_topServer : module : <anonymous>: no visible binding for '<<-'
assignment to ‘.cur_plot’
core_topServer : module : <anonymous>: no visible global function
definition for ‘dev.cur’
core_topServer : module : <anonymous>: no visible binding for global
variable ‘.cur_plot’
core_topServer : module : <anonymous>: no visible global function
definition for ‘recordPlot’
core_topServer : module : <anonymous>: no visible global function
definition for ‘png’
core_topServer : module : <anonymous>: no visible binding for global
variable ‘.rs_dir’
core_topServer : module : <anonymous>: no visible binding for global
variable ‘.plot_num’
core_topServer : module : <anonymous>: no visible global function
definition for ‘replayPlot’
core_topServer : module : <anonymous>: no visible binding for '<<-'
assignment to ‘.plot_num’
findTabInfo: no visible binding for global variable ‘tab_info’
makeSort: no visible binding for global variable ‘session’
parseGuide: no visible binding for global variable ‘guide_ui’
parseGuide: no visible binding for global variable ‘guide_content’
removeSpsTab: no visible binding for global variable ‘type’
removeSpsTab: no visible binding for global variable ‘tab_file_name’
vs_rnaseq_degServer : module: no visible binding for global variable
‘trans_table’
vs_rnaseq_degServer : module: no visible binding for global variable
‘Sample’
vs_rnaseq_degServer : module: no visible binding for global variable
‘log2FoldChange’
vs_rnaseq_degServer : module: no visible binding for global variable
‘padj’
vs_rnaseq_degServer : module: no visible binding for global variable
‘cmp’
vs_rnaseq_degServer : module: no visible binding for global variable
‘direction’
vs_rnaseq_degServer : module: no visible binding for global variable
‘pass_filter’
vs_rnaseq_degServer : module : <anonymous>: no visible binding for
global variable ‘pass_filter’
vs_rnaseq_degServer : module : <anonymous>: no visible binding for
global variable ‘cmp’
vs_rnaseq_degServer : module: no visible binding for global variable
‘baseMean’
vs_rnaseq_degServer : module: no visible global function definition for
‘png’
vs_rnaseq_degServer : module: no visible global function definition for
‘dev.off’
vs_rnaseq_dendroServer : module: no visible global function definition
for ‘hcl.colors’
vs_rnaseq_dendroServer : module: no visible global function definition
for ‘title’
vs_rnaseq_glmServer : module: no visible binding for global variable
‘dim1’
vs_rnaseq_glmServer : module: no visible binding for global variable
‘dim2’
vs_rnaseq_heatmapServer : module: no visible global function definition
for ‘png’
vs_rnaseq_heatmapServer : module: no visible global function definition
for ‘dev.off’
vs_rnaseq_mdsServer : module: no visible binding for global variable
‘spsRNA_trans’
vs_rnaseq_mdsServer : module: no visible binding for global variable
‘X1’
vs_rnaseq_mdsServer : module: no visible binding for global variable
‘X2’
vs_rnaseq_normalServer : module: no visible binding for '<<-'
assignment to ‘spsRNA_trans’
vs_rnaseq_normalServer : module: no visible binding for global variable
‘spsRNA_trans’
vs_rnaseq_normalServer : module: no visible binding for '<<-'
assignment to ‘spsDEG’
vs_rnaseq_normalServer : module : <anonymous>: no visible binding for
global variable ‘spsRNA_trans’
vs_rnaseq_pcaServer : module: no visible binding for global variable
‘spsRNA_trans’
vs_rnaseq_pcaServer : module: no visible binding for global variable
‘PC1’
vs_rnaseq_pcaServer : module: no visible binding for global variable
‘PC2’
vs_rnaseq_tsneServer : module: no visible binding for global variable
‘dim1’
vs_rnaseq_tsneServer : module: no visible binding for global variable
‘dim2’
wf_runServer : module : <anonymous> : <anonymous>: no visible global
function definition for ‘png’
wf_runServer : module : <anonymous> : <anonymous>: no visible binding
for global variable ‘.rs_dir’
wf_runServer : module : <anonymous> : <anonymous>: no visible binding
for global variable ‘.plot_num’
wf_runServer : module : <anonymous> : <anonymous>: no visible global
function definition for ‘dev.cur’
wf_runServer : module : <anonymous> : <anonymous>: no visible global
function definition for ‘dev.new’
wf_runServer : module : <anonymous> : <anonymous>: no visible global
function definition for ‘dev.control’
wf_runServer : module : <anonymous> : <anonymous>: no visible binding
for '<<-' assignment to ‘.plot_num’
wf_runServer : module : <anonymous>: no visible binding for '<<-'
assignment to ‘.rs_dir’
wf_runServer : module : <anonymous>: no visible binding for '<<-'
assignment to ‘.plot_num’
wf_runServer : module : <anonymous>: no visible binding for '<<-'
assignment to ‘.cur_plot’
wf_wfServer : module: no visible binding for global variable
‘input_code’
Undefined global functions or variables:
.cur_plot .plot_num .rs_dir PC1 PC2 Sample V2 X1 X2 baseMean cmp
dev.control dev.cur dev.new dev.off dim1 dim2 direction guide_content
guide_ui hcl.colors input_code log2FoldChange padj pass_filter png
recordPlot replayPlot session spsRNA_trans tab_file_name tab_info
time_start title trans_table type
Consider adding
importFrom("grDevices", "dev.control", "dev.cur", "dev.new", "dev.off",
"hcl.colors", "png", "recordPlot", "replayPlot")
importFrom("graphics", "title")
to your NAMESPACE file.
* checking Rd files ... OK
* checking Rd metadata ... OK
* checking Rd cross-references ... NOTE
Found the following Rd file(s) with Rd \link{} targets missing package
anchors:
dynamicFile.Rd: shinyFiles
loadDF.Rd: shinyCatch
spsDb.Rd: dplyr
Please provide package anchors for all Rd \link{} targets not in the
package itself and the base packages.
* checking for missing documentation entries ... OK
* checking for code/documentation mismatches ... OK
* checking Rd \usage sections ... OK
* checking Rd contents ... OK
* checking for unstated dependencies in examples ... OK
* checking files in ‘vignettes’ ... OK
* checking examples ... OK
* checking for unstated dependencies in ‘tests’ ... OK
* checking tests ...
Running ‘testthat.R’
OK
* checking for unstated dependencies in vignettes ... OK
* checking package vignettes ... OK
* checking running R code from vignettes ... SKIPPED
* checking re-building of vignette outputs ... SKIPPED
* checking PDF version of manual ... OK
* DONE
Status: 2 NOTEs
See
‘/Users/biocbuild/bbs-3.21-bioc/meat/systemPipeShiny.Rcheck/00check.log’
for details.
systemPipeShiny.Rcheck/00install.out
############################################################################## ############################################################################## ### ### Running command: ### ### /Library/Frameworks/R.framework/Resources/bin/R CMD INSTALL systemPipeShiny ### ############################################################################## ############################################################################## * installing to library ‘/Library/Frameworks/R.framework/Versions/4.5-x86_64/Resources/library’ * installing *source* package ‘systemPipeShiny’ ... ** this is package ‘systemPipeShiny’ version ‘1.18.0’ ** using staged installation ** R ** inst ** byte-compile and prepare package for lazy loading ** help *** installing help indices ** building package indices ** installing vignettes ** testing if installed package can be loaded from temporary location ** testing if installed package can be loaded from final location ** testing if installed package keeps a record of temporary installation path * DONE (systemPipeShiny)
systemPipeShiny.Rcheck/tests/testthat.Rout
R version 4.5.0 RC (2025-04-04 r88126) -- "How About a Twenty-Six"
Copyright (C) 2025 The R Foundation for Statistical Computing
Platform: x86_64-apple-darwin20
R is free software and comes with ABSOLUTELY NO WARRANTY.
You are welcome to redistribute it under certain conditions.
Type 'license()' or 'licence()' for distribution details.
R is a collaborative project with many contributors.
Type 'contributors()' for more information and
'citation()' on how to cite R or R packages in publications.
Type 'demo()' for some demos, 'help()' for on-line help, or
'help.start()' for an HTML browser interface to help.
Type 'q()' to quit R.
> library(testthat)
> library(systemPipeShiny)
Loading required package: shiny
Loading required package: spsUtil
Loading required package: spsComps
Loading required package: drawer
> test_check('systemPipeShiny')
[SPS-INFO] 2025-04-22 00:01:48.205871 Created SPS encryption method container
[SPS-INFO] 2025-04-22 00:01:48.212415 Default SPS-db found and is working
[SPS-INFO] 2025-04-22 00:02:04.170944 App starts ...
create a new R6
[ FAIL 0 | WARN 0 | SKIP 2 | PASS 75 ]
══ Skipped tests (2) ═══════════════════════════════════════════════════════════
• On Bioconductor (1): 'test-04imports.R:57:5'
• Skip on checks (1): 'test-02interactive_funcs.R:31:1'
[ FAIL 0 | WARN 0 | SKIP 2 | PASS 75 ]
> identical(Sys.getenv("NOT_CRAN"), "true")
[1] FALSE
>
> proc.time()
user system elapsed
19.438 2.152 22.197
systemPipeShiny.Rcheck/systemPipeShiny-Ex.timings
| name | user | system | elapsed | |
| canvasBtn | 0.017 | 0.003 | 0.020 | |
| dynamicFile | 0.002 | 0.001 | 0.003 | |
| genGallery | 0.001 | 0.000 | 0.000 | |
| genHrefTable | 0.001 | 0.000 | 0.001 | |
| loadDF | 0.002 | 0.001 | 0.001 | |
| removeSpsTab | 0.655 | 0.125 | 0.849 | |
| sps | 0 | 0 | 0 | |
| spsAccount | 0.398 | 0.030 | 0.434 | |
| spsCoreTabReplace | 0.000 | 0.000 | 0.001 | |
| spsDb | 0.233 | 0.015 | 0.252 | |
| spsEncryption | 0.228 | 0.012 | 0.243 | |
| spsEzUI | 0.001 | 0.000 | 0.001 | |
| spsInit | 0 | 0 | 0 | |
| spsNewTab | 0.257 | 0.071 | 0.336 | |
| spsOptDefaults | 0.001 | 0.000 | 0.000 | |
| spsTabInfo | 0.295 | 0.061 | 0.362 | |