Back to Multiple platform build/check report for BioC 3.21:   simplified   long
ABCDEFGHIJKLMNOPQR[S]TUVWXYZ

This page was generated on 2025-02-15 11:42 -0500 (Sat, 15 Feb 2025).

HostnameOSArch (*)R versionInstalled pkgs
nebbiolo1Linux (Ubuntu 24.04.1 LTS)x86_64R Under development (unstable) (2025-01-20 r87609) -- "Unsuffered Consequences" 4720
palomino7Windows Server 2022 Datacenterx64R Under development (unstable) (2025-01-21 r87610 ucrt) -- "Unsuffered Consequences" 4482
lconwaymacOS 12.7.1 Montereyx86_64R Under development (unstable) (2025-01-22 r87618) -- "Unsuffered Consequences" 4493
kjohnson3macOS 13.7.1 Venturaarm64R Under development (unstable) (2025-01-20 r87609) -- "Unsuffered Consequences" 4446
Click on any hostname to see more info about the system (e.g. compilers)      (*) as reported by 'uname -p', except on Windows and Mac OS X

Package 2038/2295HostnameOS / ArchINSTALLBUILDCHECKBUILD BIN
spiky 1.13.0  (landing page)
Tim Triche
Snapshot Date: 2025-02-14 13:40 -0500 (Fri, 14 Feb 2025)
git_url: https://git.bioconductor.org/packages/spiky
git_branch: devel
git_last_commit: 1c71f59
git_last_commit_date: 2024-10-29 11:01:11 -0500 (Tue, 29 Oct 2024)
nebbiolo1Linux (Ubuntu 24.04.1 LTS) / x86_64  OK    OK    OK  UNNEEDED, same version is already published
palomino7Windows Server 2022 Datacenter / x64  OK    OK    OK    OK  UNNEEDED, same version is already published
lconwaymacOS 12.7.1 Monterey / x86_64  OK    OK    OK    OK  UNNEEDED, same version is already published
kjohnson3macOS 13.7.1 Ventura / arm64  OK    OK    OK    OK  UNNEEDED, same version is already published


CHECK results for spiky on palomino7

To the developers/maintainers of the spiky package:
- Allow up to 24 hours (and sometimes 48 hours) for your latest push to git@git.bioconductor.org:packages/spiky.git to reflect on this report. See Troubleshooting Build Report for more information.
- Use the following Renviron settings to reproduce errors and warnings.
- If 'R CMD check' started to fail recently on the Linux builder(s) over a missing dependency, add the missing dependency to 'Suggests:' in your DESCRIPTION file. See Renviron.bioc for more information.

raw results


Summary

Package: spiky
Version: 1.13.0
Command: E:\biocbuild\bbs-3.21-bioc\R\bin\R.exe CMD check --no-multiarch --install=check:spiky.install-out.txt --library=E:\biocbuild\bbs-3.21-bioc\R\library --no-vignettes --timings spiky_1.13.0.tar.gz
StartedAt: 2025-02-15 05:55:36 -0500 (Sat, 15 Feb 2025)
EndedAt: 2025-02-15 06:01:54 -0500 (Sat, 15 Feb 2025)
EllapsedTime: 377.6 seconds
RetCode: 0
Status:   OK  
CheckDir: spiky.Rcheck
Warnings: 0

Command output

##############################################################################
##############################################################################
###
### Running command:
###
###   E:\biocbuild\bbs-3.21-bioc\R\bin\R.exe CMD check --no-multiarch --install=check:spiky.install-out.txt --library=E:\biocbuild\bbs-3.21-bioc\R\library --no-vignettes --timings spiky_1.13.0.tar.gz
###
##############################################################################
##############################################################################


* using log directory 'E:/biocbuild/bbs-3.21-bioc/meat/spiky.Rcheck'
* using R Under development (unstable) (2025-01-21 r87610 ucrt)
* using platform: x86_64-w64-mingw32
* R was compiled by
    gcc.exe (GCC) 13.3.0
    GNU Fortran (GCC) 13.3.0
* running under: Windows Server 2022 x64 (build 20348)
* using session charset: UTF-8
* using option '--no-vignettes'
* checking for file 'spiky/DESCRIPTION' ... OK
* checking extension type ... Package
* this is package 'spiky' version '1.13.0'
* package encoding: UTF-8
* checking package namespace information ... OK
* checking package dependencies ... OK
* checking if this is a source package ... OK
* checking if there is a namespace ... OK
* checking for hidden files and directories ... OK
* checking for portable file names ... OK
* checking whether package 'spiky' can be installed ... OK
* checking installed package size ... INFO
  installed size is 16.3Mb
  sub-directories of 1Mb or more:
    data      3.1Mb
    extdata  12.9Mb
* checking package directory ... OK
* checking 'build' directory ... OK
* checking DESCRIPTION meta-information ... OK
* checking top-level files ... OK
* checking for left-over files ... OK
* checking index information ... OK
* checking package subdirectories ... OK
* checking code files for non-ASCII characters ... OK
* checking R files for syntax errors ... OK
* checking whether the package can be loaded ... OK
* checking whether the package can be loaded with stated dependencies ... OK
* checking whether the package can be unloaded cleanly ... OK
* checking whether the namespace can be loaded with stated dependencies ... OK
* checking whether the namespace can be unloaded cleanly ... OK
* checking dependencies in R code ... OK
* checking S3 generic/method consistency ... OK
* checking replacement functions ... OK
* checking foreign function calls ... OK
* checking R code for possible problems ... NOTE
.toGRs: warning in grep("(chrom|seqnames|start|end)1", colnames(x), val
  = TRUE): partial argument match of 'val' to 'value'
.toGRs: warning in grep("(chrom|seqnames|start|end)2", colnames(x), val
  = TRUE): partial argument match of 'val' to 'value'
* checking Rd files ... OK
* checking Rd metadata ... OK
* checking Rd cross-references ... OK
* checking for missing documentation entries ... OK
* checking for code/documentation mismatches ... OK
* checking Rd \usage sections ... OK
* checking Rd contents ... OK
* checking for unstated dependencies in examples ... OK
* checking contents of 'data' directory ... OK
* checking data for non-ASCII characters ... OK
* checking LazyData ... OK
* checking data for ASCII and uncompressed saves ... OK
* checking files in 'vignettes' ... OK
* checking examples ... OK
Examples with CPU (user + system) or elapsed time > 5s
                      user system elapsed
scan_genomic_bedpe   21.29   0.50   21.88
scan_genomic_contigs 17.30   2.39   21.15
bin_pmol              9.81   2.57   12.58
model_bam_standards   7.75   0.16    7.93
predict_pmol          6.00   1.25    7.25
scan_spike_bedpe      6.45   0.13    6.58
* checking for unstated dependencies in vignettes ... OK
* checking package vignettes ... OK
* checking running R code from vignettes ... SKIPPED
* checking re-building of vignette outputs ... SKIPPED
* checking PDF version of manual ... OK
* DONE

Status: 1 NOTE
See
  'E:/biocbuild/bbs-3.21-bioc/meat/spiky.Rcheck/00check.log'
for details.


Installation output

spiky.Rcheck/00install.out

##############################################################################
##############################################################################
###
### Running command:
###
###   E:\biocbuild\bbs-3.21-bioc\R\bin\R.exe CMD INSTALL spiky
###
##############################################################################
##############################################################################


* installing to library 'E:/biocbuild/bbs-3.21-bioc/R/library'
* installing *source* package 'spiky' ...
** this is package 'spiky' version '1.13.0'
** using staged installation
** R
** data
*** moving datasets to lazyload DB
** inst
** byte-compile and prepare package for lazy loading
** help
*** installing help indices
** building package indices
** installing vignettes
** testing if installed package can be loaded from temporary location
** testing if installed package can be loaded from final location
** testing if installed package keeps a record of temporary installation path
* DONE (spiky)

Tests output


Example timings

spiky.Rcheck/spiky-Ex.timings

nameusersystemelapsed
add_frag_info0.170.100.27
bam_to_bins0.160.080.26
bin_pmol 9.81 2.5712.58
covg_to_df0.100.000.09
find_spike_contigs0.040.000.05
generate_spike_fasta0.180.020.18
get_base_name0.010.000.02
get_binned_coverage0.220.000.22
get_merged_gr0.060.030.09
get_spike_depth0.380.020.39
get_spiked_coverage0.150.010.18
kmax0.070.000.06
kmers0.040.020.06
methylation_specificity0.100.030.13
model_bam_standards7.750.167.93
model_glm_pmol0.040.010.07
predict_pmol6.001.257.25
process_spikes0.270.020.28
read_bedpe000
scan_genomic_bedpe21.29 0.5021.88
scan_genomic_contigs17.30 2.3921.15
scan_methylation_specificity0.020.010.03
scan_spike_bedpe6.450.136.58
scan_spike_contigs0.510.010.53
scan_spike_counts0.080.000.08
scan_spiked_bam0.520.070.58
seqinfo_from_header0.120.030.15
spike_bland_altman_plot0.100.030.13
spike_counts0.040.010.06
tile_bins0.050.000.05