Back to Multiple platform build/check report for BioC 3.21: simplified long |
|
This page was generated on 2025-02-18 11:41 -0500 (Tue, 18 Feb 2025).
Hostname | OS | Arch (*) | R version | Installed pkgs |
---|---|---|---|---|
nebbiolo1 | Linux (Ubuntu 24.04.1 LTS) | x86_64 | R Under development (unstable) (2025-01-20 r87609) -- "Unsuffered Consequences" | 4720 |
palomino7 | Windows Server 2022 Datacenter | x64 | R Under development (unstable) (2025-01-21 r87610 ucrt) -- "Unsuffered Consequences" | 4482 |
lconway | macOS 12.7.1 Monterey | x86_64 | R Under development (unstable) (2025-01-22 r87618) -- "Unsuffered Consequences" | 4493 |
kjohnson3 | macOS 13.7.1 Ventura | arm64 | R Under development (unstable) (2025-01-20 r87609) -- "Unsuffered Consequences" | 4446 |
Click on any hostname to see more info about the system (e.g. compilers) (*) as reported by 'uname -p', except on Windows and Mac OS X |
Package 1993/2295 | Hostname | OS / Arch | INSTALL | BUILD | CHECK | BUILD BIN | ||||||||
smoppix 0.99.44 (landing page) Stijn Hawinkel
| nebbiolo1 | Linux (Ubuntu 24.04.1 LTS) / x86_64 | OK | OK | OK | ![]() | ||||||||
palomino7 | Windows Server 2022 Datacenter / x64 | OK | OK | TIMEOUT | OK | |||||||||
lconway | macOS 12.7.1 Monterey / x86_64 | OK | OK | OK | OK | ![]() | ||||||||
kjohnson3 | macOS 13.7.1 Ventura / arm64 | OK | OK | OK | OK | ![]() | ||||||||
To the developers/maintainers of the smoppix package: - Allow up to 24 hours (and sometimes 48 hours) for your latest push to git@git.bioconductor.org:packages/smoppix.git to reflect on this report. See Troubleshooting Build Report for more information. - Use the following Renviron settings to reproduce errors and warnings. - If 'R CMD check' started to fail recently on the Linux builder(s) over a missing dependency, add the missing dependency to 'Suggests:' in your DESCRIPTION file. See Renviron.bioc for more information. |
Package: smoppix |
Version: 0.99.44 |
Command: E:\biocbuild\bbs-3.21-bioc\R\bin\R.exe CMD check --no-multiarch --install=check:smoppix.install-out.txt --library=E:\biocbuild\bbs-3.21-bioc\R\library --no-vignettes --timings smoppix_0.99.44.tar.gz |
StartedAt: 2025-02-18 05:21:45 -0500 (Tue, 18 Feb 2025) |
EndedAt: 2025-02-18 06:01:46 -0500 (Tue, 18 Feb 2025) |
EllapsedTime: 2400.6 seconds |
RetCode: None |
Status: TIMEOUT |
CheckDir: smoppix.Rcheck |
Warnings: NA |
############################################################################## ############################################################################## ### ### Running command: ### ### E:\biocbuild\bbs-3.21-bioc\R\bin\R.exe CMD check --no-multiarch --install=check:smoppix.install-out.txt --library=E:\biocbuild\bbs-3.21-bioc\R\library --no-vignettes --timings smoppix_0.99.44.tar.gz ### ############################################################################## ############################################################################## * using log directory 'E:/biocbuild/bbs-3.21-bioc/meat/smoppix.Rcheck' * using R Under development (unstable) (2025-01-21 r87610 ucrt) * using platform: x86_64-w64-mingw32 * R was compiled by gcc.exe (GCC) 13.3.0 GNU Fortran (GCC) 13.3.0 * running under: Windows Server 2022 x64 (build 20348) * using session charset: UTF-8 * using option '--no-vignettes' * checking for file 'smoppix/DESCRIPTION' ... OK * checking extension type ... Package * this is package 'smoppix' version '0.99.44' * package encoding: UTF-8 * checking package namespace information ... OK * checking package dependencies ... OK * checking if this is a source package ... OK * checking if there is a namespace ... OK * checking for hidden files and directories ... OK * checking for portable file names ... OK * checking whether package 'smoppix' can be installed ... OK * used C++ compiler: 'G__~1.EXE (GCC) 13.3.0' * checking installed package size ... OK * checking package directory ... OK * checking 'build' directory ... OK * checking DESCRIPTION meta-information ... OK * checking top-level files ... OK * checking for left-over files ... OK * checking index information ... OK * checking package subdirectories ... OK * checking code files for non-ASCII characters ... OK * checking R files for syntax errors ... OK * checking whether the package can be loaded ... OK * checking whether the package can be loaded with stated dependencies ... OK * checking whether the package can be unloaded cleanly ... OK * checking whether the namespace can be loaded with stated dependencies ... OK * checking whether the namespace can be unloaded cleanly ... OK * checking dependencies in R code ... OK * checking S3 generic/method consistency ... OK * checking replacement functions ... OK * checking foreign function calls ... OK * checking R code for possible problems ... NOTE plotCells: no visible binding for global variable 'gene' plotCells: no visible binding for global variable 'cell' plotWf: no visible binding for global variable 'minP' plotWf: no visible binding for global variable 'maxP' plotWf: no visible binding for global variable 'Weight' Undefined global functions or variables: Weight cell gene maxP minP * checking Rd files ... OK * checking Rd metadata ... OK * checking Rd cross-references ... OK * checking for missing documentation entries ... OK * checking for code/documentation mismatches ... OK * checking Rd \usage sections ... OK * checking Rd contents ... OK * checking for unstated dependencies in examples ... OK * checking contents of 'data' directory ... OK * checking data for non-ASCII characters ... OK * checking data for ASCII and uncompressed saves ... OK * checking line endings in C/C++/Fortran sources/headers ... OK * checking compiled code ... NOTE Note: information on .o files for x64 is not available File 'E:/biocbuild/bbs-3.21-bioc/R/library/smoppix/libs/x64/smoppix.dll': Found '_exit', possibly from '_exit' (C) Found 'abort', possibly from 'abort' (C), 'runtime' (Fortran) Found 'exit', possibly from 'exit' (C), 'stop' (Fortran) Compiled code should not call entry points which might terminate R nor write to stdout/stderr instead of to the console, nor use Fortran I/O nor system RNGs nor [v]sprintf. The detected symbols are linked into the code but might come from libraries and not actually be called. See 'Writing portable packages' in the 'Writing R Extensions' manual. * checking files in 'vignettes' ... OK * checking examples ...
smoppix.Rcheck/00install.out
############################################################################## ############################################################################## ### ### Running command: ### ### E:\biocbuild\bbs-3.21-bioc\R\bin\R.exe CMD INSTALL smoppix ### ############################################################################## ############################################################################## * installing to library 'E:/biocbuild/bbs-3.21-bioc/R/library' * installing *source* package 'smoppix' ... ** this is package 'smoppix' version '0.99.44' ** using staged installation ** libs using C++ compiler: 'G__~1.EXE (GCC) 13.3.0' g++ -std=gnu++17 -I"E:/biocbuild/bbs-3.21-bioc/R/include" -DNDEBUG -I'E:/biocbuild/bbs-3.21-bioc/R/library/Rcpp/include' -I"C:/rtools44/x86_64-w64-mingw32.static.posix/include" -O2 -Wall -mfpmath=sse -msse2 -mstackrealign -DR_NO_REMAP -c RcppExports.cpp -o RcppExports.o g++ -std=gnu++17 -I"E:/biocbuild/bbs-3.21-bioc/R/include" -DNDEBUG -I'E:/biocbuild/bbs-3.21-bioc/R/library/Rcpp/include' -I"C:/rtools44/x86_64-w64-mingw32.static.posix/include" -O2 -Wall -mfpmath=sse -msse2 -mstackrealign -DR_NO_REMAP -c crossdistFast.cpp -o crossdistFast.o g++ -std=gnu++17 -I"E:/biocbuild/bbs-3.21-bioc/R/include" -DNDEBUG -I'E:/biocbuild/bbs-3.21-bioc/R/library/Rcpp/include' -I"C:/rtools44/x86_64-w64-mingw32.static.posix/include" -O2 -Wall -mfpmath=sse -msse2 -mstackrealign -DR_NO_REMAP -c findRanksDist.cpp -o findRanksDist.o g++ -std=gnu++17 -shared -s -static-libgcc -o smoppix.dll tmp.def RcppExports.o crossdistFast.o findRanksDist.o -LC:/rtools44/x86_64-w64-mingw32.static.posix/lib/x64 -LC:/rtools44/x86_64-w64-mingw32.static.posix/lib -LE:/biocbuild/bbs-3.21-bioc/R/bin/x64 -lR installing to E:/biocbuild/bbs-3.21-bioc/R/library/00LOCK-smoppix/00new/smoppix/libs/x64 ** R ** data ** inst ** byte-compile and prepare package for lazy loading ** help Loading required namespace: smoppix *** installing help indices ** building package indices ** installing vignettes ** testing if installed package can be loaded from temporary location ** testing if installed package can be loaded from final location ** testing if installed package keeps a record of temporary installation path * DONE (smoppix)
smoppix.Rcheck/smoppix-Ex.timings
name | user | system | elapsed | |
addCell | 3.25 | 0.06 | 36.28 | |
addNuclei | 2.53 | 0.05 | 52.43 | |
buildDataFrame | 8.55 | 0.44 | 236.92 | |
buildHyperFrame | 1.91 | 0.12 | 2.03 | |
estGradients | 5.64 | 0.10 | 71.74 | |
estPis | 8.19 | 0.37 | 245.86 | |
evalWeightFunction | 30.39 | 2.25 | 1338.43 | |
findOverlap | 0.71 | 0.03 | 14.16 | |