| Back to Multiple platform build/check report for BioC 3.21: simplified long |
|
This page was generated on 2025-10-16 11:41 -0400 (Thu, 16 Oct 2025).
| Hostname | OS | Arch (*) | R version | Installed pkgs |
|---|---|---|---|---|
| nebbiolo1 | Linux (Ubuntu 24.04.3 LTS) | x86_64 | 4.5.1 (2025-06-13) -- "Great Square Root" | 4833 |
| merida1 | macOS 12.7.6 Monterey | x86_64 | 4.5.1 RC (2025-06-05 r88288) -- "Great Square Root" | 4614 |
| kjohnson1 | macOS 13.7.5 Ventura | arm64 | 4.5.1 Patched (2025-06-14 r88325) -- "Great Square Root" | 4555 |
| kunpeng2 | Linux (openEuler 24.03 LTS) | aarch64 | R Under development (unstable) (2025-02-19 r87757) -- "Unsuffered Consequences" | 4586 |
| Click on any hostname to see more info about the system (e.g. compilers) (*) as reported by 'uname -p', except on Windows and Mac OS X | ||||
| Package 1993/2341 | Hostname | OS / Arch | INSTALL | BUILD | CHECK | BUILD BIN | ||||||||
| signatureSearch 1.22.0 (landing page) Brendan Gongol
| nebbiolo1 | Linux (Ubuntu 24.04.3 LTS) / x86_64 | OK | OK | OK | |||||||||
| merida1 | macOS 12.7.6 Monterey / x86_64 | OK | OK | OK | OK | |||||||||
| kjohnson1 | macOS 13.7.5 Ventura / arm64 | OK | OK | OK | OK | |||||||||
| kunpeng2 | Linux (openEuler 24.03 LTS) / aarch64 | OK | OK | TIMEOUT | ||||||||||
|
To the developers/maintainers of the signatureSearch package: - Allow up to 24 hours (and sometimes 48 hours) for your latest push to git@git.bioconductor.org:packages/signatureSearch.git to reflect on this report. See Troubleshooting Build Report for more information. - Use the following Renviron settings to reproduce errors and warnings. - If 'R CMD check' started to fail recently on the Linux builder(s) over a missing dependency, add the missing dependency to 'Suggests:' in your DESCRIPTION file. See Renviron.bioc for more information. - See Martin Grigorov's blog post for how to debug Linux ARM64 related issues on a x86_64 host. |
| Package: signatureSearch |
| Version: 1.22.0 |
| Command: /home/biocbuild/R/R/bin/R CMD check --install=check:signatureSearch.install-out.txt --library=/home/biocbuild/R/R/site-library --no-vignettes --timings signatureSearch_1.22.0.tar.gz |
| StartedAt: 2025-10-14 14:17:12 -0000 (Tue, 14 Oct 2025) |
| EndedAt: 2025-10-14 14:57:12 -0000 (Tue, 14 Oct 2025) |
| EllapsedTime: 2400.1 seconds |
| RetCode: None |
| Status: TIMEOUT |
| CheckDir: signatureSearch.Rcheck |
| Warnings: NA |
##############################################################################
##############################################################################
###
### Running command:
###
### /home/biocbuild/R/R/bin/R CMD check --install=check:signatureSearch.install-out.txt --library=/home/biocbuild/R/R/site-library --no-vignettes --timings signatureSearch_1.22.0.tar.gz
###
##############################################################################
##############################################################################
* using log directory ‘/home/biocbuild/bbs-3.21-bioc/meat/signatureSearch.Rcheck’
* using R Under development (unstable) (2025-02-19 r87757)
* using platform: aarch64-unknown-linux-gnu
* R was compiled by
aarch64-unknown-linux-gnu-gcc (GCC) 14.2.0
GNU Fortran (GCC) 14.2.0
* running under: openEuler 24.03 (LTS-SP1)
* using session charset: UTF-8
* using option ‘--no-vignettes’
* checking for file ‘signatureSearch/DESCRIPTION’ ... OK
* this is package ‘signatureSearch’ version ‘1.22.0’
* package encoding: UTF-8
* checking package namespace information ... OK
* checking package dependencies ... INFO
Imports includes 25 non-default packages.
Importing from so many packages makes the package vulnerable to any of
them becoming unavailable. Move as many as possible to Suggests and
use conditionally.
* checking if this is a source package ... OK
* checking if there is a namespace ... OK
* checking for hidden files and directories ... OK
* checking for portable file names ... OK
* checking for sufficient/correct file permissions ... OK
* checking whether package ‘signatureSearch’ can be installed ... OK
* used C compiler: ‘aarch64-unknown-linux-gnu-gcc (GCC) 14.2.0’
* used C++ compiler: ‘aarch64-unknown-linux-gnu-g++ (GCC) 14.2.0’
* checking C++ specification ... NOTE
Specified C++11: please drop specification unless essential
* checking installed package size ... INFO
installed size is 88.7Mb
sub-directories of 1Mb or more:
R 82.8Mb
data 2.0Mb
extdata 1.9Mb
libs 1.8Mb
* checking package directory ... OK
* checking ‘build’ directory ... OK
* checking DESCRIPTION meta-information ... OK
* checking top-level files ... OK
* checking for left-over files ... OK
* checking index information ... OK
* checking package subdirectories ... OK
* checking code files for non-ASCII characters ... OK
* checking R files for syntax errors ... OK
* checking whether the package can be loaded ... OK
* checking whether the package can be loaded with stated dependencies ... OK
* checking whether the package can be unloaded cleanly ... OK
* checking whether the namespace can be loaded with stated dependencies ... OK
* checking whether the namespace can be unloaded cleanly ... OK
* checking loading without being on the library search path ... OK
* checking dependencies in R code ... OK
* checking S3 generic/method consistency ... OK
* checking replacement functions ... OK
* checking foreign function calls ... OK
* checking R code for possible problems ... OK
* checking Rd files ... OK
* checking Rd metadata ... OK
* checking Rd cross-references ... OK
* checking for missing documentation entries ... OK
* checking for code/documentation mismatches ... OK
* checking Rd \usage sections ... OK
* checking Rd contents ... OK
* checking for unstated dependencies in examples ... OK
* checking contents of ‘data’ directory ... OK
* checking data for non-ASCII characters ... OK
* checking data for ASCII and uncompressed saves ... OK
* checking R/sysdata.rda ... OK
* checking line endings in C/C++/Fortran sources/headers ... OK
* checking compiled code ... NOTE
Note: information on .o files is not available
* checking files in ‘vignettes’ ... OK
* checking examples ...
signatureSearch.Rcheck/00install.out
##############################################################################
##############################################################################
###
### Running command:
###
### /home/biocbuild/R/R/bin/R CMD INSTALL signatureSearch
###
##############################################################################
##############################################################################
* installing to library ‘/home/biocbuild/R/R-devel_2025-02-19/site-library’
* installing *source* package ‘signatureSearch’ ...
** this is package ‘signatureSearch’ version ‘1.22.0’
** using staged installation
** libs
using C compiler: ‘aarch64-unknown-linux-gnu-gcc (GCC) 14.2.0’
using C++ compiler: ‘aarch64-unknown-linux-gnu-g++ (GCC) 14.2.0’
using C++11
/opt/ohpc/pub/compiler/gcc/14.2.0/bin/aarch64-unknown-linux-gnu-g++ -std=gnu++11 -I"/home/biocbuild/R/R/include" -DNDEBUG -I'/home/biocbuild/R/R-devel_2025-02-19/site-library/Rcpp/include' -I/usr/local/include -fPIC -g -O2 -Wall -Werror=format-security -c RcppExports.cpp -o RcppExports.o
/opt/ohpc/pub/compiler/gcc/14.2.0/bin/aarch64-unknown-linux-gnu-g++ -std=gnu++11 -I"/home/biocbuild/R/R/include" -DNDEBUG -I'/home/biocbuild/R/R-devel_2025-02-19/site-library/Rcpp/include' -I/usr/local/include -fPIC -g -O2 -Wall -Werror=format-security -c fastGSEA.cpp -o fastGSEA.o
fastGSEA.cpp: In function ‘Rcpp::NumericVector calcGseaStatBatchCpp(const Rcpp::NumericVector&, const Rcpp::List&, const Rcpp::IntegerVector&)’:
fastGSEA.cpp:444:27: warning: comparison of integer expressions of different signedness: ‘int’ and ‘std::vector<int>::size_type’ {aka ‘long unsigned int’} [-Wsign-compare]
444 | for (int j = 0; j < S.size(); ++j) {
| ~~^~~~~~~~~~
/opt/ohpc/pub/compiler/gcc/14.2.0/bin/aarch64-unknown-linux-gnu-gcc -std=gnu23 -I"/home/biocbuild/R/R/include" -DNDEBUG -I'/home/biocbuild/R/R-devel_2025-02-19/site-library/Rcpp/include' -I/usr/local/include -fPIC -g -O2 -Wall -Werror=format-security -c fgsea_init.c -o fgsea_init.o
/opt/ohpc/pub/compiler/gcc/14.2.0/bin/aarch64-unknown-linux-gnu-g++ -std=gnu++11 -shared -L/home/biocbuild/R/R/lib -L/usr/local/lib -o signatureSearch.so RcppExports.o fastGSEA.o fgsea_init.o -L/home/biocbuild/R/R/lib -lR
installing to /home/biocbuild/R/R-devel_2025-02-19/site-library/00LOCK-signatureSearch/00new/signatureSearch/libs
** R
** data
** inst
** byte-compile and prepare package for lazy loading
** help
*** installing help indices
** building package indices
** installing vignettes
** testing if installed package can be loaded from temporary location
** checking absolute paths in shared objects and dynamic libraries
** testing if installed package can be loaded from final location
** testing if installed package keeps a record of temporary installation path
* DONE (signatureSearch)
signatureSearch.Rcheck/signatureSearch-Ex.timings
| name | user | system | elapsed | |
| addGESSannot | 4.317 | 0.430 | 9.969 | |
| addMOA | 0.305 | 0.020 | 0.326 | |
| add_pcid | 0.259 | 0.004 | 0.263 | |
| append2H5 | 0.094 | 0.004 | 0.098 | |
| build_custom_db | 0.357 | 0.012 | 0.386 | |
| cellNtestPlot | 1.092 | 0.148 | 3.822 | |
| cell_info | 0.029 | 0.008 | 0.037 | |
| cell_info2 | 0.044 | 0.004 | 0.049 | |
| chembl_moa_list | 0.009 | 0.000 | 0.009 | |
| clue_moa_list | 0.009 | 0.000 | 0.009 | |
| comp_fea_res | 0.670 | 0.047 | 0.724 | |
| create_empty_h5 | 0.024 | 0.004 | 0.028 | |
| dim-methods | 0.009 | 0.000 | 0.008 | |
| drug_cell_ranks | 0.012 | 0.000 | 0.011 | |
| drugs-methods | 0.002 | 0.000 | 0.003 | |
| drugs10 | 0.000 | 0.002 | 0.001 | |
| dtnetplot | 2.401 | 0.198 | 6.102 | |
| enrichGO2 | 0 | 0 | 0 | |
| enrichKEGG2 | 0 | 0 | 0 | |
| enrichMOA | 0.053 | 0.004 | 0.115 | |
| enrichReactome | 0.000 | 0.000 | 0.005 | |
| fea | 0.002 | 0.000 | 0.002 | |
| feaResult | 0.003 | 0.000 | 0.008 | |
| gctx2h5 | 0.577 | 0.048 | 0.856 | |
| gess | 0.001 | 0.000 | 0.001 | |
| gessResult | 0.002 | 0.000 | 0.002 | |
| gess_res_vis | 0.745 | 0.067 | 0.915 | |
| getSig | 1.721 | 0.120 | 6.293 | |
| getTreats | 0.811 | 0.032 | 2.924 | |
| get_targets | 2.547 | 0.227 | 6.916 | |
| gmt2h5 | 0.118 | 0.014 | 0.133 | |
| gseGO2 | 0.002 | 0.000 | 0.002 | |
| gseKEGG2 | 0.012 | 0.000 | 0.012 | |
| gseReactome | 0.011 | 0.000 | 0.011 | |
| head-methods | 0.008 | 0.000 | 0.008 | |
| lincs_expr_inst_info | 0.059 | 0.004 | 0.063 | |
| lincs_pert_info | 0.348 | 0.016 | 0.364 | |
| lincs_pert_info2 | 1.382 | 0.044 | 1.808 | |
| lincs_sig_info | 0.059 | 0.007 | 0.066 | |
| list2df | 0.003 | 0.000 | 0.003 | |
| list_rev | 0.002 | 0.000 | 0.002 | |
| mabsGO | 0.002 | 0.000 | 0.003 | |
| mabsKEGG | 0.012 | 0.000 | 0.012 | |
| mabsReactome | 0.011 | 0.000 | 0.012 | |
| matrix2h5 | 0.069 | 0.008 | 0.078 | |
| meanExpr2h5 | 0.654 | 0.048 | 0.852 | |
| moa_conn | 0.039 | 0.000 | 0.039 | |
| parse_gctx | 0.089 | 0.016 | 0.106 | |
| qSig | 1.407 | 0.093 | 6.166 | |