Back to Multiple platform build/check report for BioC 3.21:   simplified   long
ABCDEFGHIJKLMNOPQR[S]TUVWXYZ

This page was generated on 2025-02-15 11:43 -0500 (Sat, 15 Feb 2025).

HostnameOSArch (*)R versionInstalled pkgs
nebbiolo1Linux (Ubuntu 24.04.1 LTS)x86_64R Under development (unstable) (2025-01-20 r87609) -- "Unsuffered Consequences" 4720
palomino7Windows Server 2022 Datacenterx64R Under development (unstable) (2025-01-21 r87610 ucrt) -- "Unsuffered Consequences" 4482
lconwaymacOS 12.7.1 Montereyx86_64R Under development (unstable) (2025-01-22 r87618) -- "Unsuffered Consequences" 4493
kjohnson3macOS 13.7.1 Venturaarm64R Under development (unstable) (2025-01-20 r87609) -- "Unsuffered Consequences" 4446
Click on any hostname to see more info about the system (e.g. compilers)      (*) as reported by 'uname -p', except on Windows and Mac OS X

Package 1938/2295HostnameOS / ArchINSTALLBUILDCHECKBUILD BIN
sesame 1.25.3  (landing page)
Wanding Zhou
Snapshot Date: 2025-02-14 13:40 -0500 (Fri, 14 Feb 2025)
git_url: https://git.bioconductor.org/packages/sesame
git_branch: devel
git_last_commit: 715da26
git_last_commit_date: 2025-01-04 11:02:51 -0500 (Sat, 04 Jan 2025)
nebbiolo1Linux (Ubuntu 24.04.1 LTS) / x86_64  OK    OK    OK  UNNEEDED, same version is already published
palomino7Windows Server 2022 Datacenter / x64  OK    OK    OK    OK  UNNEEDED, same version is already published
lconwaymacOS 12.7.1 Monterey / x86_64  OK    OK    OK    OK  UNNEEDED, same version is already published
kjohnson3macOS 13.7.1 Ventura / arm64  OK    OK    OK    OK  UNNEEDED, same version is already published


CHECK results for sesame on lconway

To the developers/maintainers of the sesame package:
- Allow up to 24 hours (and sometimes 48 hours) for your latest push to git@git.bioconductor.org:packages/sesame.git to reflect on this report. See Troubleshooting Build Report for more information.
- Use the following Renviron settings to reproduce errors and warnings.
- If 'R CMD check' started to fail recently on the Linux builder(s) over a missing dependency, add the missing dependency to 'Suggests:' in your DESCRIPTION file. See Renviron.bioc for more information.

raw results


Summary

Package: sesame
Version: 1.25.3
Command: /Library/Frameworks/R.framework/Resources/bin/R CMD check --install=check:sesame.install-out.txt --library=/Library/Frameworks/R.framework/Resources/library --no-vignettes --timings sesame_1.25.3.tar.gz
StartedAt: 2025-02-14 23:07:35 -0500 (Fri, 14 Feb 2025)
EndedAt: 2025-02-14 23:20:40 -0500 (Fri, 14 Feb 2025)
EllapsedTime: 784.8 seconds
RetCode: 0
Status:   OK  
CheckDir: sesame.Rcheck
Warnings: 0

Command output

##############################################################################
##############################################################################
###
### Running command:
###
###   /Library/Frameworks/R.framework/Resources/bin/R CMD check --install=check:sesame.install-out.txt --library=/Library/Frameworks/R.framework/Resources/library --no-vignettes --timings sesame_1.25.3.tar.gz
###
##############################################################################
##############################################################################


* using log directory ‘/Users/biocbuild/bbs-3.21-bioc/meat/sesame.Rcheck’
* using R Under development (unstable) (2025-01-22 r87618)
* using platform: x86_64-apple-darwin20
* R was compiled by
    Apple clang version 14.0.0 (clang-1400.0.29.202)
    GNU Fortran (GCC) 14.2.0
* running under: macOS Monterey 12.7.6
* using session charset: UTF-8
* using option ‘--no-vignettes’
* checking for file ‘sesame/DESCRIPTION’ ... OK
* checking extension type ... Package
* this is package ‘sesame’ version ‘1.25.3’
* package encoding: UTF-8
* checking package namespace information ... OK
* checking package dependencies ... OK
* checking if this is a source package ... OK
* checking if there is a namespace ... OK
* checking for hidden files and directories ... OK
* checking for portable file names ... OK
* checking for sufficient/correct file permissions ... OK
* checking whether package ‘sesame’ can be installed ... OK
* checking installed package size ... OK
* checking package directory ... OK
* checking ‘build’ directory ... OK
* checking DESCRIPTION meta-information ... OK
* checking top-level files ... OK
* checking for left-over files ... OK
* checking index information ... OK
* checking package subdirectories ... OK
* checking code files for non-ASCII characters ... OK
* checking R files for syntax errors ... OK
* checking whether the package can be loaded ... OK
* checking whether the package can be loaded with stated dependencies ... OK
* checking whether the package can be unloaded cleanly ... OK
* checking whether the namespace can be loaded with stated dependencies ... OK
* checking whether the namespace can be unloaded cleanly ... OK
* checking whether startup messages can be suppressed ... OK
* checking dependencies in R code ... OK
* checking S3 generic/method consistency ... OK
* checking replacement functions ... OK
* checking foreign function calls ... OK
* checking R code for possible problems ... OK
* checking Rd files ... OK
* checking Rd metadata ... OK
* checking Rd cross-references ... OK
* checking for missing documentation entries ... OK
* checking for code/documentation mismatches ... OK
* checking Rd \usage sections ... OK
* checking Rd contents ... OK
* checking for unstated dependencies in examples ... OK
* checking files in ‘vignettes’ ... OK
* checking examples ... OK
Examples with CPU (user + system) or elapsed time > 5s
                                user system elapsed
imputeBetasByGenomicNeighbors 36.083  1.369  37.702
inferSex                      24.502  1.198  25.906
sesameQC_calcStats            22.132  1.537  23.844
sesameQC_plotHeatSNPs         20.325  1.567  22.070
imputeBetas                   18.756  1.473  20.391
ELBAR                         15.749  2.801  18.730
diffRefSet                    14.609  0.598  15.326
inferSpecies                  14.370  0.815  16.913
matchDesign                   13.382  0.983  16.922
sesameQC_plotBar              13.654  0.408  14.171
sesameQC_plotBetaByDesign     12.127  1.544  13.765
compareMouseStrainReference   13.125  0.389  13.651
getRefSet                     12.385  0.449  12.914
compareReference              11.396  0.472  11.976
inferStrain                    9.605  0.902  13.183
inferTissue                    8.356  1.691  12.588
visualizeGene                  9.315  0.579   9.970
DML                            8.626  1.232   9.962
DMR                            9.016  0.290   9.377
sdf_read_table                 8.452  0.372   9.000
estimateLeukocyte              8.006  0.512   8.574
dyeBiasCorrMostBalanced        7.274  0.292   7.624
openSesame                     6.349  0.713   8.069
getMask                        6.408  0.627   7.093
createUCSCtrack                6.184  0.357   6.601
dyeBiasNL                      5.867  0.440   6.352
deidentify                     5.918  0.318   6.290
probeSuccessRate               5.700  0.421   6.277
prepSesame                     4.831  0.608   5.713
bisConversionControl           4.834  0.266   5.148
noMasked                       4.618  0.290   5.615
mapToMammal40                  3.381  0.462   5.054
* checking for unstated dependencies in ‘tests’ ... OK
* checking tests ...
  Running ‘testthat.R’
 OK
* checking for unstated dependencies in vignettes ... OK
* checking package vignettes ... OK
* checking running R code from vignettes ... SKIPPED
* checking re-building of vignette outputs ... SKIPPED
* checking PDF version of manual ... OK
* DONE

Status: OK


Installation output

sesame.Rcheck/00install.out

##############################################################################
##############################################################################
###
### Running command:
###
###   /Library/Frameworks/R.framework/Resources/bin/R CMD INSTALL sesame
###
##############################################################################
##############################################################################


* installing to library ‘/Library/Frameworks/R.framework/Versions/4.5-x86_64/Resources/library’
* installing *source* package ‘sesame’ ...
** this is package ‘sesame’ version ‘1.25.3’
** using staged installation
** R
** inst
** byte-compile and prepare package for lazy loading
** help
*** installing help indices
** building package indices
** installing vignettes
** testing if installed package can be loaded from temporary location
** testing if installed package can be loaded from final location
** testing if installed package keeps a record of temporary installation path
* DONE (sesame)

Tests output

sesame.Rcheck/tests/testthat.Rout


R Under development (unstable) (2025-01-22 r87618) -- "Unsuffered Consequences"
Copyright (C) 2025 The R Foundation for Statistical Computing
Platform: x86_64-apple-darwin20

R is free software and comes with ABSOLUTELY NO WARRANTY.
You are welcome to redistribute it under certain conditions.
Type 'license()' or 'licence()' for distribution details.

R is a collaborative project with many contributors.
Type 'contributors()' for more information and
'citation()' on how to cite R or R packages in publications.

Type 'demo()' for some demos, 'help()' for on-line help, or
'help.start()' for an HTML browser interface to help.
Type 'q()' to quit R.

> library(testthat)
> library(sesame)
Loading required package: sesameData
Loading required package: ExperimentHub
Loading required package: BiocGenerics
Loading required package: generics

Attaching package: 'generics'

The following objects are masked from 'package:base':

    as.difftime, as.factor, as.ordered, intersect, is.element, setdiff,
    setequal, union


Attaching package: 'BiocGenerics'

The following objects are masked from 'package:stats':

    IQR, mad, sd, var, xtabs

The following objects are masked from 'package:base':

    Filter, Find, Map, Position, Reduce, anyDuplicated, aperm, append,
    as.data.frame, basename, cbind, colnames, dirname, do.call,
    duplicated, eval, evalq, get, grep, grepl, is.unsorted, lapply,
    mapply, match, mget, order, paste, pmax, pmax.int, pmin, pmin.int,
    rank, rbind, rownames, sapply, saveRDS, table, tapply, unique,
    unsplit, which.max, which.min

Loading required package: AnnotationHub
Loading required package: BiocFileCache
Loading required package: dbplyr
Loading sesameData.

----------------------------------------------------------
| SEnsible Step-wise Analysis of DNA MEthylation (SeSAMe)
| --------------------------------------------------------
| Please cache auxiliary data by "sesameDataCache()".
| This needs to be done only once per SeSAMe installation.
----------------------------------------------------------

> 
> test_check("sesame")
[ FAIL 0 | WARN 0 | SKIP 0 | PASS 5 ]
> 
> proc.time()
   user  system elapsed 
 21.826   1.905  23.861 

Example timings

sesame.Rcheck/sesame-Ex.timings

nameusersystemelapsed
BetaValueToMValue000
DML8.6261.2329.962
DMLpredict1.2740.1111.397
DMR9.0160.2909.377
ELBAR15.749 2.80118.730
MValueToBetaValue0.0010.0010.000
SigDF0.3080.0730.383
addMask0.1010.0010.102
betasCollapseToPfx0.0110.0010.011
bisConversionControl4.8340.2665.148
calcEffectSize1.1920.1271.333
checkLevels3.8770.2314.139
cnSegmentation0.2860.0530.344
compareMouseStrainReference13.125 0.38913.651
compareMouseTissueReference000
compareReference11.396 0.47211.976
controls2.0940.2422.372
createUCSCtrack6.1840.3576.601
deidentify5.9180.3186.290
detectionPnegEcdf1.2870.0091.308
diffRefSet14.609 0.59815.326
dmContrasts1.9160.1962.124
dyeBiasCorr2.8790.2243.127
dyeBiasCorrMostBalanced7.2740.2927.624
dyeBiasL2.3790.1772.574
dyeBiasNL5.8670.4406.352
estimateLeukocyte8.0060.5128.574
formatVCF2.1640.2492.433
getAFTypeIbySumAlleles1.8390.2082.064
getAFs0.9640.0491.019
getBetas1.0570.1391.202
getMask6.4080.6277.093
getRefSet12.385 0.44912.914
imputeBetas18.756 1.47320.391
imputeBetasByGenomicNeighbors36.083 1.36937.702
imputeBetasMatrixByMean0.0020.0000.002
inferEthnicity0.0010.0000.000
inferInfiniumIChannel0.3970.5330.945
inferSex24.502 1.19825.906
inferSpecies14.370 0.81516.913
inferStrain 9.605 0.90213.183
inferTissue 8.356 1.69112.588
initFileSet1.4640.2902.246
listAvailableMasks1.5350.2082.165
mLiftOver0.0010.0020.003
mapFileSet0.0440.0040.059
mapToMammal403.3810.4625.054
matchDesign13.382 0.98316.922
meanIntensity3.2040.2844.107
medianTotalIntensity1.0560.0691.407
noMasked4.6180.2905.615
noob2.8670.5703.602
openSesame6.3490.7138.069
openSesameToFile2.0290.2622.380
pOOBAH1.8270.0151.930
palgen0.0540.0100.308
parseGEOsignalMU3.6120.1804.126
predictAge2.7900.1393.069
predictAgeHorvath353000
predictAgeSkinBlood000
predictMouseAgeInMonth000
prefixMask0.7900.0050.834
prefixMaskButC0.2220.0010.224
prefixMaskButCG0.0920.0010.094
prepSesame4.8310.6085.713
prepSesameList0.0020.0010.003
print.DMLSummary2.9440.8914.341
print.fileSet1.2910.2201.608
probeID_designType0.0000.0010.000
probeSuccessRate5.7000.4216.277
qualityMask2.1550.3742.727
reIdentify4.5340.1764.740
readFileSet0.0550.0070.064
readIDATpair0.1490.0030.154
recommendedMaskNames0.0000.0010.001
resetMask0.3820.0590.444
scrub2.3100.0542.397
scrubSoft3.2660.9524.240
sdfPlatform0.2730.0640.350
sdf_read_table8.4520.3729.000
sdf_write_table2.5720.1482.769
searchIDATprefixes0.0030.0020.004
sesame-package2.2790.4192.718
sesameAnno_attachManifest000
sesameAnno_buildAddressFile000
sesameAnno_buildManifestGRanges000
sesameAnno_download0.0000.0000.001
sesameAnno_readManifestTSV0.0000.0010.000
sesameQC_calcStats22.132 1.53723.844
sesameQC_getStats2.1900.0112.215
sesameQC_plotBar13.654 0.40814.171
sesameQC_plotBetaByDesign12.127 1.54413.765
sesameQC_plotHeatSNPs20.325 1.56722.070
sesameQC_plotIntensVsBetas2.0390.1752.230
sesameQC_plotRedGrnQQ1.3520.1911.570
sesameQC_rankStats3.8060.3674.224
sesameQCtoDF2.4760.0642.556
sesame_checkVersion0.0050.0010.006
sesamize0.0010.0010.001
setMask0.1130.0010.114
signalMU1.0530.1021.169
sliceFileSet0.0350.0040.040
summaryExtractTest3.1491.0114.238
totalIntensities2.5420.3362.927
updateSigDF3.3110.4163.772
visualizeGene9.3150.5799.970
visualizeProbes1.3510.0321.392
visualizeRegion0.3700.0070.380
visualizeSegments1.7590.4272.203