| Back to Multiple platform build/check report for BioC 3.21: simplified long |
|
This page was generated on 2025-10-16 11:38 -0400 (Thu, 16 Oct 2025).
| Hostname | OS | Arch (*) | R version | Installed pkgs |
|---|---|---|---|---|
| nebbiolo1 | Linux (Ubuntu 24.04.3 LTS) | x86_64 | 4.5.1 (2025-06-13) -- "Great Square Root" | 4833 |
| merida1 | macOS 12.7.6 Monterey | x86_64 | 4.5.1 RC (2025-06-05 r88288) -- "Great Square Root" | 4614 |
| kjohnson1 | macOS 13.7.5 Ventura | arm64 | 4.5.1 Patched (2025-06-14 r88325) -- "Great Square Root" | 4555 |
| kunpeng2 | Linux (openEuler 24.03 LTS) | aarch64 | R Under development (unstable) (2025-02-19 r87757) -- "Unsuffered Consequences" | 4586 |
| Click on any hostname to see more info about the system (e.g. compilers) (*) as reported by 'uname -p', except on Windows and Mac OS X | ||||
| Package 1931/2341 | Hostname | OS / Arch | INSTALL | BUILD | CHECK | BUILD BIN | ||||||||
| scQTLtools 1.0.3 (landing page) Xiaofeng Wu
| nebbiolo1 | Linux (Ubuntu 24.04.3 LTS) / x86_64 | OK | OK | ERROR | |||||||||
| merida1 | macOS 12.7.6 Monterey / x86_64 | OK | OK | ERROR | OK | |||||||||
| kjohnson1 | macOS 13.7.5 Ventura / arm64 | OK | OK | ERROR | OK | |||||||||
| kunpeng2 | Linux (openEuler 24.03 LTS) / aarch64 | OK | OK | ERROR | ||||||||||
|
To the developers/maintainers of the scQTLtools package: - Allow up to 24 hours (and sometimes 48 hours) for your latest push to git@git.bioconductor.org:packages/scQTLtools.git to reflect on this report. See Troubleshooting Build Report for more information. - Use the following Renviron settings to reproduce errors and warnings. - If 'R CMD check' started to fail recently on the Linux builder(s) over a missing dependency, add the missing dependency to 'Suggests:' in your DESCRIPTION file. See Renviron.bioc for more information. |
| Package: scQTLtools |
| Version: 1.0.3 |
| Command: /home/biocbuild/bbs-3.21-bioc/R/bin/R CMD check --install=check:scQTLtools.install-out.txt --library=/home/biocbuild/bbs-3.21-bioc/R/site-library --timings scQTLtools_1.0.3.tar.gz |
| StartedAt: 2025-10-16 03:23:42 -0400 (Thu, 16 Oct 2025) |
| EndedAt: 2025-10-16 03:32:42 -0400 (Thu, 16 Oct 2025) |
| EllapsedTime: 539.5 seconds |
| RetCode: 1 |
| Status: ERROR |
| CheckDir: scQTLtools.Rcheck |
| Warnings: NA |
##############################################################################
##############################################################################
###
### Running command:
###
### /home/biocbuild/bbs-3.21-bioc/R/bin/R CMD check --install=check:scQTLtools.install-out.txt --library=/home/biocbuild/bbs-3.21-bioc/R/site-library --timings scQTLtools_1.0.3.tar.gz
###
##############################################################################
##############################################################################
* using log directory ‘/home/biocbuild/bbs-3.21-bioc/meat/scQTLtools.Rcheck’
* using R version 4.5.1 (2025-06-13)
* using platform: x86_64-pc-linux-gnu
* R was compiled by
gcc (Ubuntu 13.3.0-6ubuntu2~24.04) 13.3.0
GNU Fortran (Ubuntu 13.3.0-6ubuntu2~24.04) 13.3.0
* running under: Ubuntu 24.04.3 LTS
* using session charset: UTF-8
* checking for file ‘scQTLtools/DESCRIPTION’ ... OK
* checking extension type ... Package
* this is package ‘scQTLtools’ version ‘1.0.3’
* package encoding: UTF-8
* checking package namespace information ... OK
* checking package dependencies ... OK
* checking if this is a source package ... OK
* checking if there is a namespace ... OK
* checking for hidden files and directories ... OK
* checking for portable file names ... OK
* checking for sufficient/correct file permissions ... OK
* checking whether package ‘scQTLtools’ can be installed ... OK
* checking installed package size ... OK
* checking package directory ... OK
* checking ‘build’ directory ... OK
* checking DESCRIPTION meta-information ... OK
* checking top-level files ... OK
* checking for left-over files ... OK
* checking index information ... OK
* checking package subdirectories ... OK
* checking code files for non-ASCII characters ... OK
* checking R files for syntax errors ... OK
* checking whether the package can be loaded ... OK
* checking whether the package can be loaded with stated dependencies ... OK
* checking whether the package can be unloaded cleanly ... OK
* checking whether the namespace can be loaded with stated dependencies ... OK
* checking whether the namespace can be unloaded cleanly ... OK
* checking loading without being on the library search path ... OK
* checking dependencies in R code ... OK
* checking S3 generic/method consistency ... OK
* checking replacement functions ... OK
* checking foreign function calls ... OK
* checking R code for possible problems ... OK
* checking Rd files ... OK
* checking Rd metadata ... OK
* checking Rd cross-references ... OK
* checking for missing documentation entries ... OK
* checking for code/documentation mismatches ... OK
* checking Rd \usage sections ... OK
* checking Rd contents ... OK
* checking for unstated dependencies in examples ... OK
* checking contents of ‘data’ directory ... OK
* checking data for non-ASCII characters ... OK
* checking data for ASCII and uncompressed saves ... OK
* checking files in ‘vignettes’ ... OK
* checking examples ... OK
Examples with CPU (user + system) or elapsed time > 5s
user system elapsed
zinbModel 47.560 0.409 47.971
DESeq_normalize 9.196 0.862 10.059
callQTL 4.832 0.129 9.864
createGeneLoc 2.107 0.047 6.076
* checking for unstated dependencies in ‘tests’ ... OK
* checking tests ...
Running ‘testthat.R’
ERROR
Running the tests in ‘tests/testthat.R’ failed.
Last 13 lines of output:
`expected`: TRUE
── Failure ('test-visualizeQTL.R:42:3'): visualizeQTL function behaves as expected ──
is.list(plot4) is not TRUE
`actual`: FALSE
`expected`: TRUE
── Failure ('test-visualizeQTL.R:62:3'): visualizeQTL function behaves as expected ──
is.list(plot5) is not TRUE
`actual`: FALSE
`expected`: TRUE
[ FAIL 5 | WARN 0 | SKIP 0 | PASS 49 ]
Error: Test failures
Execution halted
* checking for unstated dependencies in vignettes ... OK
* checking package vignettes ... OK
* checking re-building of vignette outputs ... OK
* checking PDF version of manual ... OK
* DONE
Status: 1 ERROR
See
‘/home/biocbuild/bbs-3.21-bioc/meat/scQTLtools.Rcheck/00check.log’
for details.
scQTLtools.Rcheck/00install.out
############################################################################## ############################################################################## ### ### Running command: ### ### /home/biocbuild/bbs-3.21-bioc/R/bin/R CMD INSTALL scQTLtools ### ############################################################################## ############################################################################## * installing to library ‘/home/biocbuild/bbs-3.21-bioc/R/site-library’ * installing *source* package ‘scQTLtools’ ... ** this is package ‘scQTLtools’ version ‘1.0.3’ ** using staged installation ** R ** data ** inst ** byte-compile and prepare package for lazy loading ** help *** installing help indices ** building package indices ** installing vignettes ** testing if installed package can be loaded from temporary location ** testing if installed package can be loaded from final location ** testing if installed package keeps a record of temporary installation path * DONE (scQTLtools)
scQTLtools.Rcheck/tests/testthat.Rout.fail
R version 4.5.1 (2025-06-13) -- "Great Square Root"
Copyright (C) 2025 The R Foundation for Statistical Computing
Platform: x86_64-pc-linux-gnu
R is free software and comes with ABSOLUTELY NO WARRANTY.
You are welcome to redistribute it under certain conditions.
Type 'license()' or 'licence()' for distribution details.
R is a collaborative project with many contributors.
Type 'contributors()' for more information and
'citation()' on how to cite R or R packages in publications.
Type 'demo()' for some demos, 'help()' for on-line help, or
'help.start()' for an HTML browser interface to help.
Type 'q()' to quit R.
> # This file is part of the standard setup for testthat.
> # It is recommended that you do not modify it.
> #
> # Where should you do additional test configuration?
> # Learn more about the roles of various files in:
> # * https://r-pkgs.org/testing-design.html#sec-tests-files-overview
> # * https://testthat.r-lib.org/articles/special-files.html
>
> library(testthat)
> library(scQTLtools)
>
> test_check("scQTLtools")
Normalization completed using method: logNormalize
Dimensions of normalized data:84 2705
Start the sc-eQTLs calling.
Matrix:
0% 10 20 30 40 50 60 70 80 90 100%
[----|----|----|----|----|----|----|----|----|----|
Start the sc-eQTLs calling.
Matrix:
0% 10 20 30 40 50 60 70 80 90 100%
[----|----|----|----|----|----|----|----|----|----|
Start the sc-eQTLs calling.
Matrix:
0% 10 20 30 40 50 60 70 80 90 100%
[----|----|----|----|----|----|----|----|----|----|
Start the sc-eQTLs calling.
Matrix:
0% 10 20 30 40 50 60 70 80 90 100%
[----|----|----|----|----|----|----|----|----|----|
Finished!
Start the sc-eQTLs calling.
Matrix:
0% 10 20 30 40 50 60 70 80 90 100%
[----|----|----|----|----|----|----|----|----|----|
Finished!
Start the sc-eQTLs calling.
Matrix:
0% 10 20 30 40 50 60 70 80 90 100%
[----|----|----|----|----|----|----|----|----|----|
Finished!
Start the sc-eQTLs calling.
Matrix:
0% 10 20 30 40 50 60 70 80 90 100%
[----|----|----|----|----|----|----|----|----|----|
Finished!
Start the sc-eQTLs calling.
Matrix:
0% 10 20 30 40 50 60 70 80 90 100%
[----|----|----|----|----|----|----|----|----|----|
Finished!
Start the sc-eQTLs calling.
Matrix:
0% 10 20 30 40 50 60 70 80 90 100%
[----|----|----|----|----|----|----|----|----|----|
Finished!
Start the sc-eQTLs calling.
Matrix:
0% 10 20 30 40 50 60 70 80 90 100%
[----|----|----|----|----|----|----|----|----|----|
Finished!
Loading required package: SummarizedExperiment
Loading required package: MatrixGenerics
Loading required package: matrixStats
Attaching package: 'MatrixGenerics'
The following objects are masked from 'package:matrixStats':
colAlls, colAnyNAs, colAnys, colAvgsPerRowSet, colCollapse,
colCounts, colCummaxs, colCummins, colCumprods, colCumsums,
colDiffs, colIQRDiffs, colIQRs, colLogSumExps, colMadDiffs,
colMads, colMaxs, colMeans2, colMedians, colMins, colOrderStats,
colProds, colQuantiles, colRanges, colRanks, colSdDiffs, colSds,
colSums2, colTabulates, colVarDiffs, colVars, colWeightedMads,
colWeightedMeans, colWeightedMedians, colWeightedSds,
colWeightedVars, rowAlls, rowAnyNAs, rowAnys, rowAvgsPerColSet,
rowCollapse, rowCounts, rowCummaxs, rowCummins, rowCumprods,
rowCumsums, rowDiffs, rowIQRDiffs, rowIQRs, rowLogSumExps,
rowMadDiffs, rowMads, rowMaxs, rowMeans2, rowMedians, rowMins,
rowOrderStats, rowProds, rowQuantiles, rowRanges, rowRanks,
rowSdDiffs, rowSds, rowSums2, rowTabulates, rowVarDiffs, rowVars,
rowWeightedMads, rowWeightedMeans, rowWeightedMedians,
rowWeightedSds, rowWeightedVars
Loading required package: GenomicRanges
Loading required package: stats4
Loading required package: BiocGenerics
Loading required package: generics
Attaching package: 'generics'
The following objects are masked from 'package:base':
as.difftime, as.factor, as.ordered, intersect, is.element, setdiff,
setequal, union
Attaching package: 'BiocGenerics'
The following objects are masked from 'package:stats':
IQR, mad, sd, var, xtabs
The following objects are masked from 'package:base':
Filter, Find, Map, Position, Reduce, anyDuplicated, aperm, append,
as.data.frame, basename, cbind, colnames, dirname, do.call,
duplicated, eval, evalq, get, grep, grepl, is.unsorted, lapply,
mapply, match, mget, order, paste, pmax, pmax.int, pmin, pmin.int,
rank, rbind, rownames, sapply, saveRDS, table, tapply, unique,
unsplit, which.max, which.min
Loading required package: S4Vectors
Attaching package: 'S4Vectors'
The following object is masked from 'package:utils':
findMatches
The following objects are masked from 'package:base':
I, expand.grid, unname
Loading required package: IRanges
Loading required package: GenomeInfoDb
Loading required package: Biobase
Welcome to Bioconductor
Vignettes contain introductory material; view with
'browseVignettes()'. To cite Bioconductor, see
'citation("Biobase")', and for packages 'citation("pkgname")'.
Attaching package: 'Biobase'
The following object is masked from 'package:MatrixGenerics':
rowMedians
The following objects are masked from 'package:matrixStats':
anyMissing, rowMedians
No Normalized counts found named 'normcounts',
you can achieve data normalization with `normalizeGene()`,
or check if it is has been renamed.
Normalization completed using method: logNormalize
Dimensions of normalized data:84 2705
Attaching package: 'limma'
The following object is masked from 'package:DESeq2':
plotMA
The following object is masked from 'package:BiocGenerics':
plotMA
Normalization completed using method: logNormalize
Dimensions of normalized data:84 2705
Normalization completed using method: CPM
Dimensions of normalized data:84 2705
Normalization completed using method: TPM
Dimensions of normalized data:84 2705
converting counts to integer mode
estimating size factors
estimating dispersions
gene-wise dispersion estimates
mean-dispersion relationship
final dispersion estimates
fitting model and testing
Normalization completed using method: DESeq
Dimensions of normalized data:84 2705
Normalization completed using method: limma
Dimensions of normalized data:84 2705
Normalization completed using method: logNormalize
Dimensions of normalized data:84 2705
Normalization completed using method: logNormalize
Dimensions of normalized data:84 2705
Start the sc-eQTLs calling.
Matrix:
0% 10 20 30 40 50 60 70 80 90 100%
[----|----|----|----|----|----|----|----|----|----|
Finished!
Normalization completed using method: logNormalize
Dimensions of normalized data:74 500
Start the sc-eQTLs calling.
CMP:
0% 10 20 30 40 50 60 70 80 90 100%
[----|----|----|----|----|----|----|----|----|----|
GMP:
0% 10 20 30 40 50 60 70 80 90 100%
[----|----|----|----|----|----|----|----|----|----|
Finished!
[ FAIL 5 | WARN 0 | SKIP 0 | PASS 49 ]
══ Failed tests ════════════════════════════════════════════════════════════════
── Failure ('test-visualizeQTL.R:30:3'): visualizeQTL function behaves as expected ──
is.list(plot1) is not TRUE
`actual`: FALSE
`expected`: TRUE
── Failure ('test-visualizeQTL.R:34:3'): visualizeQTL function behaves as expected ──
is.list(plot2) is not TRUE
`actual`: FALSE
`expected`: TRUE
── Failure ('test-visualizeQTL.R:38:3'): visualizeQTL function behaves as expected ──
is.list(plot3) is not TRUE
`actual`: FALSE
`expected`: TRUE
── Failure ('test-visualizeQTL.R:42:3'): visualizeQTL function behaves as expected ──
is.list(plot4) is not TRUE
`actual`: FALSE
`expected`: TRUE
── Failure ('test-visualizeQTL.R:62:3'): visualizeQTL function behaves as expected ──
is.list(plot5) is not TRUE
`actual`: FALSE
`expected`: TRUE
[ FAIL 5 | WARN 0 | SKIP 0 | PASS 49 ]
Error: Test failures
Execution halted
scQTLtools.Rcheck/scQTLtools-Ex.timings
| name | user | system | elapsed | |
| CPM_normalize | 0.922 | 0.696 | 1.619 | |
| DESeq_normalize | 9.196 | 0.862 | 10.059 | |
| TPM_normalize | 0.868 | 0.702 | 1.569 | |
| adjust_pvalues | 0.001 | 0.002 | 0.002 | |
| buildZINB | 0.186 | 0.024 | 0.210 | |
| callQTL | 4.832 | 0.129 | 9.864 | |
| checkSNPList | 0.172 | 0.000 | 0.173 | |
| createGeneLoc | 2.107 | 0.047 | 6.076 | |
| createQTLObject | 0.319 | 0.007 | 0.325 | |
| createSNPsLoc | 1.786 | 0.044 | 3.161 | |
| draw_QTLplot | 0.696 | 0.004 | 0.700 | |
| draw_boxplot | 0.296 | 0.002 | 0.297 | |
| draw_histplot | 0.394 | 0.000 | 0.393 | |
| draw_violinplot | 0.286 | 0.001 | 0.287 | |
| filterGeneSNP | 1.750 | 0.081 | 1.831 | |
| filter_by_abs_b | 0.002 | 0.000 | 0.002 | |
| get_cell_groups | 0.318 | 0.005 | 0.322 | |
| get_counts | 0.034 | 0.000 | 0.034 | |
| get_filter_data | 0.048 | 0.236 | 0.283 | |
| get_model_info | 0.016 | 0.002 | 0.018 | |
| get_raw_data | 1.171 | 1.319 | 2.490 | |
| get_result_info | 0.016 | 0.002 | 0.018 | |
| initialize_progress_bar | 0.011 | 0.000 | 2.014 | |
| limma_normalize | 0.513 | 0.672 | 1.186 | |
| linearModel | 2.255 | 0.136 | 2.392 | |
| load_biclassify_info | 0.015 | 0.003 | 0.018 | |
| load_group_info | 0.018 | 0.007 | 0.025 | |
| load_species_info | 0.014 | 0.003 | 0.017 | |
| log_normalize | 0.928 | 0.672 | 1.600 | |
| normalizeGene | 0.018 | 0.003 | 0.020 | |
| plots_theme_opts | 0.153 | 0.002 | 0.155 | |
| poissonModel | 3.593 | 0.045 | 3.640 | |
| process_matrix | 0.000 | 0.001 | 0.000 | |
| remove_outliers | 0.002 | 0.000 | 0.001 | |
| set_filter_data | 0.068 | 0.003 | 0.071 | |
| set_model_info | 0.035 | 0.000 | 0.035 | |
| set_raw_data | 0.032 | 0.004 | 0.035 | |
| set_result_info | 0.030 | 0.005 | 0.035 | |
| visualizeQTL | 3.222 | 0.008 | 3.230 | |
| zinbModel | 47.560 | 0.409 | 47.971 | |