| Back to Multiple platform build/check report for BioC 3.21: simplified long |
|
This page was generated on 2025-10-16 11:41 -0400 (Thu, 16 Oct 2025).
| Hostname | OS | Arch (*) | R version | Installed pkgs |
|---|---|---|---|---|
| nebbiolo1 | Linux (Ubuntu 24.04.3 LTS) | x86_64 | 4.5.1 (2025-06-13) -- "Great Square Root" | 4833 |
| merida1 | macOS 12.7.6 Monterey | x86_64 | 4.5.1 RC (2025-06-05 r88288) -- "Great Square Root" | 4614 |
| kjohnson1 | macOS 13.7.5 Ventura | arm64 | 4.5.1 Patched (2025-06-14 r88325) -- "Great Square Root" | 4555 |
| kunpeng2 | Linux (openEuler 24.03 LTS) | aarch64 | R Under development (unstable) (2025-02-19 r87757) -- "Unsuffered Consequences" | 4586 |
| Click on any hostname to see more info about the system (e.g. compilers) (*) as reported by 'uname -p', except on Windows and Mac OS X | ||||
| Package 1738/2341 | Hostname | OS / Arch | INSTALL | BUILD | CHECK | BUILD BIN | ||||||||
| recoup 1.36.0 (landing page) Panagiotis Moulos
| nebbiolo1 | Linux (Ubuntu 24.04.3 LTS) / x86_64 | OK | OK | OK | |||||||||
| merida1 | macOS 12.7.6 Monterey / x86_64 | OK | OK | OK | OK | |||||||||
| kjohnson1 | macOS 13.7.5 Ventura / arm64 | OK | OK | OK | OK | |||||||||
| kunpeng2 | Linux (openEuler 24.03 LTS) / aarch64 | OK | OK | OK | ||||||||||
|
To the developers/maintainers of the recoup package: - Allow up to 24 hours (and sometimes 48 hours) for your latest push to git@git.bioconductor.org:packages/recoup.git to reflect on this report. See Troubleshooting Build Report for more information. - Use the following Renviron settings to reproduce errors and warnings. - If 'R CMD check' started to fail recently on the Linux builder(s) over a missing dependency, add the missing dependency to 'Suggests:' in your DESCRIPTION file. See Renviron.bioc for more information. - See Martin Grigorov's blog post for how to debug Linux ARM64 related issues on a x86_64 host. |
| Package: recoup |
| Version: 1.36.0 |
| Command: /home/biocbuild/R/R/bin/R CMD check --install=check:recoup.install-out.txt --library=/home/biocbuild/R/R/site-library --no-vignettes --timings recoup_1.36.0.tar.gz |
| StartedAt: 2025-10-14 13:07:48 -0000 (Tue, 14 Oct 2025) |
| EndedAt: 2025-10-14 13:19:31 -0000 (Tue, 14 Oct 2025) |
| EllapsedTime: 702.9 seconds |
| RetCode: 0 |
| Status: OK |
| CheckDir: recoup.Rcheck |
| Warnings: 0 |
##############################################################################
##############################################################################
###
### Running command:
###
### /home/biocbuild/R/R/bin/R CMD check --install=check:recoup.install-out.txt --library=/home/biocbuild/R/R/site-library --no-vignettes --timings recoup_1.36.0.tar.gz
###
##############################################################################
##############################################################################
* using log directory ‘/home/biocbuild/bbs-3.21-bioc/meat/recoup.Rcheck’
* using R Under development (unstable) (2025-02-19 r87757)
* using platform: aarch64-unknown-linux-gnu
* R was compiled by
aarch64-unknown-linux-gnu-gcc (GCC) 14.2.0
GNU Fortran (GCC) 14.2.0
* running under: openEuler 24.03 (LTS-SP1)
* using session charset: UTF-8
* using option ‘--no-vignettes’
* checking for file ‘recoup/DESCRIPTION’ ... OK
* checking extension type ... Package
* this is package ‘recoup’ version ‘1.36.0’
* package encoding: UTF-8
* checking package namespace information ... OK
* checking package dependencies ... OK
* checking if this is a source package ... OK
* checking if there is a namespace ... OK
* checking for hidden files and directories ... OK
* checking for portable file names ... OK
* checking for sufficient/correct file permissions ... OK
* checking whether package ‘recoup’ can be installed ... OK
* checking installed package size ... OK
* checking package directory ... OK
* checking ‘build’ directory ... OK
* checking DESCRIPTION meta-information ... OK
* checking top-level files ... OK
* checking for left-over files ... OK
* checking index information ... OK
* checking package subdirectories ... OK
* checking code files for non-ASCII characters ... OK
* checking R files for syntax errors ... OK
* checking whether the package can be loaded ... OK
* checking whether the package can be loaded with stated dependencies ... OK
* checking whether the package can be unloaded cleanly ... OK
* checking whether the namespace can be loaded with stated dependencies ... OK
* checking whether the namespace can be unloaded cleanly ... OK
* checking loading without being on the library search path ... OK
* checking dependencies in R code ... NOTE
Unexported objects imported by ':::' calls:
‘biomaRt:::.generateFilterXML’ ‘biomaRt:::.setResultColNames’
‘biomaRt:::martCheck’ ‘biomaRt:::martDataset’ ‘biomaRt:::martHost’
‘biomaRt:::martVSchema’ ‘txdbmaker:::GFF_FEATURE_TYPES’
See the note in ?`:::` about the use of this operator.
There are ::: calls to the package's namespace in its code. A package
almost never needs to use ::: for its own objects:
‘makeHorizontalAnnotation’
* checking S3 generic/method consistency ... OK
* checking replacement functions ... OK
* checking foreign function calls ... OK
* checking R code for possible problems ... NOTE
readBamIntervals: no visible binding for global variable ‘bam.file’
recoupCorrelation: no visible binding for global variable ‘Index’
recoupCorrelation: no visible binding for global variable ‘Coverage’
recoupCorrelation: no visible binding for global variable ‘Condition’
recoupCorrelation: no visible binding for global variable ‘Design’
recoupHeatmap : <anonymous>: no visible global function definition for
‘grid.text’
recoupProfile: no visible binding for global variable ‘Signal’
recoupProfile: no visible binding for global variable ‘Condition’
recoupProfile: no visible binding for global variable ‘Design’
Undefined global functions or variables:
Condition Coverage Design Index Signal bam.file grid.text
* checking Rd files ... NOTE
checkRd: (-1) recoup.Rd:210-211: Lost braces
210 | \code{region}{Minimum flank is 0bp and maximum is
| ^
* checking Rd metadata ... OK
* checking Rd cross-references ... NOTE
Found the following Rd file(s) with Rd \link{} targets missing package
anchors:
coverageRef.Rd: makeGRangesFromDataFrame
recoup.Rd: GRanges, findOverlaps, ggplot, Heatmap,
makeGRangesFromDataFrame
recoupPlot.Rd: draw
rpMatrix.Rd: makeGRangesFromDataFrame
Please provide package anchors for all Rd \link{} targets not in the
package itself and the base packages.
* checking for missing documentation entries ... OK
* checking for code/documentation mismatches ... OK
* checking Rd \usage sections ... OK
* checking Rd contents ... OK
* checking for unstated dependencies in examples ... OK
* checking contents of ‘data’ directory ... OK
* checking data for non-ASCII characters ... OK
* checking LazyData ... OK
* checking data for ASCII and uncompressed saves ... OK
* checking files in ‘vignettes’ ... OK
* checking examples ... OK
Examples with CPU (user + system) or elapsed time > 5s
user system elapsed
mergeRuns 28.875 8.767 28.980
profileMatrix 14.052 5.247 10.705
recoup 11.935 4.694 12.041
recoupPlot 11.565 4.345 12.203
sliceObj 10.735 4.279 11.163
simpleGetSet 10.772 4.109 10.809
kmeansDesign 10.775 3.367 10.146
recoupCorrelation 8.048 2.240 9.633
recoupProfile 8.095 2.129 9.476
recoupHeatmap 7.876 2.157 9.513
coverageRef 6.336 0.246 6.598
getAnnotation 1.921 0.049 126.192
* checking for unstated dependencies in ‘tests’ ... OK
* checking tests ...
Running ‘runTests.R’
OK
* checking for unstated dependencies in vignettes ... OK
* checking package vignettes ... OK
* checking running R code from vignettes ... SKIPPED
* checking re-building of vignette outputs ... SKIPPED
* checking PDF version of manual ... OK
* DONE
Status: 4 NOTEs
See
‘/home/biocbuild/bbs-3.21-bioc/meat/recoup.Rcheck/00check.log’
for details.
recoup.Rcheck/00install.out
############################################################################## ############################################################################## ### ### Running command: ### ### /home/biocbuild/R/R/bin/R CMD INSTALL recoup ### ############################################################################## ############################################################################## * installing to library ‘/home/biocbuild/R/R-devel_2025-02-19/site-library’ * installing *source* package ‘recoup’ ... ** this is package ‘recoup’ version ‘1.36.0’ ** using staged installation ** R ** data *** moving datasets to lazyload DB ** inst ** byte-compile and prepare package for lazy loading ** help *** installing help indices ** building package indices ** installing vignettes ** testing if installed package can be loaded from temporary location ** testing if installed package can be loaded from final location ** testing if installed package keeps a record of temporary installation path * DONE (recoup)
recoup.Rcheck/tests/runTests.Rout
R Under development (unstable) (2025-02-19 r87757) -- "Unsuffered Consequences"
Copyright (C) 2025 The R Foundation for Statistical Computing
Platform: aarch64-unknown-linux-gnu
R is free software and comes with ABSOLUTELY NO WARRANTY.
You are welcome to redistribute it under certain conditions.
Type 'license()' or 'licence()' for distribution details.
R is a collaborative project with many contributors.
Type 'contributors()' for more information and
'citation()' on how to cite R or R packages in publications.
Type 'demo()' for some demos, 'help()' for on-line help, or
'help.start()' for an HTML browser interface to help.
Type 'q()' to quit R.
> BiocGenerics:::testPackage("recoup")
Attaching package: 'generics'
The following objects are masked from 'package:base':
as.difftime, as.factor, as.ordered, intersect, is.element, setdiff,
setequal, union
Attaching package: 'BiocGenerics'
The following objects are masked from 'package:stats':
IQR, mad, sd, var, xtabs
The following objects are masked from 'package:base':
Filter, Find, Map, Position, Reduce, anyDuplicated, aperm, append,
as.data.frame, basename, cbind, colnames, dirname, do.call,
duplicated, eval, evalq, get, grep, grepl, is.unsorted, lapply,
mapply, match, mget, order, paste, pmax, pmax.int, pmin, pmin.int,
rank, rbind, rownames, sapply, saveRDS, table, tapply, unique,
unsplit, which.max, which.min
Attaching package: 'S4Vectors'
The following object is masked from 'package:utils':
findMatches
The following objects are masked from 'package:base':
I, expand.grid, unname
Attaching package: 'MatrixGenerics'
The following objects are masked from 'package:matrixStats':
colAlls, colAnyNAs, colAnys, colAvgsPerRowSet, colCollapse,
colCounts, colCummaxs, colCummins, colCumprods, colCumsums,
colDiffs, colIQRDiffs, colIQRs, colLogSumExps, colMadDiffs,
colMads, colMaxs, colMeans2, colMedians, colMins, colOrderStats,
colProds, colQuantiles, colRanges, colRanks, colSdDiffs, colSds,
colSums2, colTabulates, colVarDiffs, colVars, colWeightedMads,
colWeightedMeans, colWeightedMedians, colWeightedSds,
colWeightedVars, rowAlls, rowAnyNAs, rowAnys, rowAvgsPerColSet,
rowCollapse, rowCounts, rowCummaxs, rowCummins, rowCumprods,
rowCumsums, rowDiffs, rowIQRDiffs, rowIQRs, rowLogSumExps,
rowMadDiffs, rowMads, rowMaxs, rowMeans2, rowMedians, rowMins,
rowOrderStats, rowProds, rowQuantiles, rowRanges, rowRanks,
rowSdDiffs, rowSds, rowSums2, rowTabulates, rowVarDiffs, rowVars,
rowWeightedMads, rowWeightedMeans, rowWeightedMedians,
rowWeightedSds, rowWeightedVars
Welcome to Bioconductor
Vignettes contain introductory material; view with
'browseVignettes()'. To cite Bioconductor, see
'citation("Biobase")', and for packages 'citation("pkgname")'.
Attaching package: 'Biobase'
The following object is masked from 'package:MatrixGenerics':
rowMedians
The following objects are masked from 'package:matrixStats':
anyMissing, rowMedians
Attaching package: 'Biostrings'
The following object is masked from 'package:base':
strsplit
Attaching package: 'grid'
The following object is masked from 'package:Biostrings':
pattern
========================================
ComplexHeatmap version 2.24.1
Bioconductor page: http://bioconductor.org/packages/ComplexHeatmap/
Github page: https://github.com/jokergoo/ComplexHeatmap
Documentation: http://jokergoo.github.io/ComplexHeatmap-reference
If you use it in published research, please cite either one:
- Gu, Z. Complex Heatmap Visualization. iMeta 2022.
- Gu, Z. Complex heatmaps reveal patterns and correlations in multidimensional
genomic data. Bioinformatics 2016.
The new InteractiveComplexHeatmap package can directly export static
complex heatmaps into an interactive Shiny app with zero effort. Have a try!
This message can be suppressed by:
suppressPackageStartupMessages(library(ComplexHeatmap))
========================================
Getting main ranges for measurements
measurement type: chipseq
genomic region type: tss
Calculating requested regions coverage for WT H4K20me1
calculating total coverage
processing chr12
Calculating requested regions coverage for Set8KO H4K20me1
calculating total coverage
processing chr12
Calculating profile for WT H4K20me1
Calculating profile for Set8KO H4K20me1
Constructing genomic coverage profile curve(s)
The resolution of the requested profiles will be lowered to avoid
increased computation time and/or storage space for heatmap profiles...
Calculating tss profile for WT H4K20me1
Calculating tss profile for Set8KO H4K20me1
Constructing genomic coverage heatmap(s)
Constructing coverage correlation profile curve(s)
dev.new(): using pdf(file="Rplots1.pdf")
dev.new(): using pdf(file="Rplots2.pdf")
Getting main ranges for measurements
measurement type: chipseq
genomic region type: genebody
Calculating requested regions coverage for WT H4K20me1
calculating total coverage
processing chr12
Calculating requested regions coverage for Set8KO H4K20me1
calculating total coverage
processing chr12
Calculating profile for WT H4K20me1
center
upstream
downstream
Calculating profile for Set8KO H4K20me1
center
upstream
downstream
Constructing genomic coverage profile curve(s)
Using provided design to facet the coverage profiles
Constructing genomic coverage heatmap(s)
Using provided design to facet the coverage profiles
Constructing coverage correlation profile curve(s)
Using provided design to facet the coverage profiles
dev.new(): using pdf(file="Rplots3.pdf")
dev.new(): using pdf(file="Rplots4.pdf")
dev.new(): using pdf(file="Rplots5.pdf")
RUNIT TEST PROTOCOL -- Tue Oct 14 13:19:26 2025
***********************************************
Number of test functions: 1
Number of errors: 0
Number of failures: 0
1 Test Suite :
recoup RUnit Tests - 1 test function, 0 errors, 0 failures
Number of test functions: 1
Number of errors: 0
Number of failures: 0
Warning message:
Using `size` aesthetic for lines was deprecated in ggplot2 3.4.0.
ℹ Please use `linewidth` instead.
ℹ The deprecated feature was likely used in the recoup package.
Please report the issue to the authors.
>
> proc.time()
user system elapsed
54.053 12.256 52.008
recoup.Rcheck/recoup-Ex.timings
| name | user | system | elapsed | |
| buildAnnotationDatabase | 0 | 0 | 0 | |
| buildAnnotationStore | 0 | 0 | 0 | |
| buildCustomAnnotation | 3.333 | 0.191 | 3.534 | |
| calcCoverage | 4.209 | 0.319 | 4.533 | |
| coverageRef | 6.336 | 0.246 | 6.598 | |
| coverageRnaRef | 0.000 | 0.000 | 0.001 | |
| getAnnotation | 1.921 | 0.049 | 126.192 | |
| getBiotypes | 0.001 | 0.000 | 0.000 | |
| getInstalledAnnotations | 0.001 | 0.000 | 0.001 | |
| importCustomAnnotation | 1.043 | 0.043 | 1.088 | |
| kmeansDesign | 10.775 | 3.367 | 10.146 | |
| loadAnnotation | 0.001 | 0.000 | 0.001 | |
| mergeRuns | 28.875 | 8.767 | 28.980 | |
| preprocessRanges | 0.264 | 0.046 | 0.315 | |
| profileMatrix | 14.052 | 5.247 | 10.705 | |
| recoup | 11.935 | 4.694 | 12.041 | |
| recoupCorrelation | 8.048 | 2.240 | 9.633 | |
| recoupHeatmap | 7.876 | 2.157 | 9.513 | |
| recoupPlot | 11.565 | 4.345 | 12.203 | |
| recoupProfile | 8.095 | 2.129 | 9.476 | |
| removeData | 0.015 | 0.008 | 0.023 | |
| rpMatrix | 0.809 | 0.175 | 0.987 | |
| simpleGetSet | 10.772 | 4.109 | 10.809 | |
| sliceObj | 10.735 | 4.279 | 11.163 | |