| Back to Multiple platform build/check report for BioC 3.21: simplified long |
|
This page was generated on 2025-10-16 11:41 -0400 (Thu, 16 Oct 2025).
| Hostname | OS | Arch (*) | R version | Installed pkgs |
|---|---|---|---|---|
| nebbiolo1 | Linux (Ubuntu 24.04.3 LTS) | x86_64 | 4.5.1 (2025-06-13) -- "Great Square Root" | 4833 |
| merida1 | macOS 12.7.6 Monterey | x86_64 | 4.5.1 RC (2025-06-05 r88288) -- "Great Square Root" | 4614 |
| kjohnson1 | macOS 13.7.5 Ventura | arm64 | 4.5.1 Patched (2025-06-14 r88325) -- "Great Square Root" | 4555 |
| kunpeng2 | Linux (openEuler 24.03 LTS) | aarch64 | R Under development (unstable) (2025-02-19 r87757) -- "Unsuffered Consequences" | 4586 |
| Click on any hostname to see more info about the system (e.g. compilers) (*) as reported by 'uname -p', except on Windows and Mac OS X | ||||
| Package 1687/2341 | Hostname | OS / Arch | INSTALL | BUILD | CHECK | BUILD BIN | ||||||||
| ramr 1.16.0 (landing page) Oleksii Nikolaienko
| nebbiolo1 | Linux (Ubuntu 24.04.3 LTS) / x86_64 | OK | OK | OK | |||||||||
| merida1 | macOS 12.7.6 Monterey / x86_64 | OK | OK | OK | OK | |||||||||
| kjohnson1 | macOS 13.7.5 Ventura / arm64 | OK | OK | OK | OK | |||||||||
| kunpeng2 | Linux (openEuler 24.03 LTS) / aarch64 | OK | OK | TIMEOUT | ||||||||||
|
To the developers/maintainers of the ramr package: - Allow up to 24 hours (and sometimes 48 hours) for your latest push to git@git.bioconductor.org:packages/ramr.git to reflect on this report. See Troubleshooting Build Report for more information. - Use the following Renviron settings to reproduce errors and warnings. - If 'R CMD check' started to fail recently on the Linux builder(s) over a missing dependency, add the missing dependency to 'Suggests:' in your DESCRIPTION file. See Renviron.bioc for more information. - See Martin Grigorov's blog post for how to debug Linux ARM64 related issues on a x86_64 host. |
| Package: ramr |
| Version: 1.16.0 |
| Command: /home/biocbuild/R/R/bin/R CMD check --install=check:ramr.install-out.txt --library=/home/biocbuild/R/R/site-library --no-vignettes --timings ramr_1.16.0.tar.gz |
| StartedAt: 2025-10-14 13:00:48 -0000 (Tue, 14 Oct 2025) |
| EndedAt: 2025-10-14 13:40:48 -0000 (Tue, 14 Oct 2025) |
| EllapsedTime: 2400.5 seconds |
| RetCode: None |
| Status: TIMEOUT |
| CheckDir: ramr.Rcheck |
| Warnings: NA |
##############################################################################
##############################################################################
###
### Running command:
###
### /home/biocbuild/R/R/bin/R CMD check --install=check:ramr.install-out.txt --library=/home/biocbuild/R/R/site-library --no-vignettes --timings ramr_1.16.0.tar.gz
###
##############################################################################
##############################################################################
* using log directory ‘/home/biocbuild/bbs-3.21-bioc/meat/ramr.Rcheck’
* using R Under development (unstable) (2025-02-19 r87757)
* using platform: aarch64-unknown-linux-gnu
* R was compiled by
aarch64-unknown-linux-gnu-gcc (GCC) 14.2.0
GNU Fortran (GCC) 14.2.0
* running under: openEuler 24.03 (LTS-SP1)
* using session charset: UTF-8
* using option ‘--no-vignettes’
* checking for file ‘ramr/DESCRIPTION’ ... OK
* this is package ‘ramr’ version ‘1.16.0’
* package encoding: UTF-8
* checking package namespace information ... OK
* checking package dependencies ... OK
* checking if this is a source package ... OK
* checking if there is a namespace ... OK
* checking for hidden files and directories ... OK
* checking for portable file names ... OK
* checking for sufficient/correct file permissions ... OK
* checking whether package ‘ramr’ can be installed ... OK
* used C++ compiler: ‘aarch64-unknown-linux-gnu-g++ (GCC) 14.2.0’
* checking C++ specification ... OK
Not all R platforms support C++20
* checking installed package size ... INFO
installed size is 9.9Mb
sub-directories of 1Mb or more:
data 2.0Mb
libs 7.7Mb
* checking package directory ... OK
* checking ‘build’ directory ... OK
* checking DESCRIPTION meta-information ... OK
* checking top-level files ... OK
* checking for left-over files ... OK
* checking index information ... OK
* checking package subdirectories ... OK
* checking code files for non-ASCII characters ... OK
* checking R files for syntax errors ... OK
* checking whether the package can be loaded ... OK
* checking whether the package can be loaded with stated dependencies ... OK
* checking whether the package can be unloaded cleanly ... OK
* checking whether the namespace can be loaded with stated dependencies ... OK
* checking whether the namespace can be unloaded cleanly ... OK
* checking loading without being on the library search path ... OK
* checking whether startup messages can be suppressed ... OK
* checking dependencies in R code ... OK
* checking S3 generic/method consistency ... OK
* checking replacement functions ... OK
* checking foreign function calls ... OK
* checking R code for possible problems ... OK
* checking Rd files ... OK
* checking Rd metadata ... OK
* checking Rd cross-references ... OK
* checking for missing documentation entries ... OK
* checking for code/documentation mismatches ... OK
* checking Rd \usage sections ... OK
* checking Rd contents ... OK
* checking for unstated dependencies in examples ... OK
* checking contents of ‘data’ directory ... OK
* checking data for non-ASCII characters ... OK
* checking data for ASCII and uncompressed saves ... OK
* checking line endings in C/C++/Fortran sources/headers ... OK
* checking line endings in Makefiles ... OK
* checking compilation flags in Makevars ... OK
* checking for GNU extensions in Makefiles ... OK
* checking for portable use of $(BLAS_LIBS) and $(LAPACK_LIBS) ... OK
* checking use of PKG_*FLAGS in Makefiles ... OK
* checking compiled code ... NOTE
Note: information on .o files is not available
* checking files in ‘vignettes’ ... OK
* checking examples ...
ramr.Rcheck/00install.out
############################################################################## ############################################################################## ### ### Running command: ### ### /home/biocbuild/R/R/bin/R CMD INSTALL ramr ### ############################################################################## ############################################################################## * installing to library ‘/home/biocbuild/R/R-devel_2025-02-19/site-library’ * installing *source* package ‘ramr’ ... ** this is package ‘ramr’ version ‘1.16.0’ ** using staged installation ** libs using C++ compiler: ‘aarch64-unknown-linux-gnu-g++ (GCC) 14.2.0’ using C++20 /opt/ohpc/pub/compiler/gcc/14.2.0/bin/aarch64-unknown-linux-gnu-g++ -std=gnu++20 -I"/home/biocbuild/R/R/include" -DNDEBUG -I'/home/biocbuild/R/R-devel_2025-02-19/site-library/Rcpp/include' -I/usr/local/include -fopenmp -fPIC -g -O2 -Wall -Werror=format-security -c RcppExports.cpp -o RcppExports.o /opt/ohpc/pub/compiler/gcc/14.2.0/bin/aarch64-unknown-linux-gnu-g++ -std=gnu++20 -I"/home/biocbuild/R/R/include" -DNDEBUG -I'/home/biocbuild/R/R-devel_2025-02-19/site-library/Rcpp/include' -I/usr/local/include -fopenmp -fPIC -g -O2 -Wall -Werror=format-security -c rcpp_compute_logp.cpp -o rcpp_compute_logp.o /opt/ohpc/pub/compiler/gcc/14.2.0/bin/aarch64-unknown-linux-gnu-g++ -std=gnu++20 -I"/home/biocbuild/R/R/include" -DNDEBUG -I'/home/biocbuild/R/R-devel_2025-02-19/site-library/Rcpp/include' -I/usr/local/include -fopenmp -fPIC -g -O2 -Wall -Werror=format-security -c rcpp_compute_xiqr.cpp -o rcpp_compute_xiqr.o /opt/ohpc/pub/compiler/gcc/14.2.0/bin/aarch64-unknown-linux-gnu-g++ -std=gnu++20 -I"/home/biocbuild/R/R/include" -DNDEBUG -I'/home/biocbuild/R/R-devel_2025-02-19/site-library/Rcpp/include' -I/usr/local/include -fopenmp -fPIC -g -O2 -Wall -Werror=format-security -c rcpp_create_granges.cpp -o rcpp_create_granges.o /opt/ohpc/pub/compiler/gcc/14.2.0/bin/aarch64-unknown-linux-gnu-g++ -std=gnu++20 -I"/home/biocbuild/R/R/include" -DNDEBUG -I'/home/biocbuild/R/R-devel_2025-02-19/site-library/Rcpp/include' -I/usr/local/include -fopenmp -fPIC -g -O2 -Wall -Werror=format-security -c rcpp_filter_threshold.cpp -o rcpp_filter_threshold.o /opt/ohpc/pub/compiler/gcc/14.2.0/bin/aarch64-unknown-linux-gnu-g++ -std=gnu++20 -I"/home/biocbuild/R/R/include" -DNDEBUG -I'/home/biocbuild/R/R-devel_2025-02-19/site-library/Rcpp/include' -I/usr/local/include -fopenmp -fPIC -g -O2 -Wall -Werror=format-security -c rcpp_fit_beta.cpp -o rcpp_fit_beta.o /opt/ohpc/pub/compiler/gcc/14.2.0/bin/aarch64-unknown-linux-gnu-g++ -std=gnu++20 -I"/home/biocbuild/R/R/include" -DNDEBUG -I'/home/biocbuild/R/R-devel_2025-02-19/site-library/Rcpp/include' -I/usr/local/include -fopenmp -fPIC -g -O2 -Wall -Werror=format-security -c rcpp_fit_betabinom.cpp -o rcpp_fit_betabinom.o /opt/ohpc/pub/compiler/gcc/14.2.0/bin/aarch64-unknown-linux-gnu-g++ -std=gnu++20 -I"/home/biocbuild/R/R/include" -DNDEBUG -I'/home/biocbuild/R/R-devel_2025-02-19/site-library/Rcpp/include' -I/usr/local/include -fopenmp -fPIC -g -O2 -Wall -Werror=format-security -c rcpp_fit_binom.cpp -o rcpp_fit_binom.o /opt/ohpc/pub/compiler/gcc/14.2.0/bin/aarch64-unknown-linux-gnu-g++ -std=gnu++20 -I"/home/biocbuild/R/R/include" -DNDEBUG -I'/home/biocbuild/R/R-devel_2025-02-19/site-library/Rcpp/include' -I/usr/local/include -fopenmp -fPIC -g -O2 -Wall -Werror=format-security -c rcpp_generate_random_values.cpp -o rcpp_generate_random_values.o /opt/ohpc/pub/compiler/gcc/14.2.0/bin/aarch64-unknown-linux-gnu-g++ -std=gnu++20 -I"/home/biocbuild/R/R/include" -DNDEBUG -I'/home/biocbuild/R/R-devel_2025-02-19/site-library/Rcpp/include' -I/usr/local/include -fopenmp -fPIC -g -O2 -Wall -Werror=format-security -c rcpp_get_iqr.cpp -o rcpp_get_iqr.o /opt/ohpc/pub/compiler/gcc/14.2.0/bin/aarch64-unknown-linux-gnu-g++ -std=gnu++20 -I"/home/biocbuild/R/R/include" -DNDEBUG -I'/home/biocbuild/R/R-devel_2025-02-19/site-library/Rcpp/include' -I/usr/local/include -fopenmp -fPIC -g -O2 -Wall -Werror=format-security -c rcpp_get_meanvar.cpp -o rcpp_get_meanvar.o /opt/ohpc/pub/compiler/gcc/14.2.0/bin/aarch64-unknown-linux-gnu-g++ -std=gnu++20 -I"/home/biocbuild/R/R/include" -DNDEBUG -I'/home/biocbuild/R/R-devel_2025-02-19/site-library/Rcpp/include' -I/usr/local/include -fopenmp -fPIC -g -O2 -Wall -Werror=format-security -c rcpp_helper_functions.cpp -o rcpp_helper_functions.o /opt/ohpc/pub/compiler/gcc/14.2.0/bin/aarch64-unknown-linux-gnu-g++ -std=gnu++20 -I"/home/biocbuild/R/R/include" -DNDEBUG -I'/home/biocbuild/R/R-devel_2025-02-19/site-library/Rcpp/include' -I/usr/local/include -fopenmp -fPIC -g -O2 -Wall -Werror=format-security -c rcpp_prepare_data.cpp -o rcpp_prepare_data.o /opt/ohpc/pub/compiler/gcc/14.2.0/bin/aarch64-unknown-linux-gnu-g++ -std=gnu++20 -I"/home/biocbuild/R/R/include" -DNDEBUG -I'/home/biocbuild/R/R-devel_2025-02-19/site-library/Rcpp/include' -I/usr/local/include -fopenmp -fPIC -g -O2 -Wall -Werror=format-security -c rcpp_test_omp.cpp -o rcpp_test_omp.o /opt/ohpc/pub/compiler/gcc/14.2.0/bin/aarch64-unknown-linux-gnu-g++ -std=gnu++20 -shared -L/home/biocbuild/R/R/lib -L/usr/local/lib -o ramr.so RcppExports.o rcpp_compute_logp.o rcpp_compute_xiqr.o rcpp_create_granges.o rcpp_filter_threshold.o rcpp_fit_beta.o rcpp_fit_betabinom.o rcpp_fit_binom.o rcpp_generate_random_values.o rcpp_get_iqr.o rcpp_get_meanvar.o rcpp_helper_functions.o rcpp_prepare_data.o rcpp_test_omp.o -fopenmp -L/home/biocbuild/R/R/lib -lR installing to /home/biocbuild/R/R-devel_2025-02-19/site-library/00LOCK-ramr/00new/ramr/libs ** R ** data ** inst ** byte-compile and prepare package for lazy loading ** help *** installing help indices ** building package indices ** installing vignettes ** testing if installed package can be loaded from temporary location ** checking absolute paths in shared objects and dynamic libraries ** testing if installed package can be loaded from final location ** testing if installed package keeps a record of temporary installation path * DONE (ramr)
ramr.Rcheck/ramr-Ex.timings
| name | user | system | elapsed | |
| getAMR | 0.622 | 0.028 | 0.652 | |
| getAMR.obsolete | 21.533 | 1.332 | 13.591 | |
| getUniverse | 0.296 | 0.016 | 0.312 | |
| plotAMR | 6.623 | 0.275 | 6.904 | |
| ramr.data | 2.164 | 0.021 | 2.187 | |
| simulateAMR | 1.046 | 0.003 | 1.052 | |
| simulateData | 1.360 | 0.005 | 1.366 | |