Back to Multiple platform build/check report for BioC 3.21:   simplified   long
ABCDEFGHIJKLMNO[P]QRSTUVWXYZ

This page was generated on 2025-02-15 11:40 -0500 (Sat, 15 Feb 2025).

HostnameOSArch (*)R versionInstalled pkgs
nebbiolo1Linux (Ubuntu 24.04.1 LTS)x86_64R Under development (unstable) (2025-01-20 r87609) -- "Unsuffered Consequences" 4720
palomino7Windows Server 2022 Datacenterx64R Under development (unstable) (2025-01-21 r87610 ucrt) -- "Unsuffered Consequences" 4482
lconwaymacOS 12.7.1 Montereyx86_64R Under development (unstable) (2025-01-22 r87618) -- "Unsuffered Consequences" 4493
kjohnson3macOS 13.7.1 Venturaarm64R Under development (unstable) (2025-01-20 r87609) -- "Unsuffered Consequences" 4446
Click on any hostname to see more info about the system (e.g. compilers)      (*) as reported by 'uname -p', except on Windows and Mac OS X

Package 1616/2295HostnameOS / ArchINSTALLBUILDCHECKBUILD BIN
psichomics 1.33.0  (landing page)
Nuno Saraiva-Agostinho
Snapshot Date: 2025-02-14 13:40 -0500 (Fri, 14 Feb 2025)
git_url: https://git.bioconductor.org/packages/psichomics
git_branch: devel
git_last_commit: 55e72bb
git_last_commit_date: 2024-10-29 10:15:03 -0500 (Tue, 29 Oct 2024)
nebbiolo1Linux (Ubuntu 24.04.1 LTS) / x86_64  OK    OK    OK  UNNEEDED, same version is already published
palomino7Windows Server 2022 Datacenter / x64  OK    OK    OK    OK  UNNEEDED, same version is already published
lconwaymacOS 12.7.1 Monterey / x86_64  OK    OK    OK    OK  UNNEEDED, same version is already published
kjohnson3macOS 13.7.1 Ventura / arm64  OK    OK    OK    OK  UNNEEDED, same version is already published


CHECK results for psichomics on nebbiolo1

To the developers/maintainers of the psichomics package:
- Allow up to 24 hours (and sometimes 48 hours) for your latest push to git@git.bioconductor.org:packages/psichomics.git to reflect on this report. See Troubleshooting Build Report for more information.
- Use the following Renviron settings to reproduce errors and warnings.
- If 'R CMD check' started to fail recently on the Linux builder(s) over a missing dependency, add the missing dependency to 'Suggests:' in your DESCRIPTION file. See Renviron.bioc for more information.

raw results


Summary

Package: psichomics
Version: 1.33.0
Command: /home/biocbuild/bbs-3.21-bioc/R/bin/R CMD check --install=check:psichomics.install-out.txt --library=/home/biocbuild/bbs-3.21-bioc/R/site-library --timings psichomics_1.33.0.tar.gz
StartedAt: 2025-02-15 01:11:50 -0500 (Sat, 15 Feb 2025)
EndedAt: 2025-02-15 01:20:36 -0500 (Sat, 15 Feb 2025)
EllapsedTime: 526.8 seconds
RetCode: 0
Status:   OK  
CheckDir: psichomics.Rcheck
Warnings: 0

Command output

##############################################################################
##############################################################################
###
### Running command:
###
###   /home/biocbuild/bbs-3.21-bioc/R/bin/R CMD check --install=check:psichomics.install-out.txt --library=/home/biocbuild/bbs-3.21-bioc/R/site-library --timings psichomics_1.33.0.tar.gz
###
##############################################################################
##############################################################################


* using log directory ‘/home/biocbuild/bbs-3.21-bioc/meat/psichomics.Rcheck’
* using R Under development (unstable) (2025-01-20 r87609)
* using platform: x86_64-pc-linux-gnu
* R was compiled by
    gcc (Ubuntu 13.3.0-6ubuntu2~24.04) 13.3.0
    GNU Fortran (Ubuntu 13.3.0-6ubuntu2~24.04) 13.3.0
* running under: Ubuntu 24.04.2 LTS
* using session charset: UTF-8
* checking for file ‘psichomics/DESCRIPTION’ ... OK
* this is package ‘psichomics’ version ‘1.33.0’
* package encoding: UTF-8
* checking package namespace information ... OK
* checking package dependencies ... INFO
Imports includes 33 non-default packages.
Importing from so many packages makes the package vulnerable to any of
them becoming unavailable.  Move as many as possible to Suggests and
use conditionally.
* checking if this is a source package ... OK
* checking if there is a namespace ... OK
* checking for hidden files and directories ... NOTE
Found the following hidden files and directories:
  .devcontainer
These were most likely included in error. See section ‘Package
structure’ in the ‘Writing R Extensions’ manual.
* checking for portable file names ... OK
* checking for sufficient/correct file permissions ... OK
* checking whether package ‘psichomics’ can be installed ... OK
* used C++ compiler: ‘g++ (Ubuntu 13.3.0-6ubuntu2~24.04) 13.3.0’
* checking installed package size ... OK
* checking package directory ... OK
* checking ‘build’ directory ... OK
* checking DESCRIPTION meta-information ... OK
* checking top-level files ... OK
* checking for left-over files ... OK
* checking index information ... OK
* checking package subdirectories ... OK
* checking code files for non-ASCII characters ... OK
* checking R files for syntax errors ... OK
* checking whether the package can be loaded ... OK
* checking whether the package can be loaded with stated dependencies ... OK
* checking whether the package can be unloaded cleanly ... OK
* checking whether the namespace can be loaded with stated dependencies ... OK
* checking whether the namespace can be unloaded cleanly ... OK
* checking loading without being on the library search path ... OK
* checking whether startup messages can be suppressed ... OK
* checking dependencies in R code ... OK
* checking S3 generic/method consistency ... OK
* checking replacement functions ... OK
* checking foreign function calls ... OK
* checking R code for possible problems ... OK
* checking Rd files ... OK
* checking Rd metadata ... OK
* checking Rd cross-references ... NOTE
Found the following Rd file(s) with Rd \link{} targets missing package
anchors:
  colSums-EList-method.Rd: EList-class
  renderDataTableSparklines.Rd: renderDataTable
  showAlert.Rd: showModal
Please provide package anchors for all Rd \link{} targets not in the
package itself and the base packages.
* checking for missing documentation entries ... OK
* checking for code/documentation mismatches ... OK
* checking Rd \usage sections ... NOTE
Documented arguments not in \usage in Rd file 'createSparklines.Rd':
  ‘id’

Documented arguments not in \usage in Rd file 'renderGeneticInfo.Rd':
  ‘ns’

Functions with \usage entries need to have the appropriate \alias
entries, and all their arguments documented.
The \usage entries must correspond to syntactically valid R code.
See chapter ‘Writing R documentation files’ in the ‘Writing R
Extensions’ manual.
* checking Rd contents ... OK
* checking for unstated dependencies in examples ... OK
* checking line endings in C/C++/Fortran sources/headers ... OK
* checking compiled code ... NOTE
Note: information on .o files is not available
* checking files in ‘vignettes’ ... OK
* checking examples ... OK
Examples with CPU (user + system) or elapsed time > 5s
                          user system elapsed
convertGeneIdentifiers  14.723  1.661  17.266
listSplicingAnnotations 11.178  1.588  13.414
queryEnsemblByGene       0.090  0.021   6.787
* checking for unstated dependencies in ‘tests’ ... OK
* checking tests ...
  Running ‘spelling.R’
  Running ‘testthat.R’
 OK
* checking for unstated dependencies in vignettes ... OK
* checking package vignettes ... OK
* checking re-building of vignette outputs ... OK
* checking PDF version of manual ... OK
* DONE

Status: 4 NOTEs
See
  ‘/home/biocbuild/bbs-3.21-bioc/meat/psichomics.Rcheck/00check.log’
for details.


Installation output

psichomics.Rcheck/00install.out

##############################################################################
##############################################################################
###
### Running command:
###
###   /home/biocbuild/bbs-3.21-bioc/R/bin/R CMD INSTALL psichomics
###
##############################################################################
##############################################################################


* installing to library ‘/home/biocbuild/bbs-3.21-bioc/R/site-library’
* installing *source* package ‘psichomics’ ...
** this is package ‘psichomics’ version ‘1.33.0’
** using staged installation
** libs
using C++ compiler: ‘g++ (Ubuntu 13.3.0-6ubuntu2~24.04) 13.3.0’
g++ -std=gnu++17 -I"/home/biocbuild/bbs-3.21-bioc/R/include" -DNDEBUG  -I'/home/biocbuild/bbs-3.21-bioc/R/site-library/Rcpp/include' -I/usr/local/include    -fpic  -g -O2  -DR_NO_REMAP -c RcppExports.cpp -o RcppExports.o
g++ -std=gnu++17 -I"/home/biocbuild/bbs-3.21-bioc/R/include" -DNDEBUG  -I'/home/biocbuild/bbs-3.21-bioc/R/site-library/Rcpp/include' -I/usr/local/include    -fpic  -g -O2  -DR_NO_REMAP -c progressBar.cpp -o progressBar.o
g++ -std=gnu++17 -I"/home/biocbuild/bbs-3.21-bioc/R/include" -DNDEBUG  -I'/home/biocbuild/bbs-3.21-bioc/R/site-library/Rcpp/include' -I/usr/local/include    -fpic  -g -O2  -DR_NO_REMAP -c psiFastCalc.cpp -o psiFastCalc.o
g++ -std=gnu++17 -I"/home/biocbuild/bbs-3.21-bioc/R/include" -DNDEBUG  -I'/home/biocbuild/bbs-3.21-bioc/R/site-library/Rcpp/include' -I/usr/local/include    -fpic  -g -O2  -DR_NO_REMAP -c vastToolsParser.cpp -o vastToolsParser.o
g++ -std=gnu++17 -shared -L/home/biocbuild/bbs-3.21-bioc/R/lib -L/usr/local/lib -o psichomics.so RcppExports.o progressBar.o psiFastCalc.o vastToolsParser.o -L/home/biocbuild/bbs-3.21-bioc/R/lib -lR
installing to /home/biocbuild/bbs-3.21-bioc/R/site-library/00LOCK-psichomics/00new/psichomics/libs
** R
** inst
** byte-compile and prepare package for lazy loading
Creating a generic function for ‘colSums’ from package ‘base’ in package ‘psichomics’
** help
*** installing help indices
*** copying figures
** building package indices
** installing vignettes
** testing if installed package can be loaded from temporary location
** checking absolute paths in shared objects and dynamic libraries
** testing if installed package can be loaded from final location
** testing if installed package keeps a record of temporary installation path
* DONE (psichomics)

Tests output

psichomics.Rcheck/tests/spelling.Rout


R Under development (unstable) (2025-01-20 r87609) -- "Unsuffered Consequences"
Copyright (C) 2025 The R Foundation for Statistical Computing
Platform: x86_64-pc-linux-gnu

R is free software and comes with ABSOLUTELY NO WARRANTY.
You are welcome to redistribute it under certain conditions.
Type 'license()' or 'licence()' for distribution details.

R is a collaborative project with many contributors.
Type 'contributors()' for more information and
'citation()' on how to cite R or R packages in publications.

Type 'demo()' for some demos, 'help()' for on-line help, or
'help.start()' for an HTML browser interface to help.
Type 'q()' to quit R.

> if(requireNamespace('spelling', quietly = TRUE))
+   spelling::spell_check_test(vignettes = TRUE, error = FALSE,
+                              skip_on_cran = TRUE)
NULL
> 
> proc.time()
   user  system elapsed 
  0.145   0.045   0.179 

psichomics.Rcheck/tests/testthat.Rout


R Under development (unstable) (2025-01-20 r87609) -- "Unsuffered Consequences"
Copyright (C) 2025 The R Foundation for Statistical Computing
Platform: x86_64-pc-linux-gnu

R is free software and comes with ABSOLUTELY NO WARRANTY.
You are welcome to redistribute it under certain conditions.
Type 'license()' or 'licence()' for distribution details.

R is a collaborative project with many contributors.
Type 'contributors()' for more information and
'citation()' on how to cite R or R packages in publications.

Type 'demo()' for some demos, 'help()' for on-line help, or
'help.start()' for an HTML browser interface to help.
Type 'q()' to quit R.

> library(testthat)
> library(psichomics)
Loading required package: shiny
Loading required package: shinyBS
Setting options('download.file.method.GEOquery'='auto')
Setting options('GEOquery.inmemory.gpl'=FALSE)

psichomics 1.33.0: start the visual interface by running psichomics()
Full documentation and tutorials at https://nuno-agostinho.github.io/psichomics
> 
> test_check("psichomics")
  |                                        |   0% 
  |========                                |  20% 
  |================                        |  40% 
  |========================                |  60% 
  |================================        |  80% 
  |========================================| 100% 
  |                                        |   0% 
  |========                                |  20% 
  |================                        |  40% 
  |========================                |  60% 
  |================================        |  80% 
  |========================================| 100% 
  |                                        |   0% 
  |========                                |  20% 
  |================                        |  40% 
  |========================                |  60% 
  |================================        |  80% 
  |========================================| 100% 
  |                                        |   0% 
  |========                                |  20% 
  |================                        |  40% 
  |========================                |  60% 
  |================================        |  80% 
  |========================================| 100% 





























Retrieving rMATS annotation...

Parsing rMATS annotation...

Retrieving rMATS annotation...

Parsing rMATS annotation...

Retrieving MISO annotation...

Parsing MISO annotation...
  |                                        |   0% 
  |========                                |  20% 
  |================                        |  40% 
  |========================                |  60% 
  |================================        |  80% 
  |========================================| 100% 
  |                                        |   0% 
  |========                                |  20% 
  |================                        |  40% 
  |========================                |  60% 
  |================================        |  80% 
  |========================================| 100% 
  |                                        |   0% 
  |========                                |  20% 
  |================                        |  40% 
  |========================                |  60% 
  |================================        |  80% 
  |========================================| 100% 
  |                                        |   0% 
  |========                                |  20% 
  |================                        |  40% 
  |========================                |  60% 
  |================================        |  80% 
  |========================================| 100% 
  |                                        |   0% 
  |========                                |  20% 
  |================                        |  40% 
  |========================                |  60% 
  |================================        |  80% 
  |========================================| 100% 
  |                                        |   0% 
  |========                                |  20% 
  |================                        |  40% 
  |========================                |  60% 
  |================================        |  80% 
  |========================================| 100% 
  |                                        |   0% 
  |========                                |  20% 
  |================                        |  40% 
  |========================                |  60% 
  |================================        |  80% 
  |========================================| 100% 
  |                                        |   0% 
  |========                                |  20% 
  |================                        |  40% 
  |========================                |  60% 
  |================================        |  80% 
  |========================================| 100% 

Retrieving SUPPA annotation...

Parsing SUPPA annotation...

Retrieving VAST-TOOLS annotation...

Parsing VAST-TOOLS annotation...

ALT3

ALT5

COMBI

EXSK

IR

MERGE3m

MIC

MULTI
[ FAIL 0 | WARN 0 | SKIP 4 | PASS 1418 ]

══ Skipped tests (4) ═══════════════════════════════════════════════════════════
• Couldn't resolve host name (1): 'testGeneInfo.R:99:5'
• On Bioconductor (2): 'testDiscardLowCoveragePSIs.R:62:5',
  'testGeneInfo.R:50:5'
• On CRAN (1): 'testSRAloading.R:4:5'

[ FAIL 0 | WARN 0 | SKIP 4 | PASS 1418 ]
> 
> proc.time()
   user  system elapsed 
 23.317   1.274  27.610 

Example timings

psichomics.Rcheck/psichomics-Ex.timings

nameusersystemelapsed
addObjectAttrs0.0000.0000.001
assignValuePerSubject0.0120.0090.021
blendColours0.0010.0000.001
calculateLoadingsContribution0.0070.0020.011
convertGeneIdentifiers14.723 1.66117.266
correlateGEandAS0.0180.0090.028
createGroupByAttribute0.0010.0010.002
createJunctionsTemplate0.0020.0010.002
customRowMeans0.0000.0010.001
diffAnalyses0.0580.0400.098
downloadFiles0.0000.0010.001
ensemblToUniprot0.0400.0170.662
filterGeneExpr0.0120.0030.015
filterGroups0.0020.0010.003
filterPSI0.0170.0100.028
getAttributesTime0.0040.0000.004
getDownloadsFolder0.0010.0000.001
getFirebrowseDateFormat000
getGeneList0.0060.0010.007
getGtexDataTypes0.0000.0010.001
getGtexTissues0.0010.0000.000
getNumerics0.0030.0010.004
getSampleFromSubject0.0000.0020.002
getSplicingEventFromGenes0.0040.0030.007
getSplicingEventTypes000
getSubjectFromSample0.0010.0000.001
getTCGAdataTypes0.0560.0130.203
getValidEvents0.0040.0000.004
groupPerElem0.0010.0000.001
hchart.survfit0.2410.0520.299
isFirebrowseUp0.0060.0000.017
labelBasedOnCutoff000
leveneTest0.0080.0000.008
listAllAnnotations2.3960.4913.038
listSplicingAnnotations11.178 1.58813.414
loadAnnotation2.8410.4183.413
loadGtexData0.0000.0010.001
loadLocalFiles000
loadSRAproject000
loadTCGAdata0.0090.0010.035
missingDataModal0.0000.0010.000
normaliseGeneExpression0.0210.0030.025
optimalSurvivalCutoff0.0940.0010.095
parseCategoricalGroups0.0010.0000.001
parseFirebrowseMetadata0.0440.0040.130
parseMatsEvent0.0040.0010.004
parseMatsGeneric0.0170.0020.018
parseMisoAnnotation0.1140.0080.127
parseMisoEvent0.0030.0010.003
parseMisoEventID0.0050.0010.006
parseMisoGeneric0.0250.0050.030
parseMisoId000
parseSplicingEvent0.0030.0010.005
parseSuppaEvent0.0030.0000.003
parseSuppaGeneric0.0150.0020.017
parseTcgaSampleInfo0.0040.0000.004
parseUrlsFromFirebrowseResponse0.0280.0020.131
parseVastToolsEvent0.0060.0000.006
parseVastToolsSE0.0170.0010.018
performICA0.0060.0030.009
performPCA0.0020.0000.002
plot.GEandAScorrelation0.5220.0690.591
plotDistribution0.6080.0790.687
plotGeneExprPerSample0.0790.0080.087
plotGroupIndependence0.1770.0210.198
plotICA0.1060.0040.112
plotLibrarySize0.1580.0130.171
plotPCA0.2190.0480.266
plotPCAvariance0.0400.0150.055
plotProtein0.6430.3392.213
plotRowStats0.5270.0600.587
plotSingleICA0.1980.0270.224
plotSplicingEvent0.0430.0040.048
plotSurvivalCurves0.0840.0140.098
plotSurvivalPvaluesByCutoff0.5010.0520.553
plotTranscripts0.0220.0051.748
prepareAnnotationFromEvents0.2360.0380.274
prepareFirebrowseArchives0.0000.0000.001
prepareJunctionQuantSTAR0.0010.0000.000
prepareSRAmetadata000
processSurvTerms0.0070.0030.010
psichomics000
quantifySplicing0.0110.0030.014
queryEnsembl0.0310.0020.961
queryEnsemblByGene0.0900.0216.787
queryFirebrowseData0.0440.0040.209
queryPubMed0.1050.0160.750
queryUniprot0.0680.0100.847
readFile0.0020.0000.002
renameDuplicated0.0010.0010.002
renderBoxplot0.0920.0350.126
survdiffTerms0.0090.0010.009
survfit.survTerms0.0190.0560.075
testGroupIndependence0.0020.0030.005
testSurvival0.0230.0060.028
textSuggestions0.0000.0010.001
trimWhitespace000