Back to Multiple platform build/check report for BioC 3.21:   simplified   long
ABCDEFGHIJKLMN[O]PQRSTUVWXYZ

This page was generated on 2025-02-18 11:41 -0500 (Tue, 18 Feb 2025).

HostnameOSArch (*)R versionInstalled pkgs
nebbiolo1Linux (Ubuntu 24.04.1 LTS)x86_64R Under development (unstable) (2025-01-20 r87609) -- "Unsuffered Consequences" 4720
palomino7Windows Server 2022 Datacenterx64R Under development (unstable) (2025-01-21 r87610 ucrt) -- "Unsuffered Consequences" 4482
lconwaymacOS 12.7.1 Montereyx86_64R Under development (unstable) (2025-01-22 r87618) -- "Unsuffered Consequences" 4493
kjohnson3macOS 13.7.1 Venturaarm64R Under development (unstable) (2025-01-20 r87609) -- "Unsuffered Consequences" 4446
Click on any hostname to see more info about the system (e.g. compilers)      (*) as reported by 'uname -p', except on Windows and Mac OS X

Package 1448/2295HostnameOS / ArchINSTALLBUILDCHECKBUILD BIN
omada 1.9.0  (landing page)
Sokratis Kariotis
Snapshot Date: 2025-02-17 13:40 -0500 (Mon, 17 Feb 2025)
git_url: https://git.bioconductor.org/packages/omada
git_branch: devel
git_last_commit: 5caa0b1
git_last_commit_date: 2024-10-29 11:13:51 -0500 (Tue, 29 Oct 2024)
nebbiolo1Linux (Ubuntu 24.04.1 LTS) / x86_64  OK    OK    OK  UNNEEDED, same version is already published
palomino7Windows Server 2022 Datacenter / x64  OK    OK    OK    OK  UNNEEDED, same version is already published
lconwaymacOS 12.7.1 Monterey / x86_64  OK    OK    OK    OK  UNNEEDED, same version is already published
kjohnson3macOS 13.7.1 Ventura / arm64  OK    OK    OK    OK  UNNEEDED, same version is already published


CHECK results for omada on palomino7

To the developers/maintainers of the omada package:
- Allow up to 24 hours (and sometimes 48 hours) for your latest push to git@git.bioconductor.org:packages/omada.git to reflect on this report. See Troubleshooting Build Report for more information.
- Use the following Renviron settings to reproduce errors and warnings.
- If 'R CMD check' started to fail recently on the Linux builder(s) over a missing dependency, add the missing dependency to 'Suggests:' in your DESCRIPTION file. See Renviron.bioc for more information.

raw results


Summary

Package: omada
Version: 1.9.0
Command: E:\biocbuild\bbs-3.21-bioc\R\bin\R.exe CMD check --no-multiarch --install=check:omada.install-out.txt --library=E:\biocbuild\bbs-3.21-bioc\R\library --no-vignettes --timings omada_1.9.0.tar.gz
StartedAt: 2025-02-18 03:30:50 -0500 (Tue, 18 Feb 2025)
EndedAt: 2025-02-18 03:43:27 -0500 (Tue, 18 Feb 2025)
EllapsedTime: 757.3 seconds
RetCode: 0
Status:   OK  
CheckDir: omada.Rcheck
Warnings: 0

Command output

##############################################################################
##############################################################################
###
### Running command:
###
###   E:\biocbuild\bbs-3.21-bioc\R\bin\R.exe CMD check --no-multiarch --install=check:omada.install-out.txt --library=E:\biocbuild\bbs-3.21-bioc\R\library --no-vignettes --timings omada_1.9.0.tar.gz
###
##############################################################################
##############################################################################


* using log directory 'E:/biocbuild/bbs-3.21-bioc/meat/omada.Rcheck'
* using R Under development (unstable) (2025-01-21 r87610 ucrt)
* using platform: x86_64-w64-mingw32
* R was compiled by
    gcc.exe (GCC) 13.3.0
    GNU Fortran (GCC) 13.3.0
* running under: Windows Server 2022 x64 (build 20348)
* using session charset: UTF-8
* using option '--no-vignettes'
* checking for file 'omada/DESCRIPTION' ... OK
* checking extension type ... Package
* this is package 'omada' version '1.9.0'
* package encoding: UTF-8
* checking package namespace information ... OK
* checking package dependencies ... INFO
Depends: includes the non-default packages:
  'pdfCluster', 'kernlab', 'fpc', 'Rcpp', 'diceR', 'ggplot2',
  'reshape', 'genieclust', 'clValid', 'glmnet', 'dplyr'
Adding so many packages to the search path is excessive and importing
selectively is preferable.
* checking if this is a source package ... OK
* checking if there is a namespace ... OK
* checking for hidden files and directories ... OK
* checking for portable file names ... OK
* checking whether package 'omada' can be installed ... OK
* checking installed package size ... OK
* checking package directory ... OK
* checking 'build' directory ... OK
* checking DESCRIPTION meta-information ... OK
* checking top-level files ... NOTE
File
  LICENSE
is not mentioned in the DESCRIPTION file.
* checking for left-over files ... OK
* checking index information ... OK
* checking package subdirectories ... OK
* checking code files for non-ASCII characters ... OK
* checking R files for syntax errors ... OK
* checking whether the package can be loaded ... OK
* checking whether the package can be loaded with stated dependencies ... OK
* checking whether the package can be unloaded cleanly ... OK
* checking whether the namespace can be loaded with stated dependencies ... OK
* checking whether the namespace can be unloaded cleanly ... OK
* checking dependencies in R code ... NOTE
Packages in Depends field not imported from:
  'Rcpp' 'dplyr' 'genieclust' 'glmnet' 'kernlab' 'reshape'
  These packages need to be imported from (in the NAMESPACE file)
  for when this namespace is loaded but not attached.
* checking S3 generic/method consistency ... OK
* checking replacement functions ... OK
* checking foreign function calls ... OK
* checking R code for possible problems ... NOTE
Index.15and28: no visible global function definition for 'dist'
Index.15and28: no visible global function definition for 'as.dist'
Index.sPlussMoins: no visible global function definition for 'dist'
Index.sPlussMoins: no visible global function definition for 'as.dist'
Index.sPlussMoins: no visible global function definition for 'median'
Indice.cindex: no visible global function definition for 'dist'
clusterVoting: no visible global function definition for 'calinhara'
clusterVoting: no visible global function definition for
  'generalised_dunn_index'
clusterVoting: no visible global function definition for
  'silhouette_index'
clusterVoting: no visible global function definition for
  'negated_davies_bouldin_index'
clusterVoting: no visible binding for global variable 'k'
clusterVoting: no visible binding for global variable 'Frequency'
clusteringMethodSelection: no visible binding for global variable
  'value'
clusteringMethodSelection: no visible binding for global variable
  'methods'
featureSelection: no visible binding for global variable 'featureSet'
featureSelection: no visible binding for global variable 'means'
Undefined global functions or variables:
  Frequency as.dist calinhara dist featureSet generalised_dunn_index k
  means median methods negated_davies_bouldin_index silhouette_index
  value
Consider adding
  importFrom("stats", "as.dist", "dist", "median")
  importFrom("utils", "methods")
to your NAMESPACE file.
* checking Rd files ... OK
* checking Rd metadata ... OK
* checking Rd cross-references ... OK
* checking for missing documentation entries ... OK
* checking for code/documentation mismatches ... OK
* checking Rd \usage sections ... OK
* checking Rd contents ... OK
* checking for unstated dependencies in examples ... OK
* checking contents of 'data' directory ... OK
* checking data for non-ASCII characters ... OK
* checking LazyData ... OK
* checking data for ASCII and uncompressed saves ... OK
* checking files in 'vignettes' ... OK
* checking examples ... OK
Examples with CPU (user + system) or elapsed time > 5s
                                                  user system elapsed
get_feature_selection_scores                     46.73   2.59   49.33
get_feature_selection_optimal_number_of_features 43.91   1.97   45.87
get_cluster_voting_memberships                   33.22   1.70   36.05
plot_feature_selection                           33.14   1.66   34.81
plot_partition_agreement                         32.78   1.64   34.42
get_sample_memberships                           32.75   1.58   34.36
get_partition_agreement_scores                   31.19   2.05   33.23
get_cluster_voting_k_votes                       31.36   1.57   32.92
get_cluster_voting_metric_votes                  31.10   1.75   38.03
get_feature_selection_optimal_features           30.79   1.75   32.55
get_cluster_voting_scores                        29.75   1.58   31.34
omada                                            24.08   1.25   25.41
plot_cluster_voting                              23.87   1.17   25.10
get_optimal_number_of_features                   10.52   0.46   10.97
get_optimal_memberships                           9.50   0.36    9.86
get_optimal_features                              9.32   0.47    9.80
get_optimal_parameter_used                        9.28   0.48    9.76
plot_average_stabilities                          9.08   0.53    9.60
get_optimal_stability_score                       8.53   0.34    8.88
featureSelection                                  8.11   0.33    8.45
get_average_feature_k_stabilities                 5.59   0.33    5.94
* checking for unstated dependencies in 'tests' ... OK
* checking tests ...
  Running 'testthat.R'
 OK
* checking for unstated dependencies in vignettes ... OK
* checking package vignettes ... OK
* checking running R code from vignettes ... SKIPPED
* checking re-building of vignette outputs ... SKIPPED
* checking PDF version of manual ... OK
* DONE

Status: 3 NOTEs
See
  'E:/biocbuild/bbs-3.21-bioc/meat/omada.Rcheck/00check.log'
for details.


Installation output

omada.Rcheck/00install.out

##############################################################################
##############################################################################
###
### Running command:
###
###   E:\biocbuild\bbs-3.21-bioc\R\bin\R.exe CMD INSTALL omada
###
##############################################################################
##############################################################################


* installing to library 'E:/biocbuild/bbs-3.21-bioc/R/library'
* installing *source* package 'omada' ...
** this is package 'omada' version '1.9.0'
** using staged installation
** R
** data
*** moving datasets to lazyload DB
** inst
** byte-compile and prepare package for lazy loading
** help
*** installing help indices
** building package indices
** installing vignettes
** testing if installed package can be loaded from temporary location
** testing if installed package can be loaded from final location
** testing if installed package keeps a record of temporary installation path
* DONE (omada)

Tests output

omada.Rcheck/tests/testthat.Rout


R Under development (unstable) (2025-01-21 r87610 ucrt) -- "Unsuffered Consequences"
Copyright (C) 2025 The R Foundation for Statistical Computing
Platform: x86_64-w64-mingw32/x64

R is free software and comes with ABSOLUTELY NO WARRANTY.
You are welcome to redistribute it under certain conditions.
Type 'license()' or 'licence()' for distribution details.

R is a collaborative project with many contributors.
Type 'contributors()' for more information and
'citation()' on how to cite R or R packages in publications.

Type 'demo()' for some demos, 'help()' for on-line help, or
'help.start()' for an HTML browser interface to help.
Type 'q()' to quit R.

> library(testthat)
> library(omada)
Loading required package: pdfCluster
pdfCluster 1.0-4
Loading required package: kernlab
Loading required package: fpc
Loading required package: Rcpp
Loading required package: diceR
Loading required package: ggplot2

Attaching package: 'ggplot2'

The following object is masked from 'package:kernlab':

    alpha

Loading required package: reshape
Loading required package: genieclust
Loading required package: clValid
Loading required package: cluster
Loading required package: glmnet
Loading required package: Matrix

Attaching package: 'Matrix'

The following object is masked from 'package:reshape':

    expand

Loaded glmnet 4.1-8
Loading required package: dplyr

Attaching package: 'dplyr'

The following object is masked from 'package:reshape':

    rename

The following object is masked from 'package:pdfCluster':

    groups

The following object is masked from 'package:testthat':

    matches

The following objects are masked from 'package:stats':

    filter, lag

The following objects are masked from 'package:base':

    intersect, setdiff, setequal, union

> 
> test_check("omada")
[ FAIL 0 | WARN 1 | SKIP 0 | PASS 38 ]

[ FAIL 0 | WARN 1 | SKIP 0 | PASS 38 ]
> 
> proc.time()
   user  system elapsed 
 101.98    7.17  114.95 

Example timings

omada.Rcheck/omada-Ex.timings

nameusersystemelapsed
clusterVoting4.000.534.53
clusteringMethodSelection1.480.071.56
feasibilityAnalysis1.100.041.12
feasibilityAnalysisDataBased3.590.183.79
featureSelection8.110.338.45
get_agreement_scores0.240.000.23
get_average_feature_k_stabilities5.590.335.94
get_average_stabilities_per_k0.870.090.97
get_average_stability0.890.020.91
get_cluster_memberships_k1.000.091.09
get_cluster_voting_k_votes31.36 1.5732.92
get_cluster_voting_memberships33.22 1.7036.05
get_cluster_voting_metric_votes31.10 1.7538.03
get_cluster_voting_scores29.75 1.5831.34
get_feature_selection_optimal_features30.79 1.7532.55
get_feature_selection_optimal_number_of_features43.91 1.9745.87
get_feature_selection_scores46.73 2.5949.33
get_generated_dataset2.750.162.91
get_internal_metric_scores0.990.141.12
get_max_stability1.110.011.13
get_metric_votes_k1.220.061.28
get_optimal_features9.320.479.80
get_optimal_memberships9.500.369.86
get_optimal_number_of_features10.52 0.4610.97
get_optimal_parameter_used9.280.489.76
get_optimal_stability_score8.530.348.88
get_partition_agreement_scores31.19 2.0533.23
get_sample_memberships32.75 1.5834.36
get_vote_frequencies_k1.110.201.31
omada24.08 1.2525.41
optimalClustering0.120.000.12
partitionAgreement0.410.020.43
plot_average_stabilities9.080.539.60
plot_cluster_voting23.87 1.1725.10
plot_feature_selection33.14 1.6634.81
plot_partition_agreement32.78 1.6434.42
plot_vote_frequencies1.600.141.74
toy_gene_memberships0.000.030.04
toy_genes0.010.000.02