Back to Multiple platform build/check report for BioC 3.21: simplified long |
|
This page was generated on 2025-01-28 11:47 -0500 (Tue, 28 Jan 2025).
Hostname | OS | Arch (*) | R version | Installed pkgs |
---|---|---|---|---|
nebbiolo1 | Linux (Ubuntu 24.04.1 LTS) | x86_64 | R Under development (unstable) (2025-01-20 r87609) -- "Unsuffered Consequences" | 4659 |
palomino7 | Windows Server 2022 Datacenter | x64 | R Under development (unstable) (2025-01-21 r87610 ucrt) -- "Unsuffered Consequences" | 4454 |
lconway | macOS 12.7.1 Monterey | x86_64 | R Under development (unstable) (2025-01-22 r87618) -- "Unsuffered Consequences" | 4465 |
kjohnson3 | macOS 13.7.1 Ventura | arm64 | R Under development (unstable) (2025-01-20 r87609) -- "Unsuffered Consequences" | 4419 |
kunpeng2 | Linux (openEuler 22.03 LTS-SP1) | aarch64 | R Under development (unstable) (2024-11-24 r87369) -- "Unsuffered Consequences" | 4409 |
Click on any hostname to see more info about the system (e.g. compilers) (*) as reported by 'uname -p', except on Windows and Mac OS X |
Package 1400/2286 | Hostname | OS / Arch | INSTALL | BUILD | CHECK | BUILD BIN | ||||||||
nearBynding 1.17.0 (landing page) Veronica Busa
| nebbiolo1 | Linux (Ubuntu 24.04.1 LTS) / x86_64 | OK | OK | OK | ![]() | ||||||||
palomino7 | Windows Server 2022 Datacenter / x64 | OK | OK | OK | OK | ![]() | ||||||||
lconway | macOS 12.7.1 Monterey / x86_64 | OK | OK | OK | OK | ![]() | ||||||||
kjohnson3 | macOS 13.7.1 Ventura / arm64 | OK | OK | OK | OK | ![]() | ||||||||
kunpeng2 | Linux (openEuler 22.03 LTS-SP1) / aarch64 | OK | OK | OK | ||||||||||
To the developers/maintainers of the nearBynding package: - Allow up to 24 hours (and sometimes 48 hours) for your latest push to git@git.bioconductor.org:packages/nearBynding.git to reflect on this report. See Troubleshooting Build Report for more information. - Use the following Renviron settings to reproduce errors and warnings. - If 'R CMD check' started to fail recently on the Linux builder(s) over a missing dependency, add the missing dependency to 'Suggests:' in your DESCRIPTION file. See Renviron.bioc for more information. - See Martin Grigorov's blog post for how to debug Linux ARM64 related issues on a x86_64 host. |
Package: nearBynding |
Version: 1.17.0 |
Command: /home/biocbuild/R/R/bin/R CMD check --install=check:nearBynding.install-out.txt --library=/home/biocbuild/R/R/site-library --no-vignettes --timings nearBynding_1.17.0.tar.gz |
StartedAt: 2025-01-28 13:14:21 -0000 (Tue, 28 Jan 2025) |
EndedAt: 2025-01-28 13:22:41 -0000 (Tue, 28 Jan 2025) |
EllapsedTime: 500.1 seconds |
RetCode: 0 |
Status: OK |
CheckDir: nearBynding.Rcheck |
Warnings: 0 |
############################################################################## ############################################################################## ### ### Running command: ### ### /home/biocbuild/R/R/bin/R CMD check --install=check:nearBynding.install-out.txt --library=/home/biocbuild/R/R/site-library --no-vignettes --timings nearBynding_1.17.0.tar.gz ### ############################################################################## ############################################################################## * using log directory ‘/home/biocbuild/bbs-3.21-bioc/meat/nearBynding.Rcheck’ * using R Under development (unstable) (2024-11-24 r87369) * using platform: aarch64-unknown-linux-gnu * R was compiled by aarch64-unknown-linux-gnu-gcc (GCC) 14.2.0 GNU Fortran (GCC) 14.2.0 * running under: openEuler 24.03 (LTS) * using session charset: UTF-8 * using option ‘--no-vignettes’ * checking for file ‘nearBynding/DESCRIPTION’ ... OK * checking extension type ... Package * this is package ‘nearBynding’ version ‘1.17.0’ * package encoding: UTF-8 * checking package namespace information ... OK * checking package dependencies ... OK * checking if this is a source package ... OK * checking if there is a namespace ... OK * checking for hidden files and directories ... OK * checking for portable file names ... OK * checking for sufficient/correct file permissions ... OK * checking whether package ‘nearBynding’ can be installed ... OK * checking installed package size ... INFO installed size is 7.1Mb sub-directories of 1Mb or more: extdata 6.9Mb * checking package directory ... OK * checking ‘build’ directory ... OK * checking DESCRIPTION meta-information ... OK * checking top-level files ... OK * checking for left-over files ... OK * checking index information ... OK * checking package subdirectories ... OK * checking code files for non-ASCII characters ... OK * checking R files for syntax errors ... OK * checking whether the package can be loaded ... OK * checking whether the package can be loaded with stated dependencies ... OK * checking whether the package can be unloaded cleanly ... OK * checking whether the namespace can be loaded with stated dependencies ... OK * checking whether the namespace can be unloaded cleanly ... OK * checking loading without being on the library search path ... OK * checking dependencies in R code ... OK * checking S3 generic/method consistency ... OK * checking replacement functions ... OK * checking foreign function calls ... OK * checking R code for possible problems ... OK * checking Rd files ... OK * checking Rd metadata ... OK * checking Rd cross-references ... OK * checking for missing documentation entries ... OK * checking for code/documentation mismatches ... OK * checking Rd \usage sections ... OK * checking Rd contents ... OK * checking for unstated dependencies in examples ... OK * checking files in ‘vignettes’ ... OK * checking examples ... OK Examples with CPU (user + system) or elapsed time > 5s user system elapsed processCapRout 23.094 0.208 28.867 visualizeStereogene 12.941 0.027 19.015 visualizeCapRStereogene 7.480 0.060 10.717 GenomeMappingToChainFile 5.967 0.175 8.735 liftOverToExomicBG 5.650 0.075 6.890 getChainChrSize 4.797 0.048 6.211 * checking for unstated dependencies in vignettes ... OK * checking package vignettes ... OK * checking running R code from vignettes ... SKIPPED * checking re-building of vignette outputs ... SKIPPED * checking PDF version of manual ... OK * DONE Status: OK
nearBynding.Rcheck/00install.out
############################################################################## ############################################################################## ### ### Running command: ### ### /home/biocbuild/R/R/bin/R CMD INSTALL nearBynding ### ############################################################################## ############################################################################## * installing to library ‘/home/biocbuild/R/R-4.5.0-devel_2024-11-24/site-library’ * installing *source* package ‘nearBynding’ ... ** using staged installation ** R ** inst ** byte-compile and prepare package for lazy loading ** help *** installing help indices ** building package indices ** installing vignettes ** testing if installed package can be loaded from temporary location ** testing if installed package can be loaded from final location ** testing if installed package keeps a record of temporary installation path * DONE (nearBynding)
nearBynding.Rcheck/nearBynding-Ex.timings
name | user | system | elapsed | |
CleanBAMtoBG | 0.042 | 0.000 | 0.093 | |
CleanBEDtoBG | 0.016 | 0.000 | 0.047 | |
ExtractTranscriptomeSequence | 0 | 0 | 0 | |
GenomeMappingToChainFile | 5.967 | 0.175 | 8.735 | |
assessGrouping | 1.579 | 0.016 | 1.711 | |
bindingContextDistance | 0.200 | 0.005 | 0.385 | |
bindingContextDistanceCapR | 0.493 | 0.003 | 0.500 | |
getChainChrSize | 4.797 | 0.048 | 6.211 | |
get_outfiles | 0.008 | 0.000 | 0.030 | |
liftOverToExomicBG | 5.650 | 0.075 | 6.890 | |
nearBynding-package | 0 | 0 | 0 | |
processCapRout | 23.094 | 0.208 | 28.867 | |
runCapR | 0.003 | 0.002 | 0.016 | |
runStereogene | 0.003 | 0.001 | 0.012 | |
runStereogeneOnCapR | 0.020 | 0.000 | 0.063 | |
symmetryCapR | 0.515 | 0.028 | 0.709 | |
symmetryContext | 0.075 | 0.004 | 0.093 | |
visualizeCapRStereogene | 7.480 | 0.060 | 10.717 | |
visualizeStereogene | 12.941 | 0.027 | 19.015 | |
write_config | 0.001 | 0.000 | 0.001 | |
write_fasta | 0.001 | 0.000 | 0.005 | |