Back to Multiple platform build/check report for BioC 3.21: simplified long |
|
This page was generated on 2025-02-15 11:42 -0500 (Sat, 15 Feb 2025).
Hostname | OS | Arch (*) | R version | Installed pkgs |
---|---|---|---|---|
nebbiolo1 | Linux (Ubuntu 24.04.1 LTS) | x86_64 | R Under development (unstable) (2025-01-20 r87609) -- "Unsuffered Consequences" | 4720 |
palomino7 | Windows Server 2022 Datacenter | x64 | R Under development (unstable) (2025-01-21 r87610 ucrt) -- "Unsuffered Consequences" | 4482 |
lconway | macOS 12.7.1 Monterey | x86_64 | R Under development (unstable) (2025-01-22 r87618) -- "Unsuffered Consequences" | 4493 |
kjohnson3 | macOS 13.7.1 Ventura | arm64 | R Under development (unstable) (2025-01-20 r87609) -- "Unsuffered Consequences" | 4446 |
Click on any hostname to see more info about the system (e.g. compilers) (*) as reported by 'uname -p', except on Windows and Mac OS X |
Package 1370/2295 | Hostname | OS / Arch | INSTALL | BUILD | CHECK | BUILD BIN | ||||||||
multicrispr 1.17.1 (landing page) Aditya Bhagwat
| nebbiolo1 | Linux (Ubuntu 24.04.1 LTS) / x86_64 | OK | OK | OK | ![]() | ||||||||
palomino7 | Windows Server 2022 Datacenter / x64 | OK | OK | OK | OK | ![]() | ||||||||
lconway | macOS 12.7.1 Monterey / x86_64 | OK | OK | OK | OK | ![]() | ||||||||
kjohnson3 | macOS 13.7.1 Ventura / arm64 | OK | OK | OK | OK | ![]() | ||||||||
To the developers/maintainers of the multicrispr package: - Allow up to 24 hours (and sometimes 48 hours) for your latest push to git@git.bioconductor.org:packages/multicrispr.git to reflect on this report. See Troubleshooting Build Report for more information. - Use the following Renviron settings to reproduce errors and warnings. - If 'R CMD check' started to fail recently on the Linux builder(s) over a missing dependency, add the missing dependency to 'Suggests:' in your DESCRIPTION file. See Renviron.bioc for more information. |
Package: multicrispr |
Version: 1.17.1 |
Command: /Library/Frameworks/R.framework/Resources/bin/R CMD check --install=check:multicrispr.install-out.txt --library=/Library/Frameworks/R.framework/Resources/library --no-vignettes --timings multicrispr_1.17.1.tar.gz |
StartedAt: 2025-02-14 21:48:35 -0500 (Fri, 14 Feb 2025) |
EndedAt: 2025-02-14 21:55:48 -0500 (Fri, 14 Feb 2025) |
EllapsedTime: 433.3 seconds |
RetCode: 0 |
Status: OK |
CheckDir: multicrispr.Rcheck |
Warnings: 0 |
############################################################################## ############################################################################## ### ### Running command: ### ### /Library/Frameworks/R.framework/Resources/bin/R CMD check --install=check:multicrispr.install-out.txt --library=/Library/Frameworks/R.framework/Resources/library --no-vignettes --timings multicrispr_1.17.1.tar.gz ### ############################################################################## ############################################################################## * using log directory ‘/Users/biocbuild/bbs-3.21-bioc/meat/multicrispr.Rcheck’ * using R Under development (unstable) (2025-01-22 r87618) * using platform: x86_64-apple-darwin20 * R was compiled by Apple clang version 14.0.0 (clang-1400.0.29.202) GNU Fortran (GCC) 14.2.0 * running under: macOS Monterey 12.7.6 * using session charset: UTF-8 * using option ‘--no-vignettes’ * checking for file ‘multicrispr/DESCRIPTION’ ... OK * this is package ‘multicrispr’ version ‘1.17.1’ * package encoding: UTF-8 * checking package namespace information ... OK * checking package dependencies ... OK * checking if this is a source package ... OK * checking if there is a namespace ... OK * checking for hidden files and directories ... OK * checking for portable file names ... OK * checking for sufficient/correct file permissions ... OK * checking whether package ‘multicrispr’ can be installed ... OK * checking installed package size ... OK * checking package directory ... OK * checking ‘build’ directory ... OK * checking DESCRIPTION meta-information ... OK * checking top-level files ... OK * checking for left-over files ... OK * checking index information ... OK * checking package subdirectories ... OK * checking code files for non-ASCII characters ... OK * checking R files for syntax errors ... OK * checking whether the package can be loaded ... OK * checking whether the package can be loaded with stated dependencies ... OK * checking whether the package can be unloaded cleanly ... OK * checking whether the namespace can be loaded with stated dependencies ... OK * checking whether the namespace can be unloaded cleanly ... OK * checking dependencies in R code ... OK * checking S3 generic/method consistency ... OK * checking replacement functions ... OK * checking foreign function calls ... OK * checking R code for possible problems ... OK * checking Rd files ... OK * checking Rd metadata ... OK * checking Rd cross-references ... NOTE Found the following Rd file(s) with Rd \link{} targets missing package anchors: extract_matchranges.Rd: BSgenome Please provide package anchors for all Rd \link{} targets not in the package itself and the base packages. * checking for missing documentation entries ... OK * checking for code/documentation mismatches ... OK * checking Rd \usage sections ... OK * checking Rd contents ... OK * checking for unstated dependencies in examples ... OK * checking files in ‘vignettes’ ... OK * checking examples ... OK Examples with CPU (user + system) or elapsed time > 5s user system elapsed index_genome 22.024 0.357 22.491 score_ontargets 17.574 0.952 18.681 find_primespacers 16.774 1.042 18.015 find_spacers 11.976 0.690 12.809 add_genome_matches 10.500 1.643 12.422 add_target_matches 10.939 0.750 11.807 up_flank 10.827 0.128 11.013 plot_intervals 9.792 0.604 10.511 extend_for_pe 8.208 0.623 8.919 * checking for unstated dependencies in ‘tests’ ... OK * checking tests ... Running ‘testthat.R’ OK * checking for unstated dependencies in vignettes ... OK * checking package vignettes ... OK * checking running R code from vignettes ... SKIPPED * checking re-building of vignette outputs ... SKIPPED * checking PDF version of manual ... OK * DONE Status: 1 NOTE See ‘/Users/biocbuild/bbs-3.21-bioc/meat/multicrispr.Rcheck/00check.log’ for details.
multicrispr.Rcheck/00install.out
############################################################################## ############################################################################## ### ### Running command: ### ### /Library/Frameworks/R.framework/Resources/bin/R CMD INSTALL multicrispr ### ############################################################################## ############################################################################## * installing to library ‘/Library/Frameworks/R.framework/Versions/4.5-x86_64/Resources/library’ * installing *source* package ‘multicrispr’ ... ** this is package ‘multicrispr’ version ‘1.17.1’ ** using staged installation ** R ** inst ** byte-compile and prepare package for lazy loading ** help *** installing help indices ** building package indices ** installing vignettes ** testing if installed package can be loaded from temporary location ** testing if installed package can be loaded from final location ** testing if installed package keeps a record of temporary installation path * DONE (multicrispr)
multicrispr.Rcheck/tests/testthat.Rout
R Under development (unstable) (2025-01-22 r87618) -- "Unsuffered Consequences" Copyright (C) 2025 The R Foundation for Statistical Computing Platform: x86_64-apple-darwin20 R is free software and comes with ABSOLUTELY NO WARRANTY. You are welcome to redistribute it under certain conditions. Type 'license()' or 'licence()' for distribution details. R is a collaborative project with many contributors. Type 'contributors()' for more information and 'citation()' on how to cite R or R packages in publications. Type 'demo()' for some demos, 'help()' for on-line help, or 'help.start()' for an HTML browser interface to help. Type 'q()' to quit R. > library(testthat) > library(multicrispr) > > test_check("multicrispr") [ FAIL 0 | WARN 0 | SKIP 0 | PASS 13 ] > > proc.time() user system elapsed 15.529 1.560 17.184
multicrispr.Rcheck/multicrispr-Ex.timings
name | user | system | elapsed | |
add_genome_matches | 10.500 | 1.643 | 12.422 | |
add_inverse_strand | 2.398 | 0.066 | 2.477 | |
add_seq | 2.689 | 0.224 | 2.937 | |
add_target_matches | 10.939 | 0.750 | 11.807 | |
bed_to_granges | 0.812 | 0.053 | 0.870 | |
char_to_granges | 0.821 | 0.021 | 0.845 | |
double_flank | 3.399 | 0.049 | 3.457 | |
extend_for_pe | 8.208 | 0.623 | 8.919 | |
extend_pe_to_gg | 0.452 | 0.003 | 0.457 | |
extract_matchranges | 2.943 | 0.140 | 3.096 | |
extract_subranges | 0.580 | 0.003 | 0.585 | |
find_gg | 1.100 | 0.064 | 1.171 | |
find_primespacers | 16.774 | 1.042 | 18.015 | |
find_spacers | 11.976 | 0.690 | 12.809 | |
genes_to_granges | 3.519 | 0.138 | 3.690 | |
gr2dt | 0.192 | 0.002 | 0.195 | |
has_been_indexed | 0.000 | 0.001 | 0.001 | |
index_genome | 22.024 | 0.357 | 22.491 | |
index_targets | 2.639 | 0.240 | 2.936 | |
plot_intervals | 9.792 | 0.604 | 10.511 | |
plot_karyogram | 1.327 | 0.071 | 1.406 | |
score_ontargets | 17.574 | 0.952 | 18.681 | |
up_flank | 10.827 | 0.128 | 11.013 | |
write_ranges | 0.175 | 0.002 | 0.179 | |