Back to Multiple platform build/check report for BioC 3.21:   simplified   long
ABCDEFGHIJKL[M]NOPQRSTUVWXYZ

This page was generated on 2025-02-13 11:40 -0500 (Thu, 13 Feb 2025).

HostnameOSArch (*)R versionInstalled pkgs
nebbiolo1Linux (Ubuntu 24.04.1 LTS)x86_64R Under development (unstable) (2025-01-20 r87609) -- "Unsuffered Consequences" 4719
palomino7Windows Server 2022 Datacenterx64R Under development (unstable) (2025-01-21 r87610 ucrt) -- "Unsuffered Consequences" 4481
lconwaymacOS 12.7.1 Montereyx86_64R Under development (unstable) (2025-01-22 r87618) -- "Unsuffered Consequences" 4492
kjohnson3macOS 13.7.1 Venturaarm64R Under development (unstable) (2025-01-20 r87609) -- "Unsuffered Consequences" 4445
Click on any hostname to see more info about the system (e.g. compilers)      (*) as reported by 'uname -p', except on Windows and Mac OS X

Package 1309/2295HostnameOS / ArchINSTALLBUILDCHECKBUILD BIN
monaLisa 1.13.2  (landing page)
Michael Stadler
Snapshot Date: 2025-02-12 13:40 -0500 (Wed, 12 Feb 2025)
git_url: https://git.bioconductor.org/packages/monaLisa
git_branch: devel
git_last_commit: 5f36e73
git_last_commit_date: 2025-01-27 04:05:57 -0500 (Mon, 27 Jan 2025)
nebbiolo1Linux (Ubuntu 24.04.1 LTS) / x86_64  OK    OK    OK  UNNEEDED, same version is already published
palomino7Windows Server 2022 Datacenter / x64  OK    OK    OK    OK  UNNEEDED, same version is already published
lconwaymacOS 12.7.1 Monterey / x86_64  OK    OK    OK    OK  UNNEEDED, same version is already published
kjohnson3macOS 13.7.1 Ventura / arm64  OK    OK    OK    OK  NO, package depends on 'TFBSTools' which is only available as a source package that needs compilation


CHECK results for monaLisa on nebbiolo1

To the developers/maintainers of the monaLisa package:
- Allow up to 24 hours (and sometimes 48 hours) for your latest push to git@git.bioconductor.org:packages/monaLisa.git to reflect on this report. See Troubleshooting Build Report for more information.
- Use the following Renviron settings to reproduce errors and warnings.
- If 'R CMD check' started to fail recently on the Linux builder(s) over a missing dependency, add the missing dependency to 'Suggests:' in your DESCRIPTION file. See Renviron.bioc for more information.

raw results


Summary

Package: monaLisa
Version: 1.13.2
Command: /home/biocbuild/bbs-3.21-bioc/R/bin/R CMD check --install=check:monaLisa.install-out.txt --library=/home/biocbuild/bbs-3.21-bioc/R/site-library --timings monaLisa_1.13.2.tar.gz
StartedAt: 2025-02-13 00:21:57 -0500 (Thu, 13 Feb 2025)
EndedAt: 2025-02-13 00:32:09 -0500 (Thu, 13 Feb 2025)
EllapsedTime: 611.7 seconds
RetCode: 0
Status:   OK  
CheckDir: monaLisa.Rcheck
Warnings: 0

Command output

##############################################################################
##############################################################################
###
### Running command:
###
###   /home/biocbuild/bbs-3.21-bioc/R/bin/R CMD check --install=check:monaLisa.install-out.txt --library=/home/biocbuild/bbs-3.21-bioc/R/site-library --timings monaLisa_1.13.2.tar.gz
###
##############################################################################
##############################################################################


* using log directory ‘/home/biocbuild/bbs-3.21-bioc/meat/monaLisa.Rcheck’
* using R Under development (unstable) (2025-01-20 r87609)
* using platform: x86_64-pc-linux-gnu
* R was compiled by
    gcc (Ubuntu 13.3.0-6ubuntu2~24.04) 13.3.0
    GNU Fortran (Ubuntu 13.3.0-6ubuntu2~24.04) 13.3.0
* running under: Ubuntu 24.04.1 LTS
* using session charset: UTF-8
* checking for file ‘monaLisa/DESCRIPTION’ ... OK
* checking extension type ... Package
* this is package ‘monaLisa’ version ‘1.13.2’
* package encoding: UTF-8
* checking package namespace information ... OK
* checking package dependencies ... OK
* checking if this is a source package ... OK
* checking if there is a namespace ... OK
* checking for hidden files and directories ... OK
* checking for portable file names ... OK
* checking for sufficient/correct file permissions ... OK
* checking whether package ‘monaLisa’ can be installed ... OK
* checking installed package size ... OK
* checking package directory ... OK
* checking ‘build’ directory ... OK
* checking DESCRIPTION meta-information ... OK
* checking top-level files ... OK
* checking for left-over files ... OK
* checking index information ... OK
* checking package subdirectories ... OK
* checking code files for non-ASCII characters ... OK
* checking R files for syntax errors ... OK
* checking whether the package can be loaded ... OK
* checking whether the package can be loaded with stated dependencies ... OK
* checking whether the package can be unloaded cleanly ... OK
* checking whether the namespace can be loaded with stated dependencies ... OK
* checking whether the namespace can be unloaded cleanly ... OK
* checking loading without being on the library search path ... OK
* checking dependencies in R code ... OK
* checking S3 generic/method consistency ... OK
* checking replacement functions ... OK
* checking foreign function calls ... OK
* checking R code for possible problems ... OK
* checking Rd files ... OK
* checking Rd metadata ... OK
* checking Rd cross-references ... OK
* checking for missing documentation entries ... OK
* checking for code/documentation mismatches ... OK
* checking Rd \usage sections ... OK
* checking Rd contents ... OK
* checking for unstated dependencies in examples ... OK
* checking files in ‘vignettes’ ... OK
* checking examples ... OK
Examples with CPU (user + system) or elapsed time > 5s
                   user system elapsed
plotMotifHeatmaps 5.229  0.015   5.245
* checking for unstated dependencies in ‘tests’ ... OK
* checking tests ...
  Running ‘testthat.R’
 OK
* checking for unstated dependencies in vignettes ... OK
* checking package vignettes ... OK
* checking re-building of vignette outputs ... OK
* checking PDF version of manual ... OK
* DONE

Status: OK


Installation output

monaLisa.Rcheck/00install.out

##############################################################################
##############################################################################
###
### Running command:
###
###   /home/biocbuild/bbs-3.21-bioc/R/bin/R CMD INSTALL monaLisa
###
##############################################################################
##############################################################################


* installing to library ‘/home/biocbuild/bbs-3.21-bioc/R/site-library’
* installing *source* package ‘monaLisa’ ...
** this is package ‘monaLisa’ version ‘1.13.2’
** using staged installation
** R
** inst
** byte-compile and prepare package for lazy loading
** help
*** installing help indices
*** copying figures
** building package indices
** installing vignettes
** testing if installed package can be loaded from temporary location
** testing if installed package can be loaded from final location
** testing if installed package keeps a record of temporary installation path
* DONE (monaLisa)

Tests output

monaLisa.Rcheck/tests/testthat.Rout


R Under development (unstable) (2025-01-20 r87609) -- "Unsuffered Consequences"
Copyright (C) 2025 The R Foundation for Statistical Computing
Platform: x86_64-pc-linux-gnu

R is free software and comes with ABSOLUTELY NO WARRANTY.
You are welcome to redistribute it under certain conditions.
Type 'license()' or 'licence()' for distribution details.

R is a collaborative project with many contributors.
Type 'contributors()' for more information and
'citation()' on how to cite R or R packages in publications.

Type 'demo()' for some demos, 'help()' for on-line help, or
'help.start()' for an HTML browser interface to help.
Type 'q()' to quit R.

> library(testthat)
> library(monaLisa)

> 
> test_check("monaLisa")
[ FAIL 0 | WARN 0 | SKIP 1 | PASS 542 ]

══ Skipped tests (1) ═══════════════════════════════════════════════════════════
• empty test (1): 'test_Homer.R:134:1'

[ FAIL 0 | WARN 0 | SKIP 1 | PASS 542 ]
> 
> proc.time()
   user  system elapsed 
 51.484   4.837  54.695 

Example timings

monaLisa.Rcheck/monaLisa-Ex.timings

nameusersystemelapsed
annoSeqlogo0.1530.0070.169
bin0.0070.0010.008
calcBinnedKmerEnr0.6100.0220.632
calcBinnedMotifEnrHomer0.0050.0010.005
calcBinnedMotifEnrR0.6190.0230.642
dumpJaspar0.0230.0050.028
findHomer0.0030.0010.004
findMotifHits-methods0.2590.0490.308
getColsByBin0.0030.0000.003
getKmerFreq0.0300.0050.035
getSetZeroBin0.0020.0000.002
homerToPFMatrixList0.0520.0100.061
motifKmerSimilarity0.0200.0030.023
motifSimilarity0.0070.0030.010
parseHomerOutput0.0090.0010.011
plotBinDensity0.0120.0020.014
plotBinDiagnostics0.6150.0870.704
plotBinHist0.0070.0000.008
plotBinScatter0.0060.0000.006
plotMotifHeatmaps5.2290.0155.245
plotSelectionProb0.8620.0140.876
plotStabilityPaths0.5670.0020.568
prepareHomer0.0450.0040.048
randLassoStabSel0.9030.2881.131
sampleRandomRegions0.3270.1800.053
seqLogoGrob0.1820.0230.207