Back to Multiple platform build/check report for BioC 3.21:   simplified   long
ABCDEFGHIJKL[M]NOPQRSTUVWXYZ

This page was generated on 2025-02-15 11:42 -0500 (Sat, 15 Feb 2025).

HostnameOSArch (*)R versionInstalled pkgs
nebbiolo1Linux (Ubuntu 24.04.1 LTS)x86_64R Under development (unstable) (2025-01-20 r87609) -- "Unsuffered Consequences" 4720
palomino7Windows Server 2022 Datacenterx64R Under development (unstable) (2025-01-21 r87610 ucrt) -- "Unsuffered Consequences" 4482
lconwaymacOS 12.7.1 Montereyx86_64R Under development (unstable) (2025-01-22 r87618) -- "Unsuffered Consequences" 4493
kjohnson3macOS 13.7.1 Venturaarm64R Under development (unstable) (2025-01-20 r87609) -- "Unsuffered Consequences" 4446
Click on any hostname to see more info about the system (e.g. compilers)      (*) as reported by 'uname -p', except on Windows and Mac OS X

Package 1292/2295HostnameOS / ArchINSTALLBUILDCHECKBUILD BIN
mixOmics 6.31.4  (landing page)
Eva Hamrud
Snapshot Date: 2025-02-14 13:40 -0500 (Fri, 14 Feb 2025)
git_url: https://git.bioconductor.org/packages/mixOmics
git_branch: devel
git_last_commit: 2dc5da1
git_last_commit_date: 2025-01-12 21:30:19 -0500 (Sun, 12 Jan 2025)
nebbiolo1Linux (Ubuntu 24.04.1 LTS) / x86_64  OK    OK    OK  UNNEEDED, same version is already published
palomino7Windows Server 2022 Datacenter / x64  OK    OK    OK    OK  UNNEEDED, same version is already published
lconwaymacOS 12.7.1 Monterey / x86_64  OK    OK    OK    OK  UNNEEDED, same version is already published
kjohnson3macOS 13.7.1 Ventura / arm64  OK    OK    OK    OK  UNNEEDED, same version is already published


CHECK results for mixOmics on lconway

To the developers/maintainers of the mixOmics package:
- Allow up to 24 hours (and sometimes 48 hours) for your latest push to git@git.bioconductor.org:packages/mixOmics.git to reflect on this report. See Troubleshooting Build Report for more information.
- Use the following Renviron settings to reproduce errors and warnings.
- If 'R CMD check' started to fail recently on the Linux builder(s) over a missing dependency, add the missing dependency to 'Suggests:' in your DESCRIPTION file. See Renviron.bioc for more information.

raw results


Summary

Package: mixOmics
Version: 6.31.4
Command: /Library/Frameworks/R.framework/Resources/bin/R CMD check --install=check:mixOmics.install-out.txt --library=/Library/Frameworks/R.framework/Resources/library --no-vignettes --timings mixOmics_6.31.4.tar.gz
StartedAt: 2025-02-14 21:35:54 -0500 (Fri, 14 Feb 2025)
EndedAt: 2025-02-14 21:55:32 -0500 (Fri, 14 Feb 2025)
EllapsedTime: 1177.5 seconds
RetCode: 0
Status:   OK  
CheckDir: mixOmics.Rcheck
Warnings: 0

Command output

##############################################################################
##############################################################################
###
### Running command:
###
###   /Library/Frameworks/R.framework/Resources/bin/R CMD check --install=check:mixOmics.install-out.txt --library=/Library/Frameworks/R.framework/Resources/library --no-vignettes --timings mixOmics_6.31.4.tar.gz
###
##############################################################################
##############################################################################


* using log directory ‘/Users/biocbuild/bbs-3.21-bioc/meat/mixOmics.Rcheck’
* using R Under development (unstable) (2025-01-22 r87618)
* using platform: x86_64-apple-darwin20
* R was compiled by
    Apple clang version 14.0.0 (clang-1400.0.29.202)
    GNU Fortran (GCC) 14.2.0
* running under: macOS Monterey 12.7.6
* using session charset: UTF-8
* using option ‘--no-vignettes’
* checking for file ‘mixOmics/DESCRIPTION’ ... OK
* checking extension type ... Package
* this is package ‘mixOmics’ version ‘6.31.4’
* package encoding: UTF-8
* checking package namespace information ... OK
* checking package dependencies ... OK
* checking if this is a source package ... OK
* checking if there is a namespace ... OK
* checking for hidden files and directories ... OK
* checking for portable file names ... OK
* checking for sufficient/correct file permissions ... OK
* checking whether package ‘mixOmics’ can be installed ... OK
* checking installed package size ... INFO
  installed size is  6.9Mb
  sub-directories of 1Mb or more:
    R      2.0Mb
    data   3.3Mb
* checking package directory ... OK
* checking DESCRIPTION meta-information ... OK
* checking top-level files ... OK
* checking for left-over files ... OK
* checking index information ... OK
* checking package subdirectories ... OK
* checking code files for non-ASCII characters ... OK
* checking R files for syntax errors ... OK
* checking whether the package can be loaded ... OK
* checking whether the package can be loaded with stated dependencies ... OK
* checking whether the package can be unloaded cleanly ... OK
* checking whether the namespace can be loaded with stated dependencies ... OK
* checking whether the namespace can be unloaded cleanly ... OK
* checking whether startup messages can be suppressed ... OK
* checking dependencies in R code ... NOTE
Namespace in Imports field not imported from: ‘gsignal’
  All declared Imports should be used.
* checking S3 generic/method consistency ... OK
* checking replacement functions ... OK
* checking foreign function calls ... OK
* checking R code for possible problems ... OK
* checking Rd files ... OK
* checking Rd metadata ... OK
* checking Rd cross-references ... NOTE
Found the following Rd file(s) with Rd \link{} targets missing package
anchors:
  perf.Rd: BiocParallelParam-class
  perf.assess.Rd: BiocParallelParam-class
  rcc.Rd: estimate.lambda
  tune.Rd: BiocParallelParam-class
  tune.block.plsda.Rd: BiocParallelParam-class
  tune.block.splsda.Rd: BiocParallelParam-class
  tune.pls.Rd: BiocParallelParam-class
  tune.plsda.Rd: BiocParallelParam-class
  tune.spca.Rd: BiocParallelParam-class
  tune.spls.Rd: BiocParallelParam-class
  tune.splsda.Rd: BiocParallelParam-class
Please provide package anchors for all Rd \link{} targets not in the
package itself and the base packages.
* checking for missing documentation entries ... OK
* checking for code/documentation mismatches ... OK
* checking Rd \usage sections ... NOTE
S3 methods shown with full name in Rd file 'perf.assess.Rd':
  ‘perf.assess’

The \usage entries for S3 methods should use the \method markup and not
their full name.
See chapter ‘Writing R documentation files’ in the ‘Writing R
Extensions’ manual.
* checking Rd contents ... OK
* checking for unstated dependencies in examples ... OK
* checking contents of ‘data’ directory ... OK
* checking data for non-ASCII characters ... OK
* checking data for ASCII and uncompressed saves ... OK
* checking files in ‘vignettes’ ... OK
* checking examples ... OK
Examples with CPU (user + system) or elapsed time > 5s
                      user system elapsed
tune.spls          215.961  9.155 226.349
tune.splsda         97.652  4.685 102.998
tune.plsda          47.589  2.106  49.981
tune.block.plsda    34.759  0.303  35.368
tune.pls            33.197  1.778  35.188
perf.assess         26.007  0.825  26.978
biplot              13.662  0.098  13.823
tune.block.splsda   13.399  0.172  48.202
background.predict   8.335  1.213   9.653
circosPlot           7.400  0.099   7.566
block.splsda         6.982  0.090   7.115
tune                 5.835  0.335   6.207
block.spls           5.708  0.070   5.811
* checking for unstated dependencies in ‘tests’ ... OK
* checking tests ...
  Running ‘testthat.R’
 OK
* checking for unstated dependencies in vignettes ... OK
* checking package vignettes ... OK
* checking running R code from vignettes ... SKIPPED
* checking re-building of vignette outputs ... SKIPPED
* checking PDF version of manual ... OK
* DONE

Status: 3 NOTEs
See
  ‘/Users/biocbuild/bbs-3.21-bioc/meat/mixOmics.Rcheck/00check.log’
for details.


Installation output

mixOmics.Rcheck/00install.out

##############################################################################
##############################################################################
###
### Running command:
###
###   /Library/Frameworks/R.framework/Resources/bin/R CMD INSTALL mixOmics
###
##############################################################################
##############################################################################


* installing to library ‘/Library/Frameworks/R.framework/Versions/4.5-x86_64/Resources/library’
* installing *source* package ‘mixOmics’ ...
** this is package ‘mixOmics’ version ‘6.31.4’
** using staged installation
** R
** data
** inst
** byte-compile and prepare package for lazy loading
** help
*** installing help indices
** building package indices
** installing vignettes
** testing if installed package can be loaded from temporary location
** testing if installed package can be loaded from final location
** testing if installed package keeps a record of temporary installation path
* DONE (mixOmics)

Tests output

mixOmics.Rcheck/tests/testthat.Rout


R Under development (unstable) (2025-01-22 r87618) -- "Unsuffered Consequences"
Copyright (C) 2025 The R Foundation for Statistical Computing
Platform: x86_64-apple-darwin20

R is free software and comes with ABSOLUTELY NO WARRANTY.
You are welcome to redistribute it under certain conditions.
Type 'license()' or 'licence()' for distribution details.

R is a collaborative project with many contributors.
Type 'contributors()' for more information and
'citation()' on how to cite R or R packages in publications.

Type 'demo()' for some demos, 'help()' for on-line help, or
'help.start()' for an HTML browser interface to help.
Type 'q()' to quit R.

> library(testthat)
> library(mixOmics)
Loading required package: MASS
Loading required package: lattice
Loading required package: ggplot2

Loaded mixOmics 6.31.4
Thank you for using mixOmics!
Tutorials: http://mixomics.org
Bookdown vignette: https://mixomicsteam.github.io/Bookdown
Questions, issues: Follow the prompts at http://mixomics.org/contact-us
Cite us:  citation('mixOmics')

> 
> test_check("mixOmics")
2025-02-14 21:48:39.352 R[60059:180218074] XType: com.apple.fonts is not accessible.
2025-02-14 21:48:39.352 R[60059:180218074] XType: XTFontStaticRegistry is enabled.
[1] "test.keepX is set to NULL, tuning only for number of components..."
[1] "test.keepX is set to NULL, tuning only for number of components..."
[1] "test.keepX set to NULL, tuning only for number of components..."
[1] "test.keepX and test.keepY are set to NULL, tuning only for number of components..."
[1] "test.keepX and test.keepY are set to NULL, tuning only for number of components..."
[1] "test.keepX and test.keepY are set to NULL, tuning only for number of components..."
[1] "test.keepX set to NULL, tuning only for number of components..."
[ FAIL 0 | WARN 3 | SKIP 0 | PASS 571 ]

[ FAIL 0 | WARN 3 | SKIP 0 | PASS 571 ]
> 
> proc.time()
   user  system elapsed 
239.561  11.976 413.112 

Example timings

mixOmics.Rcheck/mixOmics-Ex.timings

nameusersystemelapsed
S3methods-print0.0180.0040.023
auroc1.0800.0481.134
background.predict8.3351.2139.653
biplot13.662 0.09813.823
block.pls0.4920.0090.503
block.plsda0.7000.0110.719
block.spls5.7080.0705.811
block.splsda6.9820.0907.115
cim0.0350.0050.040
cimDiablo0.2560.0090.267
circosPlot7.4000.0997.566
colors0.0270.0010.029
explained_variance0.0830.0030.087
get.confusion_matrix0.1570.0070.164
image.tune.rcc2.3750.0472.434
imgCor0.0720.0100.083
impute.nipals0.0180.0040.023
ipca0.8150.0190.842
logratio-transformations0.3200.0150.339
map0.0040.0040.009
mat.rank0.0020.0010.003
mint.block.pls0.1230.0110.139
mint.block.plsda0.0940.0060.102
mint.block.spls0.1260.0090.137
mint.block.splsda0.0960.0060.101
mint.pca0.4470.0090.461
mint.pls0.5350.0090.550
mint.plsda0.6690.0110.685
mint.spls0.5230.0070.534
mint.splsda0.6520.0170.675
mixOmics0.3010.0200.322
nearZeroVar0.6680.0200.691
network0.0140.0030.017
pca4.6010.0494.680
perf2.4930.1032.609
perf.assess26.007 0.82526.978
plot.rcc0.0160.0050.020
plot.tune0.0010.0020.002
plotArrow4.0040.0664.096
plotDiablo0.1330.0050.139
plotIndiv0.3250.0110.337
plotLoadings0.0980.0070.107
plotMarkers000
plotVar0.8300.0260.859
pls0.0050.0010.006
plsda0.3580.0080.367
predict0.1500.0070.157
rcc0.0030.0020.004
selectVar0.3450.0270.373
sipca0.4810.0230.506
spca2.9660.0993.079
spls0.1920.0120.204
splsda0.4130.0260.443
study_split0.0040.0010.005
summary0.0160.0040.020
tune5.8350.3356.207
tune.block.plsda34.759 0.30335.368
tune.block.splsda13.399 0.17248.202
tune.mint.plsda0.8630.0190.884
tune.mint.splsda3.5330.1383.691
tune.pca0.7910.0180.813
tune.pls33.197 1.77835.188
tune.plsda47.589 2.10649.981
tune.rcc2.3850.0572.451
tune.spca0.7210.0160.744
tune.spls215.961 9.155226.349
tune.splsda 97.652 4.685102.998
unmap0.0050.0060.012
vip0.0100.0040.015
withinVariation1.0160.0121.032
wrapper.rgcca0.0590.0040.063
wrapper.sgcca0.1190.0060.126