| Back to Multiple platform build/check report for BioC 3.21: simplified long |
|
This page was generated on 2025-08-18 11:42 -0400 (Mon, 18 Aug 2025).
| Hostname | OS | Arch (*) | R version | Installed pkgs |
|---|---|---|---|---|
| nebbiolo1 | Linux (Ubuntu 24.04.3 LTS) | x86_64 | 4.5.1 (2025-06-13) -- "Great Square Root" | 4824 |
| palomino7 | Windows Server 2022 Datacenter | x64 | 4.5.1 (2025-06-13 ucrt) -- "Great Square Root" | 4566 |
| merida1 | macOS 12.7.5 Monterey | x86_64 | 4.5.1 RC (2025-06-05 r88288) -- "Great Square Root" | 4604 |
| kjohnson1 | macOS 13.6.6 Ventura | arm64 | 4.5.1 Patched (2025-06-14 r88325) -- "Great Square Root" | 4545 |
| kunpeng2 | Linux (openEuler 24.03 LTS) | aarch64 | R Under development (unstable) (2025-02-19 r87757) -- "Unsuffered Consequences" | 4579 |
| Click on any hostname to see more info about the system (e.g. compilers) (*) as reported by 'uname -p', except on Windows and Mac OS X | ||||
| Package 1283/2341 | Hostname | OS / Arch | INSTALL | BUILD | CHECK | BUILD BIN | ||||||||
| microRNA 1.66.0 (landing page) "Michael Lawrence"
| nebbiolo1 | Linux (Ubuntu 24.04.3 LTS) / x86_64 | OK | OK | OK | |||||||||
| palomino7 | Windows Server 2022 Datacenter / x64 | OK | OK | OK | OK | |||||||||
| merida1 | macOS 12.7.5 Monterey / x86_64 | OK | OK | OK | OK | |||||||||
| kjohnson1 | macOS 13.6.6 Ventura / arm64 | OK | OK | OK | OK | |||||||||
| kunpeng2 | Linux (openEuler 24.03 LTS) / aarch64 | OK | OK | OK | ||||||||||
|
To the developers/maintainers of the microRNA package: - Allow up to 24 hours (and sometimes 48 hours) for your latest push to git@git.bioconductor.org:packages/microRNA.git to reflect on this report. See Troubleshooting Build Report for more information. - Use the following Renviron settings to reproduce errors and warnings. - If 'R CMD check' started to fail recently on the Linux builder(s) over a missing dependency, add the missing dependency to 'Suggests:' in your DESCRIPTION file. See Renviron.bioc for more information. |
| Package: microRNA |
| Version: 1.66.0 |
| Command: rm -rf microRNA.buildbin-libdir && mkdir microRNA.buildbin-libdir && E:\biocbuild\bbs-3.21-bioc\R\bin\R.exe CMD INSTALL --build --library=microRNA.buildbin-libdir microRNA_1.66.0.tar.gz |
| StartedAt: 2025-08-15 09:42:12 -0400 (Fri, 15 Aug 2025) |
| EndedAt: 2025-08-15 09:42:34 -0400 (Fri, 15 Aug 2025) |
| EllapsedTime: 21.6 seconds |
| RetCode: 0 |
| Status: OK |
| PackageFile: microRNA_1.66.0.zip |
| PackageFileSize: 5.838 MiB |
##############################################################################
##############################################################################
###
### Running command:
###
### rm -rf microRNA.buildbin-libdir && mkdir microRNA.buildbin-libdir && E:\biocbuild\bbs-3.21-bioc\R\bin\R.exe CMD INSTALL --build --library=microRNA.buildbin-libdir microRNA_1.66.0.tar.gz
###
##############################################################################
##############################################################################
* installing *source* package 'microRNA' ...
** this is package 'microRNA' version '1.66.0'
** using staged installation
** libs
using C++ compiler: 'G__~1.EXE (GCC) 14.2.0'
g++ -std=gnu++17 -I"E:/biocbuild/bbs-3.21-bioc/R/include" -DNDEBUG -I"C:/rtools45/x86_64-w64-mingw32.static.posix/include" -O2 -Wall -mfpmath=sse -msse2 -mstackrealign -c longest_common_substring.cpp -o longest_common_substring.o
longest_common_substring.cpp: In function 'SEXPREC* longest_common_substring(SEXP)':
longest_common_substring.cpp:55:15: warning: comparison of integer expressions of different signedness: 'size_t' {aka 'long long unsigned int'} and '__gnu_cxx::__alloc_traits<std::allocator<int>, int>::value_type' {aka 'int'} [-Wsign-compare]
55 | if (i == len[index] - 1) { // ignore null termination character
| ~~^~~~~~~~~~~~~~~~~
g++ -std=gnu++17 -shared -s -static-libgcc -o microRNA.dll tmp.def longest_common_substring.o -LC:/rtools45/x86_64-w64-mingw32.static.posix/lib/x64 -LC:/rtools45/x86_64-w64-mingw32.static.posix/lib -LE:/biocbuild/bbs-3.21-bioc/R/bin/x64 -lR
installing to E:/biocbuild/bbs-3.21-bioc/meat/microRNA.buildbin-libdir/00LOCK-microRNA/00new/microRNA/libs/x64
** R
** data
** inst
** byte-compile and prepare package for lazy loading
** help
*** installing help indices
** building package indices
** testing if installed package can be loaded from temporary location
** testing if installed package can be loaded from final location
** testing if installed package keeps a record of temporary installation path
* MD5 sums
packaged installation of 'microRNA' as microRNA_1.66.0.zip
* DONE (microRNA)