| Back to Multiple platform build/check report for BioC 3.21: simplified long | 
 | 
This page was generated on 2025-04-22 13:16 -0400 (Tue, 22 Apr 2025).
| Hostname | OS | Arch (*) | R version | Installed pkgs | 
|---|---|---|---|---|
| nebbiolo1 | Linux (Ubuntu 24.04.1 LTS) | x86_64 | 4.5.0 RC (2025-04-04 r88126) -- "How About a Twenty-Six" | 4831 | 
| palomino7 | Windows Server 2022 Datacenter | x64 | 4.5.0 RC (2025-04-04 r88126 ucrt) -- "How About a Twenty-Six" | 4573 | 
| lconway | macOS 12.7.1 Monterey | x86_64 | 4.5.0 RC (2025-04-04 r88126) -- "How About a Twenty-Six" | 4599 | 
| kjohnson3 | macOS 13.7.1 Ventura | arm64 | 4.5.0 RC (2025-04-04 r88126) -- "How About a Twenty-Six" | 4553 | 
| kunpeng2 | Linux (openEuler 24.03 LTS) | aarch64 | R Under development (unstable) (2025-02-19 r87757) -- "Unsuffered Consequences" | 4570 | 
| Click on any hostname to see more info about the system (e.g. compilers) (*) as reported by 'uname -p', except on Windows and Mac OS X | ||||
| Package 1233/2341 | Hostname | OS / Arch | INSTALL | BUILD | CHECK | BUILD BIN | ||||||||
| metagenomeSeq 1.50.0  (landing page) Joseph N. Paulson 
 | nebbiolo1 | Linux (Ubuntu 24.04.1 LTS) / x86_64 | OK | OK | OK |  | ||||||||
| palomino7 | Windows Server 2022 Datacenter / x64 | OK | OK | OK | OK |  | ||||||||
| lconway | macOS 12.7.1 Monterey / x86_64 | OK | OK | OK | OK |  | ||||||||
| kjohnson3 | macOS 13.7.1 Ventura / arm64 | OK | OK | OK | OK |  | ||||||||
| kunpeng2 | Linux (openEuler 24.03 LTS) / aarch64 | OK | OK | OK | ||||||||||
| To the developers/maintainers of the metagenomeSeq package: - Allow up to 24 hours (and sometimes 48 hours) for your latest push to git@git.bioconductor.org:packages/metagenomeSeq.git to reflect on this report. See Troubleshooting Build Report for more information. - Use the following Renviron settings to reproduce errors and warnings. - If 'R CMD check' started to fail recently on the Linux builder(s) over a missing dependency, add the missing dependency to 'Suggests:' in your DESCRIPTION file. See Renviron.bioc for more information. | 
| Package: metagenomeSeq | 
| Version: 1.50.0 | 
| Command: /Library/Frameworks/R.framework/Resources/bin/R CMD check --install=check:metagenomeSeq.install-out.txt --library=/Library/Frameworks/R.framework/Resources/library --no-vignettes --timings metagenomeSeq_1.50.0.tar.gz | 
| StartedAt: 2025-04-21 21:45:35 -0400 (Mon, 21 Apr 2025) | 
| EndedAt: 2025-04-21 21:49:37 -0400 (Mon, 21 Apr 2025) | 
| EllapsedTime: 242.0 seconds | 
| RetCode: 0 | 
| Status: OK | 
| CheckDir: metagenomeSeq.Rcheck | 
| Warnings: 0 | 
##############################################################################
##############################################################################
###
### Running command:
###
###   /Library/Frameworks/R.framework/Resources/bin/R CMD check --install=check:metagenomeSeq.install-out.txt --library=/Library/Frameworks/R.framework/Resources/library --no-vignettes --timings metagenomeSeq_1.50.0.tar.gz
###
##############################################################################
##############################################################################
* using log directory ‘/Users/biocbuild/bbs-3.21-bioc/meat/metagenomeSeq.Rcheck’
* using R version 4.5.0 RC (2025-04-04 r88126)
* using platform: x86_64-apple-darwin20
* R was compiled by
    Apple clang version 14.0.0 (clang-1400.0.29.202)
    GNU Fortran (GCC) 14.2.0
* running under: macOS Monterey 12.7.6
* using session charset: UTF-8
* using option ‘--no-vignettes’
* checking for file ‘metagenomeSeq/DESCRIPTION’ ... OK
* this is package ‘metagenomeSeq’ version ‘1.50.0’
* checking package namespace information ... OK
* checking package dependencies ... OK
* checking if this is a source package ... OK
* checking if there is a namespace ... OK
* checking for hidden files and directories ... OK
* checking for portable file names ... OK
* checking for sufficient/correct file permissions ... OK
* checking whether package ‘metagenomeSeq’ can be installed ... OK
* checking installed package size ... OK
* checking package directory ... OK
* checking ‘build’ directory ... OK
* checking DESCRIPTION meta-information ... OK
* checking top-level files ... OK
* checking for left-over files ... OK
* checking index information ... OK
* checking package subdirectories ... OK
* checking code files for non-ASCII characters ... OK
* checking R files for syntax errors ... OK
* checking whether the package can be loaded ... OK
* checking whether the package can be loaded with stated dependencies ... OK
* checking whether the package can be unloaded cleanly ... OK
* checking whether the namespace can be loaded with stated dependencies ... OK
* checking whether the namespace can be unloaded cleanly ... OK
* checking dependencies in R code ... OK
* checking S3 generic/method consistency ... OK
* checking replacement functions ... OK
* checking foreign function calls ... OK
* checking R code for possible problems ... OK
* checking Rd files ... OK
* checking Rd metadata ... OK
* checking Rd cross-references ... OK
* checking for missing documentation entries ... OK
* checking for code/documentation mismatches ... OK
* checking Rd \usage sections ... OK
* checking Rd contents ... OK
* checking for unstated dependencies in examples ... OK
* checking contents of ‘data’ directory ... OK
* checking data for non-ASCII characters ... OK
* checking data for ASCII and uncompressed saves ... OK
* checking sizes of PDF files under ‘inst/doc’ ... OK
* checking files in ‘vignettes’ ... OK
* checking examples ... OK
Examples with CPU (user + system) or elapsed time > 5s
              user system elapsed
wrenchNorm  13.013  1.015  14.128
MRfulltable  0.990  0.038   5.728
* checking for unstated dependencies in ‘tests’ ... OK
* checking tests ...
  Running ‘testthat.R’
 OK
* checking for unstated dependencies in vignettes ... OK
* checking package vignettes ... OK
* checking running R code from vignettes ... SKIPPED
* checking re-building of vignette outputs ... SKIPPED
* checking PDF version of manual ... OK
* DONE
Status: OK
metagenomeSeq.Rcheck/00install.out
############################################################################## ############################################################################## ### ### Running command: ### ### /Library/Frameworks/R.framework/Resources/bin/R CMD INSTALL metagenomeSeq ### ############################################################################## ############################################################################## * installing to library ‘/Library/Frameworks/R.framework/Versions/4.5-x86_64/Resources/library’ * installing *source* package ‘metagenomeSeq’ ... ** this is package ‘metagenomeSeq’ version ‘1.50.0’ ** using staged installation ** R ** data ** inst ** byte-compile and prepare package for lazy loading in method for ‘MRihw’ with signature ‘"fitFeatureModelResults"’: no definition for class “fitFeatureModelResults” in method for ‘MRihw’ with signature ‘"fitZigResults"’: no definition for class “fitZigResults” ** help *** installing help indices ** building package indices ** installing vignettes ** testing if installed package can be loaded from temporary location ** testing if installed package can be loaded from final location ** testing if installed package keeps a record of temporary installation path * DONE (metagenomeSeq)
metagenomeSeq.Rcheck/tests/testthat.Rout
R version 4.5.0 RC (2025-04-04 r88126) -- "How About a Twenty-Six"
Copyright (C) 2025 The R Foundation for Statistical Computing
Platform: x86_64-apple-darwin20
R is free software and comes with ABSOLUTELY NO WARRANTY.
You are welcome to redistribute it under certain conditions.
Type 'license()' or 'licence()' for distribution details.
R is a collaborative project with many contributors.
Type 'contributors()' for more information and
'citation()' on how to cite R or R packages in publications.
Type 'demo()' for some demos, 'help()' for on-line help, or
'help.start()' for an HTML browser interface to help.
Type 'q()' to quit R.
> library("testthat")
> packageVersion("metagenomeSeq")
[1] '1.50.0'
> # As suggested for opt-out option on testing by users, 
> # recommended by CRAN: http://adv-r.had.co.nz/Testing.html
> # Previously, best practice was to put all test files in inst/tests 
> # and ensure that R CMD check ran them by putting the following code in tests/test-all.R:  
> # >library(testthat)
> # >library(yourpackage)
> # >test_package("yourpackage")
> # Now, recommended practice is to put your tests in tests/testthat, 
> # and ensure R CMD check runs them by putting the following code in tests/test-all.R:
> # >library(testthat)
> # >test_check("yourpackage")
> # The advantage of this new structure is that the user has control over whether or not tests are installed using the –install-tests parameter to 
> # R CMD install, or INSTALL_opts = c(“–install-tests”) argument to install.packages(). I’m not sure why you wouldn’t want to install the tests, 
> # but now you have the flexibility as requested by CRAN maintainers.
> test_check("metagenomeSeq")
Loading required package: metagenomeSeq
Loading required package: Biobase
Loading required package: BiocGenerics
Loading required package: generics
Attaching package: 'generics'
The following objects are masked from 'package:base':
    as.difftime, as.factor, as.ordered, intersect, is.element, setdiff,
    setequal, union
Attaching package: 'BiocGenerics'
The following objects are masked from 'package:stats':
    IQR, mad, sd, var, xtabs
The following objects are masked from 'package:base':
    Filter, Find, Map, Position, Reduce, anyDuplicated, aperm, append,
    as.data.frame, basename, cbind, colnames, dirname, do.call,
    duplicated, eval, evalq, get, grep, grepl, is.unsorted, lapply,
    mapply, match, mget, order, paste, pmax, pmax.int, pmin, pmin.int,
    rank, rbind, rownames, sapply, saveRDS, table, tapply, unique,
    unsplit, which.max, which.min
Welcome to Bioconductor
    Vignettes contain introductory material; view with
    'browseVignettes()'. To cite Bioconductor, see
    'citation("Biobase")', and for packages 'citation("pkgname")'.
Loading required package: limma
Attaching package: 'limma'
The following object is masked from 'package:BiocGenerics':
    plotMA
Loading required package: glmnet
Loading required package: Matrix
Loaded glmnet 4.1-8
Loading required package: RColorBrewer
[ FAIL 0 | WARN 6 | SKIP 0 | PASS 15 ]
[ FAIL 0 | WARN 6 | SKIP 0 | PASS 15 ]
> 
> proc.time()
   user  system elapsed 
 88.176   6.477  95.259 
metagenomeSeq.Rcheck/metagenomeSeq-Ex.timings
| name | user | system | elapsed | |
| MRcoefs | 1.234 | 0.058 | 1.300 | |
| MRcounts | 0.523 | 0.014 | 0.539 | |
| MRexperiment-class | 0 | 0 | 0 | |
| MRfulltable | 0.990 | 0.038 | 5.728 | |
| MRtable | 1.024 | 0.016 | 1.045 | |
| aggregateBySample | 0.157 | 0.013 | 0.170 | |
| aggregateByTaxonomy | 0.166 | 0.012 | 0.178 | |
| biom2MRexperiment | 0.233 | 0.014 | 0.249 | |
| calcNormFactors | 0.643 | 0.090 | 0.737 | |
| correctIndices | 0.103 | 0.007 | 0.111 | |
| correlationTest | 0.200 | 0.021 | 0.221 | |
| cumNorm | 0.415 | 0.079 | 0.497 | |
| cumNormMat | 0.438 | 0.076 | 0.517 | |
| cumNormStat | 0.619 | 0.062 | 0.690 | |
| cumNormStatFast | 0.290 | 0.026 | 0.317 | |
| expSummary | 0.094 | 0.009 | 0.102 | |
| exportMat | 1.296 | 2.583 | 3.902 | |
| exportStats | 0.440 | 0.019 | 0.461 | |
| extractMR | 1.004 | 1.154 | 2.177 | |
| filterData | 0.163 | 0.015 | 0.181 | |
| fitDO | 0.472 | 0.019 | 3.201 | |
| fitFeatureModel | 1.105 | 0.047 | 1.156 | |
| fitLogNormal | 1.834 | 0.135 | 1.980 | |
| fitMultipleTimeSeries | 1.614 | 0.152 | 1.776 | |
| fitPA | 0.653 | 0.065 | 3.324 | |
| fitSSTimeSeries | 0.393 | 0.026 | 0.423 | |
| fitTimeSeries | 0.393 | 0.018 | 0.413 | |
| fitZig | 1.683 | 0.128 | 1.823 | |
| libSize-set | 0.395 | 0.035 | 0.431 | |
| libSize | 0.362 | 0.018 | 0.382 | |
| loadBiom | 0.039 | 0.001 | 0.041 | |
| loadMeta | 0.019 | 0.002 | 0.021 | |
| loadMetaQ | 0.000 | 0.001 | 0.000 | |
| loadPhenoData | 0.009 | 0.001 | 0.011 | |
| makeLabels | 0 | 0 | 0 | |
| mergeMRexperiments | 1.604 | 0.174 | 1.787 | |
| newMRexperiment | 0.035 | 0.000 | 0.035 | |
| normFactors-set | 0.369 | 0.030 | 0.401 | |
| normFactors | 0.336 | 0.007 | 0.346 | |
| plotBubble | 0.253 | 0.022 | 2.819 | |
| plotClassTimeSeries | 1.000 | 0.153 | 1.159 | |
| plotCorr | 0.423 | 0.023 | 0.450 | |
| plotFeature | 0.150 | 0.012 | 0.164 | |
| plotGenus | 0.131 | 0.022 | 0.153 | |
| plotMRheatmap | 1.786 | 0.072 | 1.868 | |
| plotOTU | 0.124 | 0.014 | 0.139 | |
| plotOrd | 0.216 | 0.020 | 0.236 | |
| plotRare | 0.130 | 0.013 | 0.142 | |
| plotTimeSeries | 0.971 | 0.132 | 1.112 | |
| posteriorProbs | 1.690 | 0.131 | 1.833 | |
| returnAppropriateObj | 0.339 | 0.013 | 0.353 | |
| ssFit | 0 | 0 | 0 | |
| ssIntervalCandidate | 0 | 0 | 0 | |
| ssPerm | 0 | 0 | 0 | |
| ssPermAnalysis | 0 | 0 | 0 | |
| trapz | 0.001 | 0.000 | 0.000 | |
| ts2MRexperiment | 1.561 | 0.194 | 1.769 | |
| uniqueFeatures | 0.102 | 0.010 | 0.112 | |
| wrenchNorm | 13.013 | 1.015 | 14.128 | |
| zigControl | 0.001 | 0.000 | 0.000 | |