Back to Multiple platform build/check report for BioC 3.21: simplified long |
|
This page was generated on 2025-02-13 11:39 -0500 (Thu, 13 Feb 2025).
Hostname | OS | Arch (*) | R version | Installed pkgs |
---|---|---|---|---|
nebbiolo1 | Linux (Ubuntu 24.04.1 LTS) | x86_64 | R Under development (unstable) (2025-01-20 r87609) -- "Unsuffered Consequences" | 4719 |
palomino7 | Windows Server 2022 Datacenter | x64 | R Under development (unstable) (2025-01-21 r87610 ucrt) -- "Unsuffered Consequences" | 4481 |
lconway | macOS 12.7.1 Monterey | x86_64 | R Under development (unstable) (2025-01-22 r87618) -- "Unsuffered Consequences" | 4492 |
kjohnson3 | macOS 13.7.1 Ventura | arm64 | R Under development (unstable) (2025-01-20 r87609) -- "Unsuffered Consequences" | 4445 |
Click on any hostname to see more info about the system (e.g. compilers) (*) as reported by 'uname -p', except on Windows and Mac OS X |
Package 1157/2295 | Hostname | OS / Arch | INSTALL | BUILD | CHECK | BUILD BIN | ||||||||
maser 1.25.0 (landing page) Diogo F.T. Veiga
| nebbiolo1 | Linux (Ubuntu 24.04.1 LTS) / x86_64 | OK | OK | OK | ![]() | ||||||||
palomino7 | Windows Server 2022 Datacenter / x64 | OK | OK | OK | OK | ![]() | ||||||||
lconway | macOS 12.7.1 Monterey / x86_64 | OK | OK | OK | OK | ![]() | ||||||||
kjohnson3 | macOS 13.7.1 Ventura / arm64 | OK | OK | OK | OK | ![]() | ||||||||
To the developers/maintainers of the maser package: - Allow up to 24 hours (and sometimes 48 hours) for your latest push to git@git.bioconductor.org:packages/maser.git to reflect on this report. See Troubleshooting Build Report for more information. - Use the following Renviron settings to reproduce errors and warnings. - If 'R CMD check' started to fail recently on the Linux builder(s) over a missing dependency, add the missing dependency to 'Suggests:' in your DESCRIPTION file. See Renviron.bioc for more information. |
Package: maser |
Version: 1.25.0 |
Command: /home/biocbuild/bbs-3.21-bioc/R/bin/R CMD check --install=check:maser.install-out.txt --library=/home/biocbuild/bbs-3.21-bioc/R/site-library --timings maser_1.25.0.tar.gz |
StartedAt: 2025-02-12 23:46:04 -0500 (Wed, 12 Feb 2025) |
EndedAt: 2025-02-12 23:54:20 -0500 (Wed, 12 Feb 2025) |
EllapsedTime: 495.6 seconds |
RetCode: 0 |
Status: OK |
CheckDir: maser.Rcheck |
Warnings: 0 |
############################################################################## ############################################################################## ### ### Running command: ### ### /home/biocbuild/bbs-3.21-bioc/R/bin/R CMD check --install=check:maser.install-out.txt --library=/home/biocbuild/bbs-3.21-bioc/R/site-library --timings maser_1.25.0.tar.gz ### ############################################################################## ############################################################################## * using log directory ‘/home/biocbuild/bbs-3.21-bioc/meat/maser.Rcheck’ * using R Under development (unstable) (2025-01-20 r87609) * using platform: x86_64-pc-linux-gnu * R was compiled by gcc (Ubuntu 13.3.0-6ubuntu2~24.04) 13.3.0 GNU Fortran (Ubuntu 13.3.0-6ubuntu2~24.04) 13.3.0 * running under: Ubuntu 24.04.1 LTS * using session charset: UTF-8 * checking for file ‘maser/DESCRIPTION’ ... OK * checking extension type ... Package * this is package ‘maser’ version ‘1.25.0’ * package encoding: UTF-8 * checking package namespace information ... OK * checking package dependencies ... OK * checking if this is a source package ... OK * checking if there is a namespace ... OK * checking for hidden files and directories ... OK * checking for portable file names ... OK * checking for sufficient/correct file permissions ... OK * checking whether package ‘maser’ can be installed ... OK * checking installed package size ... OK * checking package directory ... OK * checking ‘build’ directory ... OK * checking DESCRIPTION meta-information ... OK * checking top-level files ... OK * checking for left-over files ... OK * checking index information ... OK * checking package subdirectories ... OK * checking code files for non-ASCII characters ... OK * checking R files for syntax errors ... OK * checking whether the package can be loaded ... OK * checking whether the package can be loaded with stated dependencies ... OK * checking whether the package can be unloaded cleanly ... OK * checking whether the namespace can be loaded with stated dependencies ... OK * checking whether the namespace can be unloaded cleanly ... OK * checking loading without being on the library search path ... OK * checking whether startup messages can be suppressed ... OK * checking dependencies in R code ... OK * checking S3 generic/method consistency ... OK * checking replacement functions ... OK * checking foreign function calls ... OK * checking R code for possible problems ... NOTE availableFeaturesUniprotKB: no visible global function definition for 'read.csv' availableFeaturesUniprotKB: no visible binding for global variable 'Category' availableFeaturesUniprotKB: no visible binding for global variable 'Name' filterByIds: no visible binding for global variable 'ID' mapTranscriptsA3SSevent: no visible global function definition for 'subjectHits' mapTranscriptsA5SSevent: no visible global function definition for 'subjectHits' mapTranscriptsMXEevent: no visible global function definition for 'subjectHits' mapTranscriptsRIevent: no visible global function definition for 'subjectHits' mapTranscriptsSEevent: no visible global function definition for 'subjectHits' overlappingFeatures: no visible global function definition for 'subjectHits' urlTracksUniprotKB: no visible global function definition for 'read.csv' Undefined global functions or variables: Category ID Name read.csv subjectHits Consider adding importFrom("utils", "read.csv") to your NAMESPACE file. * checking Rd files ... OK * checking Rd metadata ... OK * checking Rd cross-references ... OK * checking for missing documentation entries ... OK * checking for code/documentation mismatches ... OK * checking Rd \usage sections ... OK * checking Rd contents ... OK * checking for unstated dependencies in examples ... OK * checking R/sysdata.rda ... OK * checking files in ‘vignettes’ ... OK * checking examples ... OK Examples with CPU (user + system) or elapsed time > 5s user system elapsed plotTranscripts 7.507 0.739 8.246 plotUniprotKBFeatures 6.113 0.451 7.494 mapProteinFeaturesToEvents 4.844 0.514 6.572 * checking for unstated dependencies in vignettes ... OK * checking package vignettes ... OK * checking re-building of vignette outputs ... OK * checking PDF version of manual ... OK * DONE Status: 1 NOTE See ‘/home/biocbuild/bbs-3.21-bioc/meat/maser.Rcheck/00check.log’ for details.
maser.Rcheck/00install.out
############################################################################## ############################################################################## ### ### Running command: ### ### /home/biocbuild/bbs-3.21-bioc/R/bin/R CMD INSTALL maser ### ############################################################################## ############################################################################## * installing to library ‘/home/biocbuild/bbs-3.21-bioc/R/site-library’ * installing *source* package ‘maser’ ... ** this is package ‘maser’ version ‘1.25.0’ ** using staged installation ** R ** inst ** byte-compile and prepare package for lazy loading ** help *** installing help indices ** building package indices ** installing vignettes ** testing if installed package can be loaded from temporary location ** testing if installed package can be loaded from final location ** testing if installed package keeps a record of temporary installation path * DONE (maser)
maser.Rcheck/maser-Ex.timings
name | user | system | elapsed | |
PSI-Maser-character-method | 0.573 | 0.012 | 0.591 | |
PSI | 0.464 | 0.043 | 0.508 | |
annotation-Maser-method | 0.455 | 0.002 | 0.458 | |
availableFeaturesUniprotKB | 0.069 | 0.001 | 0.193 | |
boxplot_PSI_levels | 2.411 | 0.006 | 2.417 | |
counts-Maser-method | 0.472 | 0.001 | 0.473 | |
display | 1.407 | 0.158 | 1.566 | |
dotplot | 1.125 | 0.001 | 1.126 | |
filterByCoverage | 0.817 | 0.018 | 0.835 | |
filterByEventId | 0.724 | 0.007 | 0.732 | |
geneEvents | 0.801 | 0.003 | 0.804 | |
granges-Maser-method | 0.580 | 0.013 | 0.594 | |
mapProteinFeaturesToEvents | 4.844 | 0.514 | 6.572 | |
mapTranscriptsToEvents | 1.498 | 0.093 | 1.591 | |
maser | 0.589 | 0.069 | 0.658 | |
pca | 1.029 | 0.076 | 1.105 | |
plotGenePSI | 1.521 | 0.106 | 1.626 | |
plotTranscripts | 7.507 | 0.739 | 8.246 | |
plotUniprotKBFeatures | 6.113 | 0.451 | 7.494 | |
splicingDistribution | 1.109 | 0.123 | 1.232 | |
summary-Maser-method | 0.639 | 0.056 | 0.696 | |
topEvents | 0.870 | 0.095 | 0.965 | |
volcano | 1.017 | 0.056 | 1.073 | |