| Back to Multiple platform build/check report for BioC 3.21: simplified long |
|
This page was generated on 2025-04-22 13:16 -0400 (Tue, 22 Apr 2025).
| Hostname | OS | Arch (*) | R version | Installed pkgs |
|---|---|---|---|---|
| nebbiolo1 | Linux (Ubuntu 24.04.1 LTS) | x86_64 | 4.5.0 RC (2025-04-04 r88126) -- "How About a Twenty-Six" | 4831 |
| palomino7 | Windows Server 2022 Datacenter | x64 | 4.5.0 RC (2025-04-04 r88126 ucrt) -- "How About a Twenty-Six" | 4573 |
| lconway | macOS 12.7.1 Monterey | x86_64 | 4.5.0 RC (2025-04-04 r88126) -- "How About a Twenty-Six" | 4599 |
| kjohnson3 | macOS 13.7.1 Ventura | arm64 | 4.5.0 RC (2025-04-04 r88126) -- "How About a Twenty-Six" | 4553 |
| kunpeng2 | Linux (openEuler 24.03 LTS) | aarch64 | R Under development (unstable) (2025-02-19 r87757) -- "Unsuffered Consequences" | 4570 |
| Click on any hostname to see more info about the system (e.g. compilers) (*) as reported by 'uname -p', except on Windows and Mac OS X | ||||
| Package 1149/2341 | Hostname | OS / Arch | INSTALL | BUILD | CHECK | BUILD BIN | ||||||||
| lute 1.4.0 (landing page) Sean K Maden
| nebbiolo1 | Linux (Ubuntu 24.04.1 LTS) / x86_64 | OK | OK | OK | |||||||||
| palomino7 | Windows Server 2022 Datacenter / x64 | OK | OK | OK | OK | |||||||||
| lconway | macOS 12.7.1 Monterey / x86_64 | OK | OK | OK | OK | |||||||||
| kjohnson3 | macOS 13.7.1 Ventura / arm64 | OK | OK | OK | OK | |||||||||
| kunpeng2 | Linux (openEuler 24.03 LTS) / aarch64 | OK | OK | OK | ||||||||||
|
To the developers/maintainers of the lute package: - Allow up to 24 hours (and sometimes 48 hours) for your latest push to git@git.bioconductor.org:packages/lute.git to reflect on this report. See Troubleshooting Build Report for more information. - Use the following Renviron settings to reproduce errors and warnings. - If 'R CMD check' started to fail recently on the Linux builder(s) over a missing dependency, add the missing dependency to 'Suggests:' in your DESCRIPTION file. See Renviron.bioc for more information. |
| Package: lute |
| Version: 1.4.0 |
| Command: /Library/Frameworks/R.framework/Resources/bin/R CMD check --install=check:lute.install-out.txt --library=/Library/Frameworks/R.framework/Resources/library --no-vignettes --timings lute_1.4.0.tar.gz |
| StartedAt: 2025-04-21 21:36:02 -0400 (Mon, 21 Apr 2025) |
| EndedAt: 2025-04-21 21:39:45 -0400 (Mon, 21 Apr 2025) |
| EllapsedTime: 223.6 seconds |
| RetCode: 0 |
| Status: OK |
| CheckDir: lute.Rcheck |
| Warnings: 0 |
##############################################################################
##############################################################################
###
### Running command:
###
### /Library/Frameworks/R.framework/Resources/bin/R CMD check --install=check:lute.install-out.txt --library=/Library/Frameworks/R.framework/Resources/library --no-vignettes --timings lute_1.4.0.tar.gz
###
##############################################################################
##############################################################################
* using log directory ‘/Users/biocbuild/bbs-3.21-bioc/meat/lute.Rcheck’
* using R version 4.5.0 RC (2025-04-04 r88126)
* using platform: x86_64-apple-darwin20
* R was compiled by
Apple clang version 14.0.0 (clang-1400.0.29.202)
GNU Fortran (GCC) 14.2.0
* running under: macOS Monterey 12.7.6
* using session charset: UTF-8
* using option ‘--no-vignettes’
* checking for file ‘lute/DESCRIPTION’ ... OK
* this is package ‘lute’ version ‘1.4.0’
* package encoding: UTF-8
* checking package namespace information ... OK
* checking package dependencies ... OK
* checking if this is a source package ... OK
* checking if there is a namespace ... OK
* checking for hidden files and directories ... OK
* checking for portable file names ... OK
* checking for sufficient/correct file permissions ... OK
* checking whether package ‘lute’ can be installed ... OK
* checking installed package size ... OK
* checking package directory ... OK
* checking ‘build’ directory ... OK
* checking DESCRIPTION meta-information ... OK
* checking top-level files ... OK
* checking for left-over files ... NOTE
The following files look like leftovers:
‘lute/NEWS.Rd’
Please remove them from your package.
* checking index information ... OK
* checking package subdirectories ... OK
* checking code files for non-ASCII characters ... OK
* checking R files for syntax errors ... OK
* checking whether the package can be loaded ... OK
* checking whether the package can be loaded with stated dependencies ... OK
* checking whether the package can be unloaded cleanly ... OK
* checking whether the namespace can be loaded with stated dependencies ... OK
* checking whether the namespace can be unloaded cleanly ... OK
* checking dependencies in R code ... NOTE
Namespace in Imports field not imported from: ‘ggplot2’
All declared Imports should be used.
* checking S3 generic/method consistency ... OK
* checking replacement functions ... OK
* checking foreign function calls ... OK
* checking R code for possible problems ... OK
* checking Rd files ... OK
* checking Rd metadata ... OK
* checking Rd cross-references ... NOTE
Found the following Rd file(s) with Rd \link{} targets missing package
anchors:
lute.Rd: SummarizedExperiment-class
nnlsParam.Rd: ExpressionSet-class
ypb_from_sce.Rd: SingleCellExperiment-class
z_matrix_from_sce.Rd: SingleCellExperiment-class
Please provide package anchors for all Rd \link{} targets not in the
package itself and the base packages.
* checking for missing documentation entries ... OK
* checking for code/documentation mismatches ... OK
* checking Rd \usage sections ... OK
* checking Rd contents ... OK
* checking for unstated dependencies in examples ... OK
* checking files in ‘vignettes’ ... OK
* checking examples ... OK
* checking for unstated dependencies in vignettes ... OK
* checking package vignettes ... OK
* checking running R code from vignettes ... SKIPPED
* checking re-building of vignette outputs ... SKIPPED
* checking PDF version of manual ... OK
* DONE
Status: 3 NOTEs
See
‘/Users/biocbuild/bbs-3.21-bioc/meat/lute.Rcheck/00check.log’
for details.
lute.Rcheck/00install.out
############################################################################## ############################################################################## ### ### Running command: ### ### /Library/Frameworks/R.framework/Resources/bin/R CMD INSTALL lute ### ############################################################################## ############################################################################## * installing to library ‘/Library/Frameworks/R.framework/Versions/4.5-x86_64/Resources/library’ * installing *source* package ‘lute’ ... ** this is package ‘lute’ version ‘1.4.0’ ** using staged installation ** R ** inst ** byte-compile and prepare package for lazy loading ** help *** installing help indices ** building package indices ** installing vignettes ** testing if installed package can be loaded from temporary location ** testing if installed package can be loaded from final location ** testing if installed package keeps a record of temporary installation path * DONE (lute)
lute.Rcheck/lute-Ex.timings
| name | user | system | elapsed | |
| bisqueParam-class | 2.903 | 0.107 | 3.031 | |
| bisqueParam | 1.867 | 0.087 | 1.968 | |
| cellProportionsPredictions-class | 0.015 | 0.000 | 0.016 | |
| cellProportionsPredictions | 0.000 | 0.000 | 0.001 | |
| deconvolution-bisqueParam-method | 1.898 | 0.096 | 2.014 | |
| deconvolution-deconvolutionParam-method | 0.001 | 0.000 | 0.002 | |
| deconvolution-independentbulkParam-method | 0.002 | 0.000 | 0.003 | |
| deconvolution-nnlsParam-method | 0.012 | 0.002 | 0.015 | |
| deconvolution-referencebasedParam-method | 0.002 | 0.000 | 0.003 | |
| deconvolution | 0.004 | 0.000 | 0.004 | |
| deconvolutionParam-class | 0.000 | 0.001 | 0.000 | |
| eset_to_sce | 0.431 | 0.005 | 0.440 | |
| eset_to_se | 0.338 | 0.008 | 0.349 | |
| findmarkersParam-class | 0.800 | 0.031 | 0.841 | |
| findmarkersParam | 0.538 | 0.006 | 0.551 | |
| getDeconvolutionExampleData | 0.001 | 0.000 | 0.000 | |
| getDeconvolutionExampleDataBisque | 0.313 | 0.004 | 0.319 | |
| getDeconvolutionExampleDataSCDC | 0.127 | 0.003 | 0.132 | |
| get_celltypes_from_sce | 0 | 0 | 0 | |
| get_csf_reference | 0.000 | 0.000 | 0.001 | |
| get_eset_from_matrix | 0.000 | 0.000 | 0.001 | |
| independentbulkParam-class | 0.001 | 0.000 | 0.001 | |
| independentbulkParam | 0.000 | 0.000 | 0.001 | |
| lute | 0.117 | 0.002 | 0.119 | |
| luteSupportedDeconvolutionAlgorithms | 0.007 | 0.003 | 0.010 | |
| new_workflow_table | 0.001 | 0.000 | 0.000 | |
| nnlsParam-class | 0.007 | 0.000 | 0.007 | |
| nnlsParam | 0.007 | 0.000 | 0.007 | |
| parseDeconvolutionPredictionsResults | 0.001 | 0.000 | 0.001 | |
| proportionsVectorsList | 0.001 | 0.001 | 0.001 | |
| randomMarkersVectorsList | 0.001 | 0.001 | 0.001 | |
| randomSingleCellExperiment | 0.055 | 0.001 | 0.056 | |
| referenceFromSingleCellExperiment | 0 | 0 | 0 | |
| referencebasedParam-class | 0.001 | 0.000 | 0.002 | |
| referencebasedParam | 0.001 | 0.000 | 0.002 | |
| rmse | 0.000 | 0.000 | 0.001 | |
| rmseTest | 0.000 | 0.001 | 0.000 | |
| sce_to_eset | 0.106 | 0.001 | 0.109 | |
| sce_to_se | 0.088 | 0.001 | 0.090 | |
| se_to_eset | 0.118 | 0.001 | 0.120 | |
| se_to_sce | 0.105 | 0.002 | 0.108 | |
| show-bisqueParam-method | 0.443 | 0.012 | 0.457 | |
| show-cellProportionsPredictions-method | 0.001 | 0.000 | 0.001 | |
| show-deconvolutionParam-method | 0 | 0 | 0 | |
| show-findmarkersParam-method | 0.560 | 0.004 | 0.568 | |
| show-independentbulkParam-method | 0 | 0 | 0 | |
| show-nnlsParam-method | 0.001 | 0.000 | 0.002 | |
| show-referencebasedParam-method | 0.001 | 0.000 | 0.002 | |
| show-typemarkersParam-method | 0 | 0 | 0 | |
| sub-sub-deconvolutionParam-ANY-ANY-method | 0 | 0 | 0 | |
| sub-sub-typemarkersParam-ANY-ANY-method | 0.000 | 0.000 | 0.001 | |
| typemarkers-findmarkersParam-method | 0.551 | 0.007 | 0.563 | |
| typemarkers-typemarkersParam-method | 0.000 | 0.000 | 0.001 | |
| typemarkers | 0.000 | 0.001 | 0.000 | |
| typemarkersParam-class | 0.001 | 0.000 | 0.000 | |
| typemarkersParam | 0 | 0 | 0 | |
| ypb_from_sce | 0.082 | 0.001 | 0.084 | |
| z_matrix_from_sce | 0.071 | 0.001 | 0.073 | |