Back to Multiple platform build/check report for BioC 3.21:   simplified   long
ABCDEFGHIJ[K]LMNOPQRSTUVWXYZ

This page was generated on 2025-02-15 11:40 -0500 (Sat, 15 Feb 2025).

HostnameOSArch (*)R versionInstalled pkgs
nebbiolo1Linux (Ubuntu 24.04.1 LTS)x86_64R Under development (unstable) (2025-01-20 r87609) -- "Unsuffered Consequences" 4720
palomino7Windows Server 2022 Datacenterx64R Under development (unstable) (2025-01-21 r87610 ucrt) -- "Unsuffered Consequences" 4482
lconwaymacOS 12.7.1 Montereyx86_64R Under development (unstable) (2025-01-22 r87618) -- "Unsuffered Consequences" 4493
kjohnson3macOS 13.7.1 Venturaarm64R Under development (unstable) (2025-01-20 r87609) -- "Unsuffered Consequences" 4446
Click on any hostname to see more info about the system (e.g. compilers)      (*) as reported by 'uname -p', except on Windows and Mac OS X

Package 1081/2295HostnameOS / ArchINSTALLBUILDCHECKBUILD BIN
kebabs 1.41.0  (landing page)
Ulrich Bodenhofer
Snapshot Date: 2025-02-14 13:40 -0500 (Fri, 14 Feb 2025)
git_url: https://git.bioconductor.org/packages/kebabs
git_branch: devel
git_last_commit: 56e9334
git_last_commit_date: 2024-10-29 09:56:18 -0500 (Tue, 29 Oct 2024)
nebbiolo1Linux (Ubuntu 24.04.1 LTS) / x86_64  OK    OK    OK  UNNEEDED, same version is already published
palomino7Windows Server 2022 Datacenter / x64  OK    OK    OK    OK  UNNEEDED, same version is already published
lconwaymacOS 12.7.1 Monterey / x86_64  OK    OK    OK    OK  UNNEEDED, same version is already published
kjohnson3macOS 13.7.1 Ventura / arm64  OK    OK    OK    OK  UNNEEDED, same version is already published


CHECK results for kebabs on nebbiolo1

To the developers/maintainers of the kebabs package:
- Allow up to 24 hours (and sometimes 48 hours) for your latest push to git@git.bioconductor.org:packages/kebabs.git to reflect on this report. See Troubleshooting Build Report for more information.
- Use the following Renviron settings to reproduce errors and warnings.
- If 'R CMD check' started to fail recently on the Linux builder(s) over a missing dependency, add the missing dependency to 'Suggests:' in your DESCRIPTION file. See Renviron.bioc for more information.

raw results


Summary

Package: kebabs
Version: 1.41.0
Command: /home/biocbuild/bbs-3.21-bioc/R/bin/R CMD check --install=check:kebabs.install-out.txt --library=/home/biocbuild/bbs-3.21-bioc/R/site-library --timings kebabs_1.41.0.tar.gz
StartedAt: 2025-02-14 23:17:31 -0500 (Fri, 14 Feb 2025)
EndedAt: 2025-02-14 23:22:58 -0500 (Fri, 14 Feb 2025)
EllapsedTime: 327.6 seconds
RetCode: 0
Status:   OK  
CheckDir: kebabs.Rcheck
Warnings: 0

Command output

##############################################################################
##############################################################################
###
### Running command:
###
###   /home/biocbuild/bbs-3.21-bioc/R/bin/R CMD check --install=check:kebabs.install-out.txt --library=/home/biocbuild/bbs-3.21-bioc/R/site-library --timings kebabs_1.41.0.tar.gz
###
##############################################################################
##############################################################################


* using log directory ‘/home/biocbuild/bbs-3.21-bioc/meat/kebabs.Rcheck’
* using R Under development (unstable) (2025-01-20 r87609)
* using platform: x86_64-pc-linux-gnu
* R was compiled by
    gcc (Ubuntu 13.3.0-6ubuntu2~24.04) 13.3.0
    GNU Fortran (Ubuntu 13.3.0-6ubuntu2~24.04) 13.3.0
* running under: Ubuntu 24.04.2 LTS
* using session charset: UTF-8
* checking for file ‘kebabs/DESCRIPTION’ ... OK
* checking extension type ... Package
* this is package ‘kebabs’ version ‘1.41.0’
* checking package namespace information ... OK
* checking package dependencies ... OK
* checking if this is a source package ... OK
* checking if there is a namespace ... OK
* checking for hidden files and directories ... OK
* checking for portable file names ... OK
* checking for sufficient/correct file permissions ... OK
* checking whether package ‘kebabs’ can be installed ... OK
* used C compiler: ‘gcc (Ubuntu 13.3.0-6ubuntu2~24.04) 13.3.0’
* used C++ compiler: ‘g++ (Ubuntu 13.3.0-6ubuntu2~24.04) 13.3.0’
* checking installed package size ... INFO
  installed size is  7.5Mb
  sub-directories of 1Mb or more:
    R      1.3Mb
    data   1.2Mb
    libs   4.6Mb
* checking package directory ... OK
* checking ‘build’ directory ... OK
* checking DESCRIPTION meta-information ... OK
* checking top-level files ... OK
* checking for left-over files ... OK
* checking index information ... OK
* checking package subdirectories ... OK
* checking code files for non-ASCII characters ... OK
* checking R files for syntax errors ... OK
* checking whether the package can be loaded ... OK
* checking whether the package can be loaded with stated dependencies ... OK
* checking whether the package can be unloaded cleanly ... OK
* checking whether the namespace can be loaded with stated dependencies ... OK
* checking whether the namespace can be unloaded cleanly ... OK
* checking loading without being on the library search path ... OK
* checking whether startup messages can be suppressed ... OK
* checking dependencies in R code ... OK
* checking S3 generic/method consistency ... OK
* checking replacement functions ... OK
* checking foreign function calls ... OK
* checking R code for possible problems ... OK
* checking Rd files ... OK
* checking Rd metadata ... OK
* checking Rd cross-references ... NOTE
Found the following Rd file(s) with Rd \link{} targets missing package
anchors:
  BioVector-class.Rd: XStringSet-class
  BioVector.Rd: XStringSet, metadata, mcols, elementMetadata,
    DNAStringSet, RNAStringSet, AAStringSet
  ExplicitRepresentation-class.Rd: dgRMatrix-class
  LinearKernel.Rd: dgCMatrix-class
  annotationSpecificKernel.Rd: DNAStringSet-class, RNAStringSet-class,
    AAStringSet-class, mcols, metadata
  explicitRepresentation.Rd: DNAStringSet-class, RNAStringSet-class,
    AAStringSet-class
  gappyPairKernel.Rd: DNAStringSet-class, RNAStringSet-class,
    AAStringSet-class
  getPredProfMixture-methods.Rd: DNAString-class, RNAString-class,
    AAString-class, DNAStringSet-class, RNAStringSet-class,
    AAStringSet-class
  getPredictionProfile-methods.Rd: DNAString-class, RNAString-class,
    AAString-class, DNAStringSet-class, RNAStringSet-class,
    AAStringSet-class
  kbsvm-methods.Rd: DNAStringSet-class, RNAStringSet-class,
    AAStringSet-class, DNAStringSet, RNAStringSet, AAStringSet,
    XStringSet-class
  mismatchKernel.Rd: DNAStringSet-class, RNAStringSet-class,
    AAStringSet-class
  motifKernel.Rd: DNAStringSet-class, RNAStringSet-class,
    AAStringSet-class
  plot-methods.Rd: mcols
  positionDependentKernel.Rd: DNAStringSet-class, RNAStringSet-class,
    AAStringSet-class, metadata, mcols
  predict-methods.Rd: DNAStringSet-class, RNAStringSet-class,
    AAStringSet-class
  sequenceKernel.Rd: DNAStringSet-class, RNAStringSet-class,
    AAStringSet-class
  spectrumKernel.Rd: DNAStringSet-class, RNAStringSet-class,
    AAStringSet-class
Please provide package anchors for all Rd \link{} targets not in the
package itself and the base packages.
* checking for missing documentation entries ... OK
* checking for code/documentation mismatches ... OK
* checking Rd \usage sections ... OK
* checking Rd contents ... OK
* checking for unstated dependencies in examples ... OK
* checking contents of ‘data’ directory ... OK
* checking data for non-ASCII characters ... OK
* checking data for ASCII and uncompressed saves ... OK
* checking line endings in C/C++/Fortran sources/headers ... OK
* checking line endings in Makefiles ... OK
* checking compilation flags in Makevars ... OK
* checking for GNU extensions in Makefiles ... OK
* checking for portable use of $(BLAS_LIBS) and $(LAPACK_LIBS) ... OK
* checking use of PKG_*FLAGS in Makefiles ... OK
* checking compiled code ... NOTE
Note: information on .o files is not available
* checking files in ‘vignettes’ ... OK
* checking examples ... OK
Examples with CPU (user + system) or elapsed time > 5s
                       user system elapsed
performModelSelection 6.570  0.040   6.610
LinearKernel          6.382  0.024   6.409
* checking for unstated dependencies in vignettes ... OK
* checking package vignettes ... OK
* checking re-building of vignette outputs ... OK
* checking PDF version of manual ... OK
* DONE

Status: 2 NOTEs
See
  ‘/home/biocbuild/bbs-3.21-bioc/meat/kebabs.Rcheck/00check.log’
for details.


Installation output

kebabs.Rcheck/00install.out

##############################################################################
##############################################################################
###
### Running command:
###
###   /home/biocbuild/bbs-3.21-bioc/R/bin/R CMD INSTALL kebabs
###
##############################################################################
##############################################################################


* installing to library ‘/home/biocbuild/bbs-3.21-bioc/R/site-library’
* installing *source* package ‘kebabs’ ...
** this is package ‘kebabs’ version ‘1.41.0’
** using staged installation
** libs
using C compiler: ‘gcc (Ubuntu 13.3.0-6ubuntu2~24.04) 13.3.0’
using C++ compiler: ‘g++ (Ubuntu 13.3.0-6ubuntu2~24.04) 13.3.0’
gcc -I"/home/biocbuild/bbs-3.21-bioc/R/include" -DNDEBUG -DSTRICT_R_HEADERS -I'/home/biocbuild/bbs-3.21-bioc/R/site-library/IRanges/include' -I'/home/biocbuild/bbs-3.21-bioc/R/site-library/XVector/include' -I'/home/biocbuild/bbs-3.21-bioc/R/site-library/Biostrings/include' -I'/home/biocbuild/bbs-3.21-bioc/R/site-library/Rcpp/include' -I'/home/biocbuild/bbs-3.21-bioc/R/site-library/S4Vectors/include' -I/usr/local/include    -fpic  -g -O2  -c Biostrings_stubs.c -o Biostrings_stubs.o
gcc -I"/home/biocbuild/bbs-3.21-bioc/R/include" -DNDEBUG -DSTRICT_R_HEADERS -I'/home/biocbuild/bbs-3.21-bioc/R/site-library/IRanges/include' -I'/home/biocbuild/bbs-3.21-bioc/R/site-library/XVector/include' -I'/home/biocbuild/bbs-3.21-bioc/R/site-library/Biostrings/include' -I'/home/biocbuild/bbs-3.21-bioc/R/site-library/Rcpp/include' -I'/home/biocbuild/bbs-3.21-bioc/R/site-library/S4Vectors/include' -I/usr/local/include    -fpic  -g -O2  -c ByteStringVector.c -o ByteStringVector.o
g++ -std=gnu++17 -I"/home/biocbuild/bbs-3.21-bioc/R/include" -DNDEBUG -DSTRICT_R_HEADERS -I'/home/biocbuild/bbs-3.21-bioc/R/site-library/IRanges/include' -I'/home/biocbuild/bbs-3.21-bioc/R/site-library/XVector/include' -I'/home/biocbuild/bbs-3.21-bioc/R/site-library/Biostrings/include' -I'/home/biocbuild/bbs-3.21-bioc/R/site-library/Rcpp/include' -I'/home/biocbuild/bbs-3.21-bioc/R/site-library/S4Vectors/include' -I/usr/local/include    -fpic  -g -O2  -DR_NO_REMAP -c ExplicitRepC.cpp -o ExplicitRepC.o
g++ -std=gnu++17 -I"/home/biocbuild/bbs-3.21-bioc/R/include" -DNDEBUG -DSTRICT_R_HEADERS -I'/home/biocbuild/bbs-3.21-bioc/R/site-library/IRanges/include' -I'/home/biocbuild/bbs-3.21-bioc/R/site-library/XVector/include' -I'/home/biocbuild/bbs-3.21-bioc/R/site-library/Biostrings/include' -I'/home/biocbuild/bbs-3.21-bioc/R/site-library/Rcpp/include' -I'/home/biocbuild/bbs-3.21-bioc/R/site-library/S4Vectors/include' -I/usr/local/include    -fpic  -g -O2  -DR_NO_REMAP -c FeatureWeightsPosDepC.cpp -o FeatureWeightsPosDepC.o
g++ -std=gnu++17 -I"/home/biocbuild/bbs-3.21-bioc/R/include" -DNDEBUG -DSTRICT_R_HEADERS -I'/home/biocbuild/bbs-3.21-bioc/R/site-library/IRanges/include' -I'/home/biocbuild/bbs-3.21-bioc/R/site-library/XVector/include' -I'/home/biocbuild/bbs-3.21-bioc/R/site-library/Biostrings/include' -I'/home/biocbuild/bbs-3.21-bioc/R/site-library/Rcpp/include' -I'/home/biocbuild/bbs-3.21-bioc/R/site-library/S4Vectors/include' -I/usr/local/include    -fpic  -g -O2  -DR_NO_REMAP -c GappyPairC.cpp -o GappyPairC.o
gcc -I"/home/biocbuild/bbs-3.21-bioc/R/include" -DNDEBUG -DSTRICT_R_HEADERS -I'/home/biocbuild/bbs-3.21-bioc/R/site-library/IRanges/include' -I'/home/biocbuild/bbs-3.21-bioc/R/site-library/XVector/include' -I'/home/biocbuild/bbs-3.21-bioc/R/site-library/Biostrings/include' -I'/home/biocbuild/bbs-3.21-bioc/R/site-library/Rcpp/include' -I'/home/biocbuild/bbs-3.21-bioc/R/site-library/S4Vectors/include' -I/usr/local/include    -fpic  -g -O2  -c IRanges_stubs.c -o IRanges_stubs.o
g++ -std=gnu++17 -I"/home/biocbuild/bbs-3.21-bioc/R/include" -DNDEBUG -DSTRICT_R_HEADERS -I'/home/biocbuild/bbs-3.21-bioc/R/site-library/IRanges/include' -I'/home/biocbuild/bbs-3.21-bioc/R/site-library/XVector/include' -I'/home/biocbuild/bbs-3.21-bioc/R/site-library/Biostrings/include' -I'/home/biocbuild/bbs-3.21-bioc/R/site-library/Rcpp/include' -I'/home/biocbuild/bbs-3.21-bioc/R/site-library/S4Vectors/include' -I/usr/local/include    -fpic  -g -O2  -DR_NO_REMAP -c KernelUtils.cpp -o KernelUtils.o
g++ -std=gnu++17 -I"/home/biocbuild/bbs-3.21-bioc/R/include" -DNDEBUG -DSTRICT_R_HEADERS -I'/home/biocbuild/bbs-3.21-bioc/R/site-library/IRanges/include' -I'/home/biocbuild/bbs-3.21-bioc/R/site-library/XVector/include' -I'/home/biocbuild/bbs-3.21-bioc/R/site-library/Biostrings/include' -I'/home/biocbuild/bbs-3.21-bioc/R/site-library/Rcpp/include' -I'/home/biocbuild/bbs-3.21-bioc/R/site-library/S4Vectors/include' -I/usr/local/include    -fpic  -g -O2  -DR_NO_REMAP -c MismatchC.cpp -o MismatchC.o
g++ -std=gnu++17 -I"/home/biocbuild/bbs-3.21-bioc/R/include" -DNDEBUG -DSTRICT_R_HEADERS -I'/home/biocbuild/bbs-3.21-bioc/R/site-library/IRanges/include' -I'/home/biocbuild/bbs-3.21-bioc/R/site-library/XVector/include' -I'/home/biocbuild/bbs-3.21-bioc/R/site-library/Biostrings/include' -I'/home/biocbuild/bbs-3.21-bioc/R/site-library/Rcpp/include' -I'/home/biocbuild/bbs-3.21-bioc/R/site-library/S4Vectors/include' -I/usr/local/include    -fpic  -g -O2  -DR_NO_REMAP -c MotifC.cpp -o MotifC.o
g++ -std=gnu++17 -I"/home/biocbuild/bbs-3.21-bioc/R/include" -DNDEBUG -DSTRICT_R_HEADERS -I'/home/biocbuild/bbs-3.21-bioc/R/site-library/IRanges/include' -I'/home/biocbuild/bbs-3.21-bioc/R/site-library/XVector/include' -I'/home/biocbuild/bbs-3.21-bioc/R/site-library/Biostrings/include' -I'/home/biocbuild/bbs-3.21-bioc/R/site-library/Rcpp/include' -I'/home/biocbuild/bbs-3.21-bioc/R/site-library/S4Vectors/include' -I/usr/local/include    -fpic  -g -O2  -DR_NO_REMAP -c PredictionC.cpp -o PredictionC.o
g++ -std=gnu++17 -I"/home/biocbuild/bbs-3.21-bioc/R/include" -DNDEBUG -DSTRICT_R_HEADERS -I'/home/biocbuild/bbs-3.21-bioc/R/site-library/IRanges/include' -I'/home/biocbuild/bbs-3.21-bioc/R/site-library/XVector/include' -I'/home/biocbuild/bbs-3.21-bioc/R/site-library/Biostrings/include' -I'/home/biocbuild/bbs-3.21-bioc/R/site-library/Rcpp/include' -I'/home/biocbuild/bbs-3.21-bioc/R/site-library/S4Vectors/include' -I/usr/local/include    -fpic  -g -O2  -DR_NO_REMAP -c PredictionProfileC.cpp -o PredictionProfileC.o
g++ -std=gnu++17 -I"/home/biocbuild/bbs-3.21-bioc/R/include" -DNDEBUG -DSTRICT_R_HEADERS -I'/home/biocbuild/bbs-3.21-bioc/R/site-library/IRanges/include' -I'/home/biocbuild/bbs-3.21-bioc/R/site-library/XVector/include' -I'/home/biocbuild/bbs-3.21-bioc/R/site-library/Biostrings/include' -I'/home/biocbuild/bbs-3.21-bioc/R/site-library/Rcpp/include' -I'/home/biocbuild/bbs-3.21-bioc/R/site-library/S4Vectors/include' -I/usr/local/include    -fpic  -g -O2  -DR_NO_REMAP -c R_init_kebabs.cpp -o R_init_kebabs.o
gcc -I"/home/biocbuild/bbs-3.21-bioc/R/include" -DNDEBUG -DSTRICT_R_HEADERS -I'/home/biocbuild/bbs-3.21-bioc/R/site-library/IRanges/include' -I'/home/biocbuild/bbs-3.21-bioc/R/site-library/XVector/include' -I'/home/biocbuild/bbs-3.21-bioc/R/site-library/Biostrings/include' -I'/home/biocbuild/bbs-3.21-bioc/R/site-library/Rcpp/include' -I'/home/biocbuild/bbs-3.21-bioc/R/site-library/S4Vectors/include' -I/usr/local/include    -fpic  -g -O2  -c Rsvm.c -o Rsvm.o
g++ -std=gnu++17 -I"/home/biocbuild/bbs-3.21-bioc/R/include" -DNDEBUG -DSTRICT_R_HEADERS -I'/home/biocbuild/bbs-3.21-bioc/R/site-library/IRanges/include' -I'/home/biocbuild/bbs-3.21-bioc/R/site-library/XVector/include' -I'/home/biocbuild/bbs-3.21-bioc/R/site-library/Biostrings/include' -I'/home/biocbuild/bbs-3.21-bioc/R/site-library/Rcpp/include' -I'/home/biocbuild/bbs-3.21-bioc/R/site-library/S4Vectors/include' -I/usr/local/include    -fpic  -g -O2  -DR_NO_REMAP -c SparseMatrixHash.cpp -o SparseMatrixHash.o
g++ -std=gnu++17 -I"/home/biocbuild/bbs-3.21-bioc/R/include" -DNDEBUG -DSTRICT_R_HEADERS -I'/home/biocbuild/bbs-3.21-bioc/R/site-library/IRanges/include' -I'/home/biocbuild/bbs-3.21-bioc/R/site-library/XVector/include' -I'/home/biocbuild/bbs-3.21-bioc/R/site-library/Biostrings/include' -I'/home/biocbuild/bbs-3.21-bioc/R/site-library/Rcpp/include' -I'/home/biocbuild/bbs-3.21-bioc/R/site-library/S4Vectors/include' -I/usr/local/include    -fpic  -g -O2  -DR_NO_REMAP -c SpectrumC.cpp -o SpectrumC.o
g++ -std=gnu++17 -I"/home/biocbuild/bbs-3.21-bioc/R/include" -DNDEBUG -DSTRICT_R_HEADERS -I'/home/biocbuild/bbs-3.21-bioc/R/site-library/IRanges/include' -I'/home/biocbuild/bbs-3.21-bioc/R/site-library/XVector/include' -I'/home/biocbuild/bbs-3.21-bioc/R/site-library/Biostrings/include' -I'/home/biocbuild/bbs-3.21-bioc/R/site-library/Rcpp/include' -I'/home/biocbuild/bbs-3.21-bioc/R/site-library/S4Vectors/include' -I/usr/local/include    -fpic  -g -O2  -DR_NO_REMAP -c SymmetricPairC.cpp -o SymmetricPairC.o
g++ -std=gnu++17 -I"/home/biocbuild/bbs-3.21-bioc/R/include" -DNDEBUG -DSTRICT_R_HEADERS -I'/home/biocbuild/bbs-3.21-bioc/R/site-library/IRanges/include' -I'/home/biocbuild/bbs-3.21-bioc/R/site-library/XVector/include' -I'/home/biocbuild/bbs-3.21-bioc/R/site-library/Biostrings/include' -I'/home/biocbuild/bbs-3.21-bioc/R/site-library/Rcpp/include' -I'/home/biocbuild/bbs-3.21-bioc/R/site-library/S4Vectors/include' -I/usr/local/include    -fpic  -g -O2  -DR_NO_REMAP -c Utils.cpp -o Utils.o
gcc -I"/home/biocbuild/bbs-3.21-bioc/R/include" -DNDEBUG -DSTRICT_R_HEADERS -I'/home/biocbuild/bbs-3.21-bioc/R/site-library/IRanges/include' -I'/home/biocbuild/bbs-3.21-bioc/R/site-library/XVector/include' -I'/home/biocbuild/bbs-3.21-bioc/R/site-library/Biostrings/include' -I'/home/biocbuild/bbs-3.21-bioc/R/site-library/Rcpp/include' -I'/home/biocbuild/bbs-3.21-bioc/R/site-library/S4Vectors/include' -I/usr/local/include    -fpic  -g -O2  -c XVector_stubs.c -o XVector_stubs.o
g++ -std=gnu++17 -I"/home/biocbuild/bbs-3.21-bioc/R/include" -DNDEBUG -DSTRICT_R_HEADERS -I'/home/biocbuild/bbs-3.21-bioc/R/site-library/IRanges/include' -I'/home/biocbuild/bbs-3.21-bioc/R/site-library/XVector/include' -I'/home/biocbuild/bbs-3.21-bioc/R/site-library/Biostrings/include' -I'/home/biocbuild/bbs-3.21-bioc/R/site-library/Rcpp/include' -I'/home/biocbuild/bbs-3.21-bioc/R/site-library/S4Vectors/include' -I/usr/local/include    -fpic  -g -O2  -DR_NO_REMAP -c svm.cpp -o svm.o
g++ -std=gnu++17 -shared -L/home/biocbuild/bbs-3.21-bioc/R/lib -L/usr/local/lib -o kebabs.so Biostrings_stubs.o ByteStringVector.o ExplicitRepC.o FeatureWeightsPosDepC.o GappyPairC.o IRanges_stubs.o KernelUtils.o MismatchC.o MotifC.o PredictionC.o PredictionProfileC.o R_init_kebabs.o Rsvm.o SparseMatrixHash.o SpectrumC.o SymmetricPairC.o Utils.o XVector_stubs.o svm.o -L/home/biocbuild/bbs-3.21-bioc/R/lib -lR
installing to /home/biocbuild/bbs-3.21-bioc/R/site-library/00LOCK-kebabs/00new/kebabs/libs
** R
** data
** inst
** byte-compile and prepare package for lazy loading
** help
*** installing help indices
** building package indices
** installing vignettes
** testing if installed package can be loaded from temporary location
** checking absolute paths in shared objects and dynamic libraries
** testing if installed package can be loaded from final location
** testing if installed package keeps a record of temporary installation path
* DONE (kebabs)

Tests output


Example timings

kebabs.Rcheck/kebabs-Ex.timings

nameusersystemelapsed
BioVector0.0550.0010.057
CrossValidationResultAccessors0.0000.0010.002
KBModelAccessors0.0010.0000.001
KernelMatrixAccessors0.0000.0000.001
LinearKernel6.3820.0246.409
ModelSelectionResultAccessors0.0010.0000.001
PredictionProfileAccessors0.0020.0000.003
ROCDataAccessors0.0010.0000.001
SVMAccess0.0820.0060.088
annotationSpecificKernel0.1140.0060.120
computeROCandAUC0.5050.0050.511
evaluatePrediction0.3720.0250.398
explicitRepresentation0.1660.0460.212
featureWeights0.1590.0480.206
gappyPairKernel0.0060.0040.010
genRandBioSeqs0.0490.0060.054
getPredProfMixture-methods3.7490.5454.294
getPredictionProfile-methods0.5870.1650.752
heatmap-methods0.3970.1030.500
kbsvm-methods0.1570.0540.211
kebabsCollectInfo0.0180.0080.027
kebabsOverview0.2100.0270.237
mismatchKernel0.0080.0000.009
motifKernel0.0050.0020.007
performCrossValidation-methods0.1470.0250.172
performGridSearch3.7630.3334.096
performModelSelection6.570.046.61
plot-methods0.2140.0080.223
positionDependentKernel0.0080.0040.012
predict-methods0.1610.0060.168
sequenceKernel0.0340.0010.035
show-methods0.0230.0010.025
spectrumKernel0.0040.0010.006
symmetricPairKernel0.1080.0060.114