Back to Multiple platform build/check report for BioC 3.21:   simplified   long
ABCDEFGH[I]JKLMNOPQRSTUVWXYZ

This page was generated on 2025-02-13 11:42 -0500 (Thu, 13 Feb 2025).

HostnameOSArch (*)R versionInstalled pkgs
nebbiolo1Linux (Ubuntu 24.04.1 LTS)x86_64R Under development (unstable) (2025-01-20 r87609) -- "Unsuffered Consequences" 4719
palomino7Windows Server 2022 Datacenterx64R Under development (unstable) (2025-01-21 r87610 ucrt) -- "Unsuffered Consequences" 4481
lconwaymacOS 12.7.1 Montereyx86_64R Under development (unstable) (2025-01-22 r87618) -- "Unsuffered Consequences" 4492
kjohnson3macOS 13.7.1 Venturaarm64R Under development (unstable) (2025-01-20 r87609) -- "Unsuffered Consequences" 4445
Click on any hostname to see more info about the system (e.g. compilers)      (*) as reported by 'uname -p', except on Windows and Mac OS X

Package 1028/2295HostnameOS / ArchINSTALLBUILDCHECKBUILD BIN
iNETgrate 1.5.0  (landing page)
Habil Zare
Snapshot Date: 2025-02-12 13:40 -0500 (Wed, 12 Feb 2025)
git_url: https://git.bioconductor.org/packages/iNETgrate
git_branch: devel
git_last_commit: 4216302
git_last_commit_date: 2024-10-29 11:21:42 -0500 (Tue, 29 Oct 2024)
nebbiolo1Linux (Ubuntu 24.04.1 LTS) / x86_64  OK    OK    OK  UNNEEDED, same version is already published
palomino7Windows Server 2022 Datacenter / x64  OK    OK    OK    OK  UNNEEDED, same version is already published
lconwaymacOS 12.7.1 Monterey / x86_64  OK    OK    OK    OK  UNNEEDED, same version is already published
kjohnson3macOS 13.7.1 Ventura / arm64  OK    OK    OK    OK  UNNEEDED, same version is already published


CHECK results for iNETgrate on lconway

To the developers/maintainers of the iNETgrate package:
- Allow up to 24 hours (and sometimes 48 hours) for your latest push to git@git.bioconductor.org:packages/iNETgrate.git to reflect on this report. See Troubleshooting Build Report for more information.
- Use the following Renviron settings to reproduce errors and warnings.
- If 'R CMD check' started to fail recently on the Linux builder(s) over a missing dependency, add the missing dependency to 'Suggests:' in your DESCRIPTION file. See Renviron.bioc for more information.

raw results


Summary

Package: iNETgrate
Version: 1.5.0
Command: /Library/Frameworks/R.framework/Resources/bin/R CMD check --install=check:iNETgrate.install-out.txt --library=/Library/Frameworks/R.framework/Resources/library --no-vignettes --timings iNETgrate_1.5.0.tar.gz
StartedAt: 2025-02-12 21:11:02 -0500 (Wed, 12 Feb 2025)
EndedAt: 2025-02-12 21:26:29 -0500 (Wed, 12 Feb 2025)
EllapsedTime: 926.3 seconds
RetCode: 0
Status:   OK  
CheckDir: iNETgrate.Rcheck
Warnings: 0

Command output

##############################################################################
##############################################################################
###
### Running command:
###
###   /Library/Frameworks/R.framework/Resources/bin/R CMD check --install=check:iNETgrate.install-out.txt --library=/Library/Frameworks/R.framework/Resources/library --no-vignettes --timings iNETgrate_1.5.0.tar.gz
###
##############################################################################
##############################################################################


* using log directory ‘/Users/biocbuild/bbs-3.21-bioc/meat/iNETgrate.Rcheck’
* using R Under development (unstable) (2025-01-22 r87618)
* using platform: x86_64-apple-darwin20
* R was compiled by
    Apple clang version 14.0.0 (clang-1400.0.29.202)
    GNU Fortran (GCC) 14.2.0
* running under: macOS Monterey 12.7.6
* using session charset: UTF-8
* using option ‘--no-vignettes’
* checking for file ‘iNETgrate/DESCRIPTION’ ... OK
* checking extension type ... Package
* this is package ‘iNETgrate’ version ‘1.5.0’
* checking package namespace information ... OK
* checking package dependencies ... OK
* checking if this is a source package ... OK
* checking if there is a namespace ... OK
* checking for hidden files and directories ... OK
* checking for portable file names ... OK
* checking for sufficient/correct file permissions ... OK
* checking whether package ‘iNETgrate’ can be installed ... OK
* checking installed package size ... OK
* checking package directory ... OK
* checking ‘build’ directory ... OK
* checking DESCRIPTION meta-information ... OK
* checking top-level files ... OK
* checking for left-over files ... OK
* checking index information ... OK
* checking package subdirectories ... OK
* checking code files for non-ASCII characters ... OK
* checking R files for syntax errors ... OK
* checking whether the package can be loaded ... OK
* checking whether the package can be loaded with stated dependencies ... OK
* checking whether the package can be unloaded cleanly ... OK
* checking whether the namespace can be loaded with stated dependencies ... OK
* checking whether the namespace can be unloaded cleanly ... OK
* checking dependencies in R code ... OK
* checking S3 generic/method consistency ... OK
* checking replacement functions ... OK
* checking foreign function calls ... OK
* checking R code for possible problems ... OK
* checking Rd files ... OK
* checking Rd metadata ... OK
* checking Rd cross-references ... OK
* checking for missing documentation entries ... OK
* checking for code/documentation mismatches ... OK
* checking Rd \usage sections ... OK
* checking Rd contents ... OK
* checking for unstated dependencies in examples ... OK
* checking contents of ‘data’ directory ... OK
* checking data for non-ASCII characters ... OK
* checking data for ASCII and uncompressed saves ... OK
* checking sizes of PDF files under ‘inst/doc’ ... OK
* checking files in ‘vignettes’ ... OK
* checking examples ... OK
Examples with CPU (user + system) or elapsed time > 5s
                     user system elapsed
iNETgrate         133.544  2.840 137.488
computEigengenes   69.446  0.449  70.405
toyEigengenes      65.603  0.452  66.549
toyComputEloci     57.583  2.043  60.128
analyzeSurvival    49.398  0.661  50.412
makeNetwork        44.567  0.228  45.092
computEigenloci    18.273  0.822  19.295
cleanAllData       14.089  0.648  14.851
accelFailAnalysis   4.951  0.423   5.435
* checking for unstated dependencies in vignettes ... OK
* checking package vignettes ... OK
* checking running R code from vignettes ... SKIPPED
* checking re-building of vignette outputs ... SKIPPED
* checking PDF version of manual ... OK
* DONE

Status: OK


Installation output

iNETgrate.Rcheck/00install.out

##############################################################################
##############################################################################
###
### Running command:
###
###   /Library/Frameworks/R.framework/Resources/bin/R CMD INSTALL iNETgrate
###
##############################################################################
##############################################################################


* installing to library ‘/Library/Frameworks/R.framework/Versions/4.5-x86_64/Resources/library’
* installing *source* package ‘iNETgrate’ ...
** this is package ‘iNETgrate’ version ‘1.5.0’
** using staged installation
** R
** data
** inst
** byte-compile and prepare package for lazy loading
** help
*** installing help indices
** building package indices
** installing vignettes
** testing if installed package can be loaded from temporary location
** testing if installed package can be loaded from final location
** testing if installed package keeps a record of temporary installation path
* DONE (iNETgrate)

Tests output


Example timings

iNETgrate.Rcheck/iNETgrate-Ex.timings

nameusersystemelapsed
accelFailAnalysis4.9510.4235.435
analyzeSurvival49.398 0.66150.412
bestInetgrator0.2340.1250.470
cleanAllData14.089 0.64814.851
computEigengenes69.446 0.44970.405
computEigenloci18.273 0.82219.295
computeInetgrator0.2350.0940.352
computeUnion2.1290.0372.177
coxAnalysis2.1390.0392.192
createLocusGene0.1240.0100.134
distanceToTss3.3930.1203.537
downloaData000
electGenes2.3370.0592.404
filterLowCor0.3480.0230.372
findAliveCutoff0.1050.0100.115
findCore2.0050.0272.041
findTcgaDuplicates0.1730.0090.183
iNETgrate-package0.2450.0960.369
iNETgrate133.544 2.840137.488
inferEigengenes0.2470.1000.371
makeNetwork44.567 0.22845.092
plotKM0.2080.0330.245
plotLociNum0.2000.0180.220
plotLociTss0.0240.0060.031
prepareSurvival0.1230.0090.133
preprocessDnam1.0140.0521.075
sample2pat0.1480.0120.163
sampleData0.7851.1571.970
toyCleanedAml0.0970.0080.105
toyComputEloci57.583 2.04360.128
toyEigengenes65.603 0.45266.549
toyRawAml0.1270.0100.137