Back to Multiple platform build/check report for BioC 3.21:   simplified   long
ABCDEFGH[I]JKLMNOPQRSTUVWXYZ

This page was generated on 2025-02-15 11:40 -0500 (Sat, 15 Feb 2025).

HostnameOSArch (*)R versionInstalled pkgs
nebbiolo1Linux (Ubuntu 24.04.1 LTS)x86_64R Under development (unstable) (2025-01-20 r87609) -- "Unsuffered Consequences" 4720
palomino7Windows Server 2022 Datacenterx64R Under development (unstable) (2025-01-21 r87610 ucrt) -- "Unsuffered Consequences" 4482
lconwaymacOS 12.7.1 Montereyx86_64R Under development (unstable) (2025-01-22 r87618) -- "Unsuffered Consequences" 4493
kjohnson3macOS 13.7.1 Venturaarm64R Under development (unstable) (2025-01-20 r87609) -- "Unsuffered Consequences" 4446
Click on any hostname to see more info about the system (e.g. compilers)      (*) as reported by 'uname -p', except on Windows and Mac OS X

Package 1000/2295HostnameOS / ArchINSTALLBUILDCHECKBUILD BIN
iCheck 1.37.0  (landing page)
Weiliang Qiu
Snapshot Date: 2025-02-14 13:40 -0500 (Fri, 14 Feb 2025)
git_url: https://git.bioconductor.org/packages/iCheck
git_branch: devel
git_last_commit: 3a391bf
git_last_commit_date: 2024-10-29 10:04:12 -0500 (Tue, 29 Oct 2024)
nebbiolo1Linux (Ubuntu 24.04.1 LTS) / x86_64  OK    OK    OK  UNNEEDED, same version is already published
palomino7Windows Server 2022 Datacenter / x64  OK    OK    OK    OK  UNNEEDED, same version is already published
lconwaymacOS 12.7.1 Monterey / x86_64  OK    OK    OK    OK  UNNEEDED, same version is already published
kjohnson3macOS 13.7.1 Ventura / arm64  OK    OK    OK    OK  UNNEEDED, same version is already published


CHECK results for iCheck on nebbiolo1

To the developers/maintainers of the iCheck package:
- Allow up to 24 hours (and sometimes 48 hours) for your latest push to git@git.bioconductor.org:packages/iCheck.git to reflect on this report. See Troubleshooting Build Report for more information.
- Use the following Renviron settings to reproduce errors and warnings.
- If 'R CMD check' started to fail recently on the Linux builder(s) over a missing dependency, add the missing dependency to 'Suggests:' in your DESCRIPTION file. See Renviron.bioc for more information.

raw results


Summary

Package: iCheck
Version: 1.37.0
Command: /home/biocbuild/bbs-3.21-bioc/R/bin/R CMD check --install=check:iCheck.install-out.txt --library=/home/biocbuild/bbs-3.21-bioc/R/site-library --timings iCheck_1.37.0.tar.gz
StartedAt: 2025-02-14 23:01:20 -0500 (Fri, 14 Feb 2025)
EndedAt: 2025-02-14 23:06:56 -0500 (Fri, 14 Feb 2025)
EllapsedTime: 335.5 seconds
RetCode: 0
Status:   OK  
CheckDir: iCheck.Rcheck
Warnings: 0

Command output

##############################################################################
##############################################################################
###
### Running command:
###
###   /home/biocbuild/bbs-3.21-bioc/R/bin/R CMD check --install=check:iCheck.install-out.txt --library=/home/biocbuild/bbs-3.21-bioc/R/site-library --timings iCheck_1.37.0.tar.gz
###
##############################################################################
##############################################################################


* using log directory ‘/home/biocbuild/bbs-3.21-bioc/meat/iCheck.Rcheck’
* using R Under development (unstable) (2025-01-20 r87609)
* using platform: x86_64-pc-linux-gnu
* R was compiled by
    gcc (Ubuntu 13.3.0-6ubuntu2~24.04) 13.3.0
    GNU Fortran (Ubuntu 13.3.0-6ubuntu2~24.04) 13.3.0
* running under: Ubuntu 24.04.2 LTS
* using session charset: UTF-8
* checking for file ‘iCheck/DESCRIPTION’ ... OK
* checking extension type ... Package
* this is package ‘iCheck’ version ‘1.37.0’
* checking package namespace information ... OK
* checking package dependencies ... OK
* checking if this is a source package ... OK
* checking if there is a namespace ... OK
* checking for hidden files and directories ... OK
* checking for portable file names ... OK
* checking for sufficient/correct file permissions ... OK
* checking whether package ‘iCheck’ can be installed ... OK
* checking installed package size ... OK
* checking package directory ... OK
* checking ‘build’ directory ... OK
* checking DESCRIPTION meta-information ... OK
* checking top-level files ... OK
* checking for left-over files ... OK
* checking index information ... OK
* checking package subdirectories ... OK
* checking code files for non-ASCII characters ... OK
* checking R files for syntax errors ... OK
* checking whether the package can be loaded ... OK
* checking whether the package can be loaded with stated dependencies ... OK
* checking whether the package can be unloaded cleanly ... OK
* checking whether the namespace can be loaded with stated dependencies ... OK
* checking whether the namespace can be unloaded cleanly ... OK
* checking loading without being on the library search path ... OK
* checking dependencies in R code ... OK
* checking S3 generic/method consistency ... OK
* checking replacement functions ... OK
* checking foreign function calls ... OK
* checking R code for possible problems ... OK
* checking Rd files ... NOTE
checkRd: (-1) R2PlotFunc.Rd:74: Lost braces; missing escapes or markup?
    74 |  'las' numeric in {0,1,2,3}; the style of axis labels.
       |                   ^
checkRd: (-1) genSimData.BayesNormal.Rd:93: Lost braces; missing escapes or markup?
    93 | contains 2 columns: \code{arrayID} (array id) and {memSubj} (subject
       |                                                   ^
checkRd: (-1) lmFitWrapper.Rd:85: Lost braces
    85 | code{pval} (p-values of the tests for the covariate of interest, i.e.
       |     ^
checkRd: (-1) plotCurves.Rd:75: Lost braces; missing escapes or markup?
    75 |  'las' numeric in {0,1,2,3}; the style of axis labels.
       |                   ^
checkRd: (-1) plotQCCurves.Rd:102: Lost braces; missing escapes or markup?
   102 |  'las' numeric in {0,1,2,3}; the style of axis labels.
       |                   ^
checkRd: (-1) plotSamplep95p05.Rd:92: Lost braces; missing escapes or markup?
    92 |  'las' numeric in {0,1,2,3}; the style of axis labels.
       |                   ^
checkRd: (-1) quantilePlot.Rd:78: Lost braces; missing escapes or markup?
    78 |  'las' numeric in {0,1,2,3}; the style of axis labels.
       |                   ^
* checking Rd metadata ... OK
* checking Rd cross-references ... NOTE
Found the following Rd file(s) with Rd \link{} targets missing package
anchors:
  R2PlotFunc.Rd: heatmap.2
Please provide package anchors for all Rd \link{} targets not in the
package itself and the base packages.
* checking for missing documentation entries ... OK
* checking for code/documentation mismatches ... OK
* checking Rd \usage sections ... OK
* checking Rd contents ... OK
* checking for unstated dependencies in examples ... OK
* checking files in ‘vignettes’ ... OK
* checking examples ... OK
* checking for unstated dependencies in vignettes ... OK
* checking package vignettes ... OK
* checking re-building of vignette outputs ... OK
* checking PDF version of manual ... OK
* DONE

Status: 2 NOTEs
See
  ‘/home/biocbuild/bbs-3.21-bioc/meat/iCheck.Rcheck/00check.log’
for details.


Installation output

iCheck.Rcheck/00install.out

##############################################################################
##############################################################################
###
### Running command:
###
###   /home/biocbuild/bbs-3.21-bioc/R/bin/R CMD INSTALL iCheck
###
##############################################################################
##############################################################################


* installing to library ‘/home/biocbuild/bbs-3.21-bioc/R/site-library’
* installing *source* package ‘iCheck’ ...
** this is package ‘iCheck’ version ‘1.37.0’
** using staged installation
** R
** byte-compile and prepare package for lazy loading
No methods found in package ‘RSQLite’ for request: ‘dbListFields’ when loading ‘lumi’
** help
*** installing help indices
** building package indices
** installing vignettes
** testing if installed package can be loaded from temporary location
No methods found in package ‘RSQLite’ for request: ‘dbListFields’ when loading ‘lumi’
** testing if installed package can be loaded from final location
No methods found in package ‘RSQLite’ for request: ‘dbListFields’ when loading ‘lumi’
** testing if installed package keeps a record of temporary installation path
* DONE (iCheck)

Tests output


Example timings

iCheck.Rcheck/iCheck-Ex.timings

nameusersystemelapsed
LumiBatch2Table0.0930.0040.097
R2PlotFunc0.2290.0060.220
boxPlots0.140.010.15
densityPlots0.1190.0070.126
genSimData.BayesNormal0.0290.0000.029
getPCAFunc0.0450.0020.046
glmWrapper0.2830.0020.285
lkhrWrapper0.3670.0320.400
lmFitPaired0.0340.0070.042
lmFitWrapper0.0390.0060.045
pca2DPlot0.0720.0060.078
pca3DPlot0.1550.0240.179
plotCurves0.0290.0030.032
plotQCCurves0.0460.0010.047
plotSamplep95p050.0480.0010.050
quantilePlot0.0740.0010.070
scatterPlots0.0830.0040.086
sortExpressionSet0.0380.0020.040