| Back to Multiple platform build/check report for BioC 3.21: simplified long |
|
This page was generated on 2025-10-16 11:40 -0400 (Thu, 16 Oct 2025).
| Hostname | OS | Arch (*) | R version | Installed pkgs |
|---|---|---|---|---|
| nebbiolo1 | Linux (Ubuntu 24.04.3 LTS) | x86_64 | 4.5.1 (2025-06-13) -- "Great Square Root" | 4833 |
| merida1 | macOS 12.7.6 Monterey | x86_64 | 4.5.1 RC (2025-06-05 r88288) -- "Great Square Root" | 4614 |
| kjohnson1 | macOS 13.7.5 Ventura | arm64 | 4.5.1 Patched (2025-06-14 r88325) -- "Great Square Root" | 4555 |
| kunpeng2 | Linux (openEuler 24.03 LTS) | aarch64 | R Under development (unstable) (2025-02-19 r87757) -- "Unsuffered Consequences" | 4586 |
| Click on any hostname to see more info about the system (e.g. compilers) (*) as reported by 'uname -p', except on Windows and Mac OS X | ||||
| Package 1014/2341 | Hostname | OS / Arch | INSTALL | BUILD | CHECK | BUILD BIN | ||||||||
| iCARE 1.36.0 (landing page) Parichoy Pal Choudhury
| nebbiolo1 | Linux (Ubuntu 24.04.3 LTS) / x86_64 | OK | OK | WARNINGS | |||||||||
| merida1 | macOS 12.7.6 Monterey / x86_64 | OK | OK | WARNINGS | OK | |||||||||
| kjohnson1 | macOS 13.7.5 Ventura / arm64 | ERROR | ERROR | skipped | skipped | |||||||||
| kunpeng2 | Linux (openEuler 24.03 LTS) / aarch64 | OK | OK | WARNINGS | ||||||||||
|
To the developers/maintainers of the iCARE package: - Allow up to 24 hours (and sometimes 48 hours) for your latest push to git@git.bioconductor.org:packages/iCARE.git to reflect on this report. See Troubleshooting Build Report for more information. - Use the following Renviron settings to reproduce errors and warnings. - If 'R CMD check' started to fail recently on the Linux builder(s) over a missing dependency, add the missing dependency to 'Suggests:' in your DESCRIPTION file. See Renviron.bioc for more information. |
| Package: iCARE |
| Version: 1.36.0 |
| Command: /Library/Frameworks/R.framework/Resources/bin/R CMD build --keep-empty-dirs --no-resave-data iCARE |
| StartedAt: 2025-10-14 02:27:38 -0400 (Tue, 14 Oct 2025) |
| EndedAt: 2025-10-14 02:27:40 -0400 (Tue, 14 Oct 2025) |
| EllapsedTime: 2.3 seconds |
| RetCode: 1 |
| Status: ERROR |
| PackageFile: None |
| PackageFileSize: NA |
##############################################################################
##############################################################################
###
### Running command:
###
### /Library/Frameworks/R.framework/Resources/bin/R CMD build --keep-empty-dirs --no-resave-data iCARE
###
##############################################################################
##############################################################################
* checking for file ‘iCARE/DESCRIPTION’ ... OK
* preparing ‘iCARE’:
* checking DESCRIPTION meta-information ... OK
* cleaning src
* installing the package to build vignettes
-----------------------------------
* installing *source* package ‘iCARE’ ...
** this is package ‘iCARE’ version ‘1.36.0’
** using staged installation
** libs
using C compiler: ‘Apple clang version 15.0.0 (clang-1500.0.40.1)’
using SDK: ‘MacOSX11.3.sdk’
clang -arch arm64 -std=gnu2x -I"/Library/Frameworks/R.framework/Resources/include" -DNDEBUG -I/opt/R/arm64/include -fPIC -falign-functions=64 -Wall -g -O2 -c source.c -o source.o
source.c:45:21: error: unknown type name 'n'
double * dVec_alloc(n, initFlag, initVal)
^
source.c:45:24: error: unknown type name 'initFlag'
double * dVec_alloc(n, initFlag, initVal)
^
source.c:45:34: error: unknown type name 'initVal'
double * dVec_alloc(n, initFlag, initVal)
^
source.c:45:42: error: expected ';' after top level declarator
double * dVec_alloc(n, initFlag, initVal)
^
;
source.c:48:1: error: expected identifier or '('
{
^
source.c:64:18: error: unknown type name 'n'
int * iVec_alloc(n, initFlag, initVal)
^
source.c:64:21: error: unknown type name 'initFlag'
int * iVec_alloc(n, initFlag, initVal)
^
source.c:64:31: error: unknown type name 'initVal'
int * iVec_alloc(n, initFlag, initVal)
^
source.c:64:39: error: expected ';' after top level declarator
int * iVec_alloc(n, initFlag, initVal)
^
;
source.c:65:18: error: redefinition of 'initVal' with a different type: 'int' vs 'double'
int n, initFlag, initVal;
^
source.c:47:8: note: previous definition is here
double initVal;
^
source.c:66:1: error: expected identifier or '('
{
^
source.c:81:22: error: unknown type name 'nrow'
double ** dMat_alloc(nrow, ncol, initFlag, initVal)
^
source.c:81:28: error: unknown type name 'ncol'
double ** dMat_alloc(nrow, ncol, initFlag, initVal)
^
source.c:81:34: error: unknown type name 'initFlag'
double ** dMat_alloc(nrow, ncol, initFlag, initVal)
^
source.c:81:44: error: unknown type name 'initVal'
double ** dMat_alloc(nrow, ncol, initFlag, initVal)
^
source.c:81:52: error: expected ';' after top level declarator
double ** dMat_alloc(nrow, ncol, initFlag, initVal)
^
;
source.c:84:1: error: expected identifier or '('
{
^
source.c:98:18: error: unknown type name 'x'
void matrix_free(x, n)
^
source.c:98:21: error: unknown type name 'n'
void matrix_free(x, n)
^
fatal error: too many errors emitted, stopping now [-ferror-limit=]
20 errors generated.
make: *** [source.o] Error 1
ERROR: compilation failed for package ‘iCARE’
* removing ‘/private/tmp/RtmpDNa6xu/Rinst157c07a45fac0/iCARE’
-----------------------------------
ERROR: package installation failed