| Back to Multiple platform build/check report for BioC 3.21: simplified long |
|
This page was generated on 2025-10-16 11:39 -0400 (Thu, 16 Oct 2025).
| Hostname | OS | Arch (*) | R version | Installed pkgs |
|---|---|---|---|---|
| nebbiolo1 | Linux (Ubuntu 24.04.3 LTS) | x86_64 | 4.5.1 (2025-06-13) -- "Great Square Root" | 4833 |
| merida1 | macOS 12.7.6 Monterey | x86_64 | 4.5.1 RC (2025-06-05 r88288) -- "Great Square Root" | 4614 |
| kjohnson1 | macOS 13.7.5 Ventura | arm64 | 4.5.1 Patched (2025-06-14 r88325) -- "Great Square Root" | 4555 |
| kunpeng2 | Linux (openEuler 24.03 LTS) | aarch64 | R Under development (unstable) (2025-02-19 r87757) -- "Unsuffered Consequences" | 4586 |
| Click on any hostname to see more info about the system (e.g. compilers) (*) as reported by 'uname -p', except on Windows and Mac OS X | ||||
| Package 987/2341 | Hostname | OS / Arch | INSTALL | BUILD | CHECK | BUILD BIN | ||||||||
| hiReadsProcessor 1.44.0 (landing page) Nirav V Malani
| nebbiolo1 | Linux (Ubuntu 24.04.3 LTS) / x86_64 | OK | OK | OK | |||||||||
| merida1 | macOS 12.7.6 Monterey / x86_64 | OK | OK | OK | OK | |||||||||
| kjohnson1 | macOS 13.7.5 Ventura / arm64 | OK | OK | OK | OK | |||||||||
| kunpeng2 | Linux (openEuler 24.03 LTS) / aarch64 | OK | OK | OK | ||||||||||
|
To the developers/maintainers of the hiReadsProcessor package: - Allow up to 24 hours (and sometimes 48 hours) for your latest push to git@git.bioconductor.org:packages/hiReadsProcessor.git to reflect on this report. See Troubleshooting Build Report for more information. - Use the following Renviron settings to reproduce errors and warnings. - If 'R CMD check' started to fail recently on the Linux builder(s) over a missing dependency, add the missing dependency to 'Suggests:' in your DESCRIPTION file. See Renviron.bioc for more information. |
| Package: hiReadsProcessor |
| Version: 1.44.0 |
| Command: /Library/Frameworks/R.framework/Resources/bin/R CMD check --install=check:hiReadsProcessor.install-out.txt --library=/Library/Frameworks/R.framework/Resources/library --no-vignettes --timings hiReadsProcessor_1.44.0.tar.gz |
| StartedAt: 2025-10-14 05:09:26 -0400 (Tue, 14 Oct 2025) |
| EndedAt: 2025-10-14 05:18:50 -0400 (Tue, 14 Oct 2025) |
| EllapsedTime: 563.4 seconds |
| RetCode: 0 |
| Status: OK |
| CheckDir: hiReadsProcessor.Rcheck |
| Warnings: 0 |
##############################################################################
##############################################################################
###
### Running command:
###
### /Library/Frameworks/R.framework/Resources/bin/R CMD check --install=check:hiReadsProcessor.install-out.txt --library=/Library/Frameworks/R.framework/Resources/library --no-vignettes --timings hiReadsProcessor_1.44.0.tar.gz
###
##############################################################################
##############################################################################
* using log directory ‘/Users/biocbuild/bbs-3.21-bioc/meat/hiReadsProcessor.Rcheck’
* using R version 4.5.1 RC (2025-06-05 r88288)
* using platform: x86_64-apple-darwin20
* R was compiled by
Apple clang version 14.0.0 (clang-1400.0.29.202)
GNU Fortran (GCC) 14.2.0
* running under: macOS Monterey 12.7.6
* using session charset: UTF-8
* using option ‘--no-vignettes’
* checking for file ‘hiReadsProcessor/DESCRIPTION’ ... OK
* this is package ‘hiReadsProcessor’ version ‘1.44.0’
* checking package namespace information ... OK
* checking package dependencies ... OK
* checking if this is a source package ... OK
* checking if there is a namespace ... OK
* checking for hidden files and directories ... NOTE
Found the following hidden files and directories:
.BBSoptions
These were most likely included in error. See section ‘Package
structure’ in the ‘Writing R Extensions’ manual.
* checking for portable file names ... OK
* checking for sufficient/correct file permissions ... OK
* checking whether package ‘hiReadsProcessor’ can be installed ... OK
* checking installed package size ... OK
* checking package directory ... OK
* checking ‘build’ directory ... OK
* checking DESCRIPTION meta-information ... OK
* checking top-level files ... OK
* checking for left-over files ... OK
* checking index information ... OK
* checking package subdirectories ... OK
* checking code files for non-ASCII characters ... OK
* checking R files for syntax errors ... OK
* checking whether the package can be loaded ... OK
* checking whether the package can be loaded with stated dependencies ... OK
* checking whether the package can be unloaded cleanly ... OK
* checking whether the namespace can be loaded with stated dependencies ... OK
* checking whether the namespace can be unloaded cleanly ... OK
* checking dependencies in R code ... OK
* checking S3 generic/method consistency ... OK
* checking replacement functions ... OK
* checking foreign function calls ... OK
* checking R code for possible problems ... NOTE
chunkize: no visible global function definition for ‘breakInChunks’
chunkize: no visible global function definition for ‘detectCores’
clusterSites : <anonymous>: no visible binding for global variable
‘queryHits’
clusterSites: no visible binding for global variable ‘clusteredValue’
clusterSites: no visible binding for global variable
‘clusteredValue.freq’
crossOverCheck: no visible binding for global variable ‘queryHits’
decodeByBarcode: no visible global function definition for ‘metadata<-’
decodeByBarcode: no visible global function definition for ‘metadata’
extractSeqs : <anonymous>: no visible global function definition for
‘metadata’
extractSeqs : <anonymous> : <anonymous> : <anonymous>: no visible
global function definition for ‘IRanges’
extractSeqs : <anonymous> : <anonymous>: no visible global function
definition for ‘IRanges’
findBarcodes: no visible global function definition for ‘metadata<-’
findBarcodes: no visible global function definition for ‘metadata’
findIntegrations: no visible global function definition for
‘fasta.info’
findIntegrations : <anonymous>: no visible global function definition
for ‘IRanges’
findVector : <anonymous>: no visible global function definition for
‘IRanges’
pairUpAlignments : <anonymous>: no visible binding for global variable
‘queryHits’
pairwiseAlignSeqs: no visible global function definition for
‘IRangesList’
pairwiseAlignSeqs: no visible global function definition for ‘IRanges’
primerIDAlignSeqs: no visible global function definition for ‘IRanges’
primerIDAlignSeqs: no visible global function definition for
‘IRangesList’
pslToRangedObject: no visible global function definition for ‘IRanges’
read.BAMasPSL: no visible global function definition for ‘ScanBamParam’
read.BAMasPSL: no visible global function definition for ‘scanBamFlag’
read.BAMasPSL: no visible global function definition for ‘DataFrame’
read.SeqFolder: no visible global function definition for ‘SimpleList’
read.psl: no visible global function definition for ‘mclapply’
read.psl : <anonymous>: no visible binding for global variable
‘matches’
read.psl : <anonymous>: no visible binding for global variable
‘misMatches’
read.psl : <anonymous>: no visible binding for global variable
‘qBaseInsert’
read.psl : <anonymous>: no visible binding for global variable
‘tBaseInsert’
read.psl: no visible binding for global variable ‘matches’
read.psl: no visible binding for global variable ‘misMatches’
read.psl: no visible binding for global variable ‘qBaseInsert’
read.psl: no visible binding for global variable ‘tBaseInsert’
read.sampleInfo: no visible global function definition for ‘SimpleList’
splitSeqsToFiles: no visible global function definition for
‘fasta.info’
vpairwiseAlignSeqs: no visible global function definition for ‘Rle’
vpairwiseAlignSeqs: no visible global function definition for
‘runLength’
vpairwiseAlignSeqs: no visible global function definition for ‘IRanges’
vpairwiseAlignSeqs: no visible global function definition for
‘runValue’
Undefined global functions or variables:
DataFrame IRanges IRangesList Rle ScanBamParam SimpleList
breakInChunks clusteredValue clusteredValue.freq detectCores
fasta.info matches mclapply metadata metadata<- misMatches
qBaseInsert queryHits runLength runValue scanBamFlag tBaseInsert
* checking Rd files ... OK
* checking Rd metadata ... OK
* checking Rd cross-references ... NOTE
Found the following Rd file(s) with Rd \link{} targets missing package
anchors:
annotateSites.Rd: SerialParam, doAnnotation
blatSeqs.Rd: BiocParallel, SerialParam
clusterSites.Rd: BiocParallel, SerialParam
doRCtest.Rd: vcountPattern, BiocParallel, SerialParam
findAndRemoveVector.Rd: BiocParallel, SerialParam, MulticoreParam,
SnowParam
findAndTrimSeq.Rd: vmatchPattern, pairwiseAlignment, MulticoreParam,
SnowParam
findIntegrations.Rd: BiocParallel, SerialParam, MulticoreParam,
SnowParam
findLTRs.Rd: BiocParallel, SerialParam, pairwiseAlignment,
MulticoreParam, SnowParam
findLinkers.Rd: BiocParallel, SerialParam, pairwiseAlignment,
MulticoreParam, SnowParam
findPrimers.Rd: vmatchPattern, pairwiseAlignment, SerialParam,
MulticoreParam, SnowParam
findVector.Rd: BiocParallel, SerialParam, MulticoreParam, SnowParam
getSonicAbund.Rd: sonicLength, BiocParallel, SerialParam
isuSites.Rd: BiocParallel, SerialParam
otuSites.Rd: BiocParallel, SerialParam
pairUpAlignments.Rd: BiocParallel, SerialParam
pairwiseAlignSeqs.Rd: pairwiseAlignment, BiocParallel, SerialParam,
MulticoreParam, SnowParam
primerIDAlignSeqs.Rd: pairwiseAlignment
read.blast8.Rd: BiocParallel, SerialParam, MulticoreParam, SnowParam
read.psl.Rd: BiocParallel, SerialParam, MulticoreParam, SnowParam
troubleshootLinkers.Rd: BiocParallel, SerialParam, pairwiseAlignment,
MulticoreParam, SnowParam
vpairwiseAlignSeqs.Rd: vmatchPattern, BiocParallel, SerialParam,
MulticoreParam, SnowParam
write.listedDNAStringSet.Rd: BiocParallel, SerialParam,
writeXStringSet, MulticoreParam, SnowParam
Please provide package anchors for all Rd \link{} targets not in the
package itself and the base packages.
* checking for missing documentation entries ... OK
* checking for code/documentation mismatches ... OK
* checking Rd \usage sections ... OK
* checking Rd contents ... OK
* checking for unstated dependencies in examples ... OK
* checking contents of ‘data’ directory ... OK
* checking data for non-ASCII characters ... OK
* checking data for ASCII and uncompressed saves ... OK
* checking files in ‘vignettes’ ... OK
* checking examples ... OK
Examples with CPU (user + system) or elapsed time > 5s
user system elapsed
isuSites 5.529 0.400 6.228
otuSites 5.715 0.024 6.211
* checking for unstated dependencies in vignettes ... OK
* checking package vignettes ... OK
* checking running R code from vignettes ... SKIPPED
* checking re-building of vignette outputs ... SKIPPED
* checking PDF version of manual ... OK
* DONE
Status: 3 NOTEs
See
‘/Users/biocbuild/bbs-3.21-bioc/meat/hiReadsProcessor.Rcheck/00check.log’
for details.
hiReadsProcessor.Rcheck/00install.out
############################################################################## ############################################################################## ### ### Running command: ### ### /Library/Frameworks/R.framework/Resources/bin/R CMD INSTALL hiReadsProcessor ### ############################################################################## ############################################################################## * installing to library ‘/Library/Frameworks/R.framework/Versions/4.5-x86_64/Resources/library’ * installing *source* package ‘hiReadsProcessor’ ... ** this is package ‘hiReadsProcessor’ version ‘1.44.0’ ** using staged installation ** R ** data ** inst ** byte-compile and prepare package for lazy loading ** help *** installing help indices ** building package indices ** installing vignettes ** testing if installed package can be loaded from temporary location ** testing if installed package can be loaded from final location ** testing if installed package keeps a record of temporary installation path * DONE (hiReadsProcessor)
hiReadsProcessor.Rcheck/hiReadsProcessor-Ex.timings
| name | user | system | elapsed | |
| addFeature | 0.388 | 0.046 | 0.459 | |
| addListNameToReads | 0.516 | 0.010 | 0.548 | |
| annotateSites | 0.000 | 0.001 | 0.001 | |
| blatSeqs | 0.000 | 0.000 | 0.001 | |
| chunkize | 0.064 | 0.003 | 0.071 | |
| clusterSites | 0.664 | 0.009 | 0.710 | |
| crossOverCheck | 0.225 | 0.004 | 0.237 | |
| dereplicateReads | 0.096 | 0.003 | 0.105 | |
| doRCtest | 3.810 | 0.171 | 4.045 | |
| extractFeature | 0.233 | 0.073 | 0.362 | |
| extractSeqs | 0.911 | 0.125 | 1.179 | |
| findAndTrimSeq | 1.562 | 0.340 | 1.946 | |
| findBarcodes | 0.964 | 0.004 | 0.979 | |
| findIntegrations | 0.000 | 0.001 | 0.001 | |
| findLTRs | 0 | 0 | 0 | |
| findLinkers | 0.000 | 0.001 | 0.000 | |
| findPrimers | 0.000 | 0.001 | 0.000 | |
| findVector | 0.000 | 0.001 | 0.000 | |
| getIntegrationSites | 2.362 | 0.020 | 2.407 | |
| getSectorsForSamples | 0.156 | 0.008 | 0.171 | |
| getSonicAbund | 0.672 | 0.473 | 1.135 | |
| isuSites | 5.529 | 0.400 | 6.228 | |
| otuSites | 5.715 | 0.024 | 6.211 | |
| pairUpAlignments | 0.000 | 0.000 | 0.001 | |
| pairwiseAlignSeqs | 3.067 | 1.169 | 4.487 | |
| primerIDAlignSeqs | 3.869 | 0.613 | 4.837 | |
| pslCols | 0.000 | 0.001 | 0.002 | |
| pslToRangedObject | 0.400 | 0.017 | 0.457 | |
| read.BAMasPSL | 0.000 | 0.001 | 0.001 | |
| read.SeqFolder | 2.437 | 0.076 | 2.896 | |
| read.blast8 | 0.001 | 0.000 | 0.001 | |
| read.psl | 0.000 | 0.000 | 0.001 | |
| read.sampleInfo | 2.400 | 0.019 | 2.679 | |
| read.seqsFromSector | 0 | 0 | 0 | |
| removeReadsWithNs | 0.041 | 0.002 | 0.046 | |
| replicateReads | 0.102 | 0.003 | 0.118 | |
| sampleSummary | 1.598 | 0.037 | 1.804 | |
| splitByBarcode | 0.061 | 0.002 | 0.070 | |
| splitSeqsToFiles | 0.306 | 0.013 | 0.347 | |
| startgfServer | 0.000 | 0.000 | 0.001 | |
| trimSeqs | 0.054 | 0.002 | 0.061 | |
| vpairwiseAlignSeqs | 2.772 | 1.114 | 4.060 | |
| write.listedDNAStringSet | 0.000 | 0.001 | 0.001 | |
| write.psl | 0.043 | 0.012 | 0.063 | |