Back to Multiple platform build/check report for BioC 3.21:   simplified   long
ABCDE[F]GHIJKLMNOPQRSTUVWXYZ

This page was generated on 2025-02-15 11:41 -0500 (Sat, 15 Feb 2025).

HostnameOSArch (*)R versionInstalled pkgs
nebbiolo1Linux (Ubuntu 24.04.1 LTS)x86_64R Under development (unstable) (2025-01-20 r87609) -- "Unsuffered Consequences" 4720
palomino7Windows Server 2022 Datacenterx64R Under development (unstable) (2025-01-21 r87610 ucrt) -- "Unsuffered Consequences" 4482
lconwaymacOS 12.7.1 Montereyx86_64R Under development (unstable) (2025-01-22 r87618) -- "Unsuffered Consequences" 4493
kjohnson3macOS 13.7.1 Venturaarm64R Under development (unstable) (2025-01-20 r87609) -- "Unsuffered Consequences" 4446
Click on any hostname to see more info about the system (e.g. compilers)      (*) as reported by 'uname -p', except on Windows and Mac OS X

Package 712/2295HostnameOS / ArchINSTALLBUILDCHECKBUILD BIN
fgsea 1.33.2  (landing page)
Alexey Sergushichev
Snapshot Date: 2025-02-14 13:40 -0500 (Fri, 14 Feb 2025)
git_url: https://git.bioconductor.org/packages/fgsea
git_branch: devel
git_last_commit: f5458a4
git_last_commit_date: 2024-12-19 11:47:37 -0500 (Thu, 19 Dec 2024)
nebbiolo1Linux (Ubuntu 24.04.1 LTS) / x86_64  OK    OK    OK  UNNEEDED, same version is already published
palomino7Windows Server 2022 Datacenter / x64  OK    OK    OK    OK  UNNEEDED, same version is already published
lconwaymacOS 12.7.1 Monterey / x86_64  OK    OK    OK    OK  UNNEEDED, same version is already published
kjohnson3macOS 13.7.1 Ventura / arm64  OK    OK    OK    OK  UNNEEDED, same version is already published


INSTALL results for fgsea on palomino7

To the developers/maintainers of the fgsea package:
- Allow up to 24 hours (and sometimes 48 hours) for your latest push to git@git.bioconductor.org:packages/fgsea.git to reflect on this report. See Troubleshooting Build Report for more information.
- Use the following Renviron settings to reproduce errors and warnings.
- If 'R CMD check' started to fail recently on the Linux builder(s) over a missing dependency, add the missing dependency to 'Suggests:' in your DESCRIPTION file. See Renviron.bioc for more information.

raw results


Summary

Package: fgsea
Version: 1.33.2
Command: E:\biocbuild\bbs-3.21-bioc\R\bin\R.exe CMD INSTALL fgsea
StartedAt: 2025-02-14 16:27:50 -0500 (Fri, 14 Feb 2025)
EndedAt: 2025-02-14 16:28:44 -0500 (Fri, 14 Feb 2025)
EllapsedTime: 53.6 seconds
RetCode: 0
Status:   OK  

Command output

##############################################################################
##############################################################################
###
### Running command:
###
###   E:\biocbuild\bbs-3.21-bioc\R\bin\R.exe CMD INSTALL fgsea
###
##############################################################################
##############################################################################


* installing to library 'E:/biocbuild/bbs-3.21-bioc/R/library'
* installing *source* package 'fgsea' ...
** this is package 'fgsea' version '1.33.2'
** using staged installation
** libs
using C++ compiler: 'G__~1.EXE (GCC) 13.3.0'
g++ -std=gnu++17  -I"E:/biocbuild/bbs-3.21-bioc/R/include" -DNDEBUG  -I'E:/biocbuild/bbs-3.21-bioc/R/library/Rcpp/include' -I'E:/biocbuild/bbs-3.21-bioc/R/library/BH/include'   -I"C:/rtools44/x86_64-w64-mingw32.static.posix/include"      -O2 -Wall  -mfpmath=sse -msse2 -mstackrealign   -DR_NO_REMAP -c RcppExports.cpp -o RcppExports.o
g++ -std=gnu++17  -I"E:/biocbuild/bbs-3.21-bioc/R/include" -DNDEBUG  -I'E:/biocbuild/bbs-3.21-bioc/R/library/Rcpp/include' -I'E:/biocbuild/bbs-3.21-bioc/R/library/BH/include'   -I"C:/rtools44/x86_64-w64-mingw32.static.posix/include"      -O2 -Wall  -mfpmath=sse -msse2 -mstackrealign   -DR_NO_REMAP -c ScoreCalculation.cpp -o ScoreCalculation.o
g++ -std=gnu++17  -I"E:/biocbuild/bbs-3.21-bioc/R/include" -DNDEBUG  -I'E:/biocbuild/bbs-3.21-bioc/R/library/Rcpp/include' -I'E:/biocbuild/bbs-3.21-bioc/R/library/BH/include'   -I"C:/rtools44/x86_64-w64-mingw32.static.posix/include"      -O2 -Wall  -mfpmath=sse -msse2 -mstackrealign   -DR_NO_REMAP -c ScoreRuler.cpp -o ScoreRuler.o
ScoreRuler.cpp: In member function 'void ScoreRuler::extend(double, int, double)':
ScoreRuler.cpp:76:31: warning: comparison of integer expressions of different signedness: 'int' and 'unsigned int' [-Wsign-compare]
   76 |         for (moves = 0; moves < sampleSize * genesetSize;) {
      |                         ~~~~~~^~~~~~~~~~~~~~~~~~~~~~~~~~
g++ -std=gnu++17  -I"E:/biocbuild/bbs-3.21-bioc/R/include" -DNDEBUG  -I'E:/biocbuild/bbs-3.21-bioc/R/library/Rcpp/include' -I'E:/biocbuild/bbs-3.21-bioc/R/library/BH/include'   -I"C:/rtools44/x86_64-w64-mingw32.static.posix/include"      -O2 -Wall  -mfpmath=sse -msse2 -mstackrealign   -DR_NO_REMAP -c esCalculation.cpp -o esCalculation.o
g++ -std=gnu++17  -I"E:/biocbuild/bbs-3.21-bioc/R/include" -DNDEBUG  -I'E:/biocbuild/bbs-3.21-bioc/R/library/Rcpp/include' -I'E:/biocbuild/bbs-3.21-bioc/R/library/BH/include'   -I"C:/rtools44/x86_64-w64-mingw32.static.posix/include"      -O2 -Wall  -mfpmath=sse -msse2 -mstackrealign   -DR_NO_REMAP -c fastGSEA.cpp -o fastGSEA.o
fastGSEA.cpp: In function 'Rcpp::NumericVector calcGseaStatBatchCpp(const Rcpp::NumericVector&, const Rcpp::List&, const Rcpp::IntegerVector&)':
fastGSEA.cpp:446:27: warning: comparison of integer expressions of different signedness: 'int' and 'std::vector<int>::size_type' {aka 'long long unsigned int'} [-Wsign-compare]
  446 |         for (int j = 0; j < S.size(); ++j) {
      |                         ~~^~~~~~~~~~
g++ -std=gnu++17  -I"E:/biocbuild/bbs-3.21-bioc/R/include" -DNDEBUG  -I'E:/biocbuild/bbs-3.21-bioc/R/library/Rcpp/include' -I'E:/biocbuild/bbs-3.21-bioc/R/library/BH/include'   -I"C:/rtools44/x86_64-w64-mingw32.static.posix/include"      -O2 -Wall  -mfpmath=sse -msse2 -mstackrealign   -DR_NO_REMAP -c fgseaMultilevel.cpp -o fgseaMultilevel.o
fgseaMultilevel.cpp: In function 'Rcpp::DataFrame fgseaMultilevelCpp(const Rcpp::NumericVector&, const Rcpp::NumericVector&, int, int, int, double, bool)':
fgseaMultilevel.cpp:10:23: warning: comparison of integer expressions of different signedness: 'int' and 'std::vector<double>::size_type' {aka 'long long unsigned int'} [-Wsign-compare]
   10 |     for (int i = 0; i < posRanks.size(); i++) {
      |                     ~~^~~~~~~~~~~~~~~~~
g++ -std=gnu++17  -I"E:/biocbuild/bbs-3.21-bioc/R/include" -DNDEBUG  -I'E:/biocbuild/bbs-3.21-bioc/R/library/Rcpp/include' -I'E:/biocbuild/bbs-3.21-bioc/R/library/BH/include'   -I"C:/rtools44/x86_64-w64-mingw32.static.posix/include"      -O2 -Wall  -mfpmath=sse -msse2 -mstackrealign   -DR_NO_REMAP -c fgseaMultilevelSupplement.cpp -o fgseaMultilevelSupplement.o
fgseaMultilevelSupplement.cpp: In member function 'void EsRuler::duplicateSamples()':
fgseaMultilevelSupplement.cpp:40:37: warning: comparison of integer expressions of different signedness: 'int' and 'const unsigned int' [-Wsign-compare]
   40 |     for (int sampleId = 0; sampleId < sampleSize; sampleId++) {
      |                            ~~~~~~~~~^~~~~~~~~~~~
fgseaMultilevelSupplement.cpp:50:41: warning: comparison of integer expressions of different signedness: 'int' and 'const unsigned int' [-Wsign-compare]
   50 |     for (int sampleId = 0; 2 * sampleId < sampleSize; sampleId++) {
      |                            ~~~~~~~~~~~~~^~~~~~~~~~~~
fgseaMultilevelSupplement.cpp:59:41: warning: comparison of integer expressions of different signedness: 'int' and 'unsigned int' [-Wsign-compare]
   59 |     for (int sampleId = 0; 2 * sampleId < sampleSize - 2; sampleId++) {
      |                            ~~~~~~~~~~~~~^~~~~~~~~~~~~~~~
fgseaMultilevelSupplement.cpp: In member function 'void EsRuler::extend(double, int, double)':
fgseaMultilevelSupplement.cpp:73:37: warning: comparison of integer expressions of different signedness: 'int' and 'const unsigned int' [-Wsign-compare]
   73 |     for (int sampleId = 0; sampleId < sampleSize; sampleId++) {
      |                            ~~~~~~~~~^~~~~~~~~~~~
fgseaMultilevelSupplement.cpp:77:16: warning: unused variable 'currentES' [-Wunused-variable]
   77 |         double currentES = calcES(ranks, currentSamples[sampleId]);
      |                ^~~~~~~~~
fgseaMultilevelSupplement.cpp:90:31: warning: comparison of integer expressions of different signedness: 'int' and 'const unsigned int' [-Wsign-compare]
   90 |             for (int j = 0; j < sampleSize; ++j) {
      |                             ~~^~~~~~~~~~~~
fgseaMultilevelSupplement.cpp:97:27: warning: comparison of integer expressions of different signedness: 'int' and 'const unsigned int' [-Wsign-compare]
   97 |         for (int i = 0; i < sampleSize; ++i) {
      |                         ~~^~~~~~~~~~~~
fgseaMultilevelSupplement.cpp:112:35: warning: comparison of integer expressions of different signedness: 'int' and 'unsigned int' [-Wsign-compare]
  112 |         for (int moves = 0; moves < sampleSize * pathwaySize;) {
      |                             ~~~~~~^~~~~~~~~~~~~~~~~~~~~~~~~~
fgseaMultilevelSupplement.cpp:113:45: warning: comparison of integer expressions of different signedness: 'int' and 'const unsigned int' [-Wsign-compare]
  113 |             for (int sampleId = 0; sampleId < sampleSize; sampleId++) {
      |                                    ~~~~~~~~~^~~~~~~~~~~~
fgseaMultilevelSupplement.cpp:118:27: warning: comparison of integer expressions of different signedness: 'int' and 'const unsigned int' [-Wsign-compare]
  118 |         for (int i = 0; i < sampleSize; ++i) {
      |                         ~~^~~~~~~~~~~~
fgseaMultilevelSupplement.cpp: In member function 'int EsRuler::perturbate(const std::vector<double>&, int, SampleChunks&, double, std::mt19937&)':
fgseaMultilevelSupplement.cpp:270:14: warning: unused variable 'fl' [-Wunused-variable]
  270 |         bool fl = false;
      |              ^~
g++ -std=gnu++17  -I"E:/biocbuild/bbs-3.21-bioc/R/include" -DNDEBUG  -I'E:/biocbuild/bbs-3.21-bioc/R/library/Rcpp/include' -I'E:/biocbuild/bbs-3.21-bioc/R/library/BH/include'   -I"C:/rtools44/x86_64-w64-mingw32.static.posix/include"      -O2 -Wall  -mfpmath=sse -msse2 -mstackrealign   -DR_NO_REMAP -c geseca.cpp -o geseca.o
geseca.cpp: In function 'Rcpp::List gesecaCpp(const Rcpp::NumericMatrix&, const Rcpp::NumericVector&, unsigned int, unsigned int, int, double)':
geseca.cpp:9:28: warning: comparison of integer expressions of different signedness: 'unsigned int' and 'int' [-Wsign-compare]
    9 |     for (unsigned i = 0; i < E.nrow(); i++){
      |                          ~~^~~~~~~~~~
g++ -std=gnu++17  -I"E:/biocbuild/bbs-3.21-bioc/R/include" -DNDEBUG  -I'E:/biocbuild/bbs-3.21-bioc/R/library/Rcpp/include' -I'E:/biocbuild/bbs-3.21-bioc/R/library/BH/include'   -I"C:/rtools44/x86_64-w64-mingw32.static.posix/include"      -O2 -Wall  -mfpmath=sse -msse2 -mstackrealign   -DR_NO_REMAP -c util.cpp -o util.o
g++ -std=gnu++17 -shared -s -static-libgcc -o fgsea.dll tmp.def RcppExports.o ScoreCalculation.o ScoreRuler.o esCalculation.o fastGSEA.o fgseaMultilevel.o fgseaMultilevelSupplement.o geseca.o util.o -LC:/rtools44/x86_64-w64-mingw32.static.posix/lib/x64 -LC:/rtools44/x86_64-w64-mingw32.static.posix/lib -LE:/biocbuild/bbs-3.21-bioc/R/bin/x64 -lR
installing to E:/biocbuild/bbs-3.21-bioc/R/library/00LOCK-fgsea/00new/fgsea/libs/x64
** R
** data
*** moving datasets to lazyload DB
** inst
** byte-compile and prepare package for lazy loading
** help
*** installing help indices
** building package indices
** installing vignettes
** testing if installed package can be loaded from temporary location
** testing if installed package can be loaded from final location
** testing if installed package keeps a record of temporary installation path
* DONE (fgsea)