Back to Multiple platform build/check report for BioC 3.21:   simplified   long
ABCD[E]FGHIJKLMNOPQRSTUVWXYZ

This page was generated on 2025-02-15 11:42 -0500 (Sat, 15 Feb 2025).

HostnameOSArch (*)R versionInstalled pkgs
nebbiolo1Linux (Ubuntu 24.04.1 LTS)x86_64R Under development (unstable) (2025-01-20 r87609) -- "Unsuffered Consequences" 4720
palomino7Windows Server 2022 Datacenterx64R Under development (unstable) (2025-01-21 r87610 ucrt) -- "Unsuffered Consequences" 4482
lconwaymacOS 12.7.1 Montereyx86_64R Under development (unstable) (2025-01-22 r87618) -- "Unsuffered Consequences" 4493
kjohnson3macOS 13.7.1 Venturaarm64R Under development (unstable) (2025-01-20 r87609) -- "Unsuffered Consequences" 4446
Click on any hostname to see more info about the system (e.g. compilers)      (*) as reported by 'uname -p', except on Windows and Mac OS X

Package 655/2295HostnameOS / ArchINSTALLBUILDCHECKBUILD BIN
epigenomix 1.47.0  (landing page)
Hans-Ulrich Klein
Snapshot Date: 2025-02-14 13:40 -0500 (Fri, 14 Feb 2025)
git_url: https://git.bioconductor.org/packages/epigenomix
git_branch: devel
git_last_commit: 6b8078f
git_last_commit_date: 2024-10-29 09:44:59 -0500 (Tue, 29 Oct 2024)
nebbiolo1Linux (Ubuntu 24.04.1 LTS) / x86_64  OK    OK    OK  UNNEEDED, same version is already published
palomino7Windows Server 2022 Datacenter / x64  OK    OK    OK    OK  UNNEEDED, same version is already published
lconwaymacOS 12.7.1 Monterey / x86_64  OK    OK    OK    OK  UNNEEDED, same version is already published
kjohnson3macOS 13.7.1 Ventura / arm64  OK    OK    OK    OK  UNNEEDED, same version is already published


CHECK results for epigenomix on lconway

To the developers/maintainers of the epigenomix package:
- Allow up to 24 hours (and sometimes 48 hours) for your latest push to git@git.bioconductor.org:packages/epigenomix.git to reflect on this report. See Troubleshooting Build Report for more information.
- Use the following Renviron settings to reproduce errors and warnings.
- If 'R CMD check' started to fail recently on the Linux builder(s) over a missing dependency, add the missing dependency to 'Suggests:' in your DESCRIPTION file. See Renviron.bioc for more information.

raw results


Summary

Package: epigenomix
Version: 1.47.0
Command: /Library/Frameworks/R.framework/Resources/bin/R CMD check --install=check:epigenomix.install-out.txt --library=/Library/Frameworks/R.framework/Resources/library --no-vignettes --timings epigenomix_1.47.0.tar.gz
StartedAt: 2025-02-14 20:11:35 -0500 (Fri, 14 Feb 2025)
EndedAt: 2025-02-14 20:16:32 -0500 (Fri, 14 Feb 2025)
EllapsedTime: 297.0 seconds
RetCode: 0
Status:   OK  
CheckDir: epigenomix.Rcheck
Warnings: 0

Command output

##############################################################################
##############################################################################
###
### Running command:
###
###   /Library/Frameworks/R.framework/Resources/bin/R CMD check --install=check:epigenomix.install-out.txt --library=/Library/Frameworks/R.framework/Resources/library --no-vignettes --timings epigenomix_1.47.0.tar.gz
###
##############################################################################
##############################################################################


* using log directory ‘/Users/biocbuild/bbs-3.21-bioc/meat/epigenomix.Rcheck’
* using R Under development (unstable) (2025-01-22 r87618)
* using platform: x86_64-apple-darwin20
* R was compiled by
    Apple clang version 14.0.0 (clang-1400.0.29.202)
    GNU Fortran (GCC) 14.2.0
* running under: macOS Monterey 12.7.6
* using session charset: UTF-8
* using option ‘--no-vignettes’
* checking for file ‘epigenomix/DESCRIPTION’ ... OK
* checking extension type ... Package
* this is package ‘epigenomix’ version ‘1.47.0’
* checking package namespace information ... OK
* checking package dependencies ... OK
* checking if this is a source package ... OK
* checking if there is a namespace ... OK
* checking for hidden files and directories ... OK
* checking for portable file names ... OK
* checking for sufficient/correct file permissions ... OK
* checking whether package ‘epigenomix’ can be installed ... OK
* checking installed package size ... OK
* checking package directory ... OK
* checking ‘build’ directory ... OK
* checking DESCRIPTION meta-information ... OK
* checking top-level files ... OK
* checking for left-over files ... OK
* checking index information ... OK
* checking package subdirectories ... OK
* checking code files for non-ASCII characters ... OK
* checking R files for syntax errors ... OK
* checking whether the package can be loaded ... OK
* checking whether the package can be loaded with stated dependencies ... OK
* checking whether the package can be unloaded cleanly ... OK
* checking whether the namespace can be loaded with stated dependencies ... OK
* checking whether the namespace can be unloaded cleanly ... OK
* checking dependencies in R code ... OK
* checking S3 generic/method consistency ... OK
* checking replacement functions ... OK
* checking foreign function calls ... OK
* checking R code for possible problems ... OK
* checking Rd files ... NOTE
checkRd: (-1) MixModel-class.Rd:77-81: Lost braces in \enumerate; meant \describe ?
checkRd: (-1) MixModel-class.Rd:85-86: Lost braces in \enumerate; meant \describe ?
checkRd: (-1) MixModel-class.Rd:87: Lost braces in \enumerate; meant \describe ?
checkRd: (-1) MixModel-class.Rd:88-89: Lost braces in \enumerate; meant \describe ?
checkRd: (-1) MixModelBayes-class.Rd:55: Lost braces in \enumerate; meant \describe ?
checkRd: (-1) MixModelBayes-class.Rd:56-58: Lost braces in \enumerate; meant \describe ?
checkRd: (-1) MixModelBayes-class.Rd:59-60: Lost braces in \enumerate; meant \describe ?
checkRd: (-1) MixModelBayes-class.Rd:65-66: Lost braces in \enumerate; meant \describe ?
checkRd: (-1) MixModelBayes-class.Rd:67-68: Lost braces in \enumerate; meant \describe ?
checkRd: (-1) MixModelBayes-class.Rd:69-70: Lost braces in \enumerate; meant \describe ?
checkRd: (-1) MixModelBayes-class.Rd:71-72: Lost braces in \enumerate; meant \describe ?
checkRd: (-1) MixModelML-class.Rd:51-53: Lost braces in \enumerate; meant \describe ?
checkRd: (-1) MixModelML-class.Rd:58: Lost braces in \enumerate; meant \describe ?
checkRd: (-1) MixModelML-class.Rd:59-60: Lost braces in \enumerate; meant \describe ?
checkRd: (-1) MixModelML-class.Rd:61: Lost braces in \enumerate; meant \describe ?
checkRd: (-1) normalize.Rd:50-55: Lost braces in \enumerate; meant \describe ?
checkRd: (-1) normalize.Rd:56-60: Lost braces in \enumerate; meant \describe ?
checkRd: (-1) normalize.Rd:61-63: Lost braces in \enumerate; meant \describe ?
checkRd: (-1) normalize.Rd:64-72: Lost braces in \enumerate; meant \describe ?
checkRd: (-1) normalizeChIP.Rd:35-38: Lost braces in \enumerate; meant \describe ?
checkRd: (-1) normalizeChIP.Rd:39-46: Lost braces in \enumerate; meant \describe ?
checkRd: (-1) normalizeChIP.Rd:47-51: Lost braces in \enumerate; meant \describe ?
checkRd: (-1) normalizeChIP.Rd:52-53: Lost braces in \enumerate; meant \describe ?
* checking Rd metadata ... OK
* checking Rd cross-references ... NOTE
Found the following Rd file(s) with Rd \link{} targets missing package
anchors:
  ChIPseqSet-class.Rd: RangedSummarizedExperiment-class
  calculateCrossCorrelation.Rd: GRanges, GRanges-class
  eSet.Rd: ExpressionSet-class
  integrateData.Rd: ExpressionSet
  mappedReads.Rd: GRangesList-class, GRanges-class
  normalize.Rd: ExpressionSet-class
  summarizeReads.Rd: countOverlaps
Please provide package anchors for all Rd \link{} targets not in the
package itself and the base packages.
* checking for missing documentation entries ... OK
* checking for code/documentation mismatches ... OK
* checking Rd \usage sections ... OK
* checking Rd contents ... OK
* checking for unstated dependencies in examples ... OK
* checking contents of ‘data’ directory ... OK
* checking data for non-ASCII characters ... OK
* checking data for ASCII and uncompressed saves ... OK
* checking sizes of PDF files under ‘inst/doc’ ... OK
* checking files in ‘vignettes’ ... OK
* checking examples ... OK
Examples with CPU (user + system) or elapsed time > 5s
                user system elapsed
plotChains    23.136  0.337  23.579
bayesMixModel 20.236  0.254  20.626
mlMixModel     9.620  0.198   9.879
* checking for unstated dependencies in vignettes ... OK
* checking package vignettes ... OK
* checking running R code from vignettes ... SKIPPED
* checking re-building of vignette outputs ... SKIPPED
* checking PDF version of manual ... OK
* DONE

Status: 2 NOTEs
See
  ‘/Users/biocbuild/bbs-3.21-bioc/meat/epigenomix.Rcheck/00check.log’
for details.


Installation output

epigenomix.Rcheck/00install.out

##############################################################################
##############################################################################
###
### Running command:
###
###   /Library/Frameworks/R.framework/Resources/bin/R CMD INSTALL epigenomix
###
##############################################################################
##############################################################################


* installing to library ‘/Library/Frameworks/R.framework/Versions/4.5-x86_64/Resources/library’
* installing *source* package ‘epigenomix’ ...
** this is package ‘epigenomix’ version ‘1.47.0’
** using staged installation
** R
** data
** inst
** byte-compile and prepare package for lazy loading
** help
*** installing help indices
** building package indices
** installing vignettes
** testing if installed package can be loaded from temporary location
** testing if installed package can be loaded from final location
** testing if installed package keeps a record of temporary installation path
* DONE (epigenomix)

Tests output


Example timings

epigenomix.Rcheck/epigenomix-Ex.timings

nameusersystemelapsed
ChIPseqSet-class0.0020.0000.001
MixModel-class0.0000.0000.001
MixModelBayes-class0.0010.0010.001
MixModelML-class0.0010.0000.001
MixtureComponent-class0.0000.0000.001
bayesMixModel20.236 0.25420.626
calculateCrossCorrelation0.6580.0100.671
eSet0.0120.0020.015
fpkm0.0280.0020.031
getAlignmentQuality000
integrateData0.1720.0040.175
mappedReads0.0310.0030.034
matchProbeToPromoter0.3170.0080.327
mlMixModel9.6200.1989.879
normalize0.1810.0020.184
normalizeChIP0.0940.0020.096
plotChains23.136 0.33723.579
plotClassification0.0230.0020.026
plotComponents0.0430.0020.046
summarizeReads0.3170.0030.320
transToTSS0.0030.0020.004