| Back to Multiple platform build/check report for BioC 3.21: simplified long |
|
This page was generated on 2025-10-16 11:41 -0400 (Thu, 16 Oct 2025).
| Hostname | OS | Arch (*) | R version | Installed pkgs |
|---|---|---|---|---|
| nebbiolo1 | Linux (Ubuntu 24.04.3 LTS) | x86_64 | 4.5.1 (2025-06-13) -- "Great Square Root" | 4833 |
| merida1 | macOS 12.7.6 Monterey | x86_64 | 4.5.1 RC (2025-06-05 r88288) -- "Great Square Root" | 4614 |
| kjohnson1 | macOS 13.7.5 Ventura | arm64 | 4.5.1 Patched (2025-06-14 r88325) -- "Great Square Root" | 4555 |
| kunpeng2 | Linux (openEuler 24.03 LTS) | aarch64 | R Under development (unstable) (2025-02-19 r87757) -- "Unsuffered Consequences" | 4586 |
| Click on any hostname to see more info about the system (e.g. compilers) (*) as reported by 'uname -p', except on Windows and Mac OS X | ||||
| Package 618/2341 | Hostname | OS / Arch | INSTALL | BUILD | CHECK | BUILD BIN | ||||||||
| dreamlet 1.6.0 (landing page) Gabriel Hoffman
| nebbiolo1 | Linux (Ubuntu 24.04.3 LTS) / x86_64 | OK | OK | OK | |||||||||
| merida1 | macOS 12.7.6 Monterey / x86_64 | OK | OK | OK | OK | |||||||||
| kjohnson1 | macOS 13.7.5 Ventura / arm64 | OK | OK | OK | OK | |||||||||
| kunpeng2 | Linux (openEuler 24.03 LTS) / aarch64 | OK | OK | OK | ||||||||||
|
To the developers/maintainers of the dreamlet package: - Allow up to 24 hours (and sometimes 48 hours) for your latest push to git@git.bioconductor.org:packages/dreamlet.git to reflect on this report. See Troubleshooting Build Report for more information. - Use the following Renviron settings to reproduce errors and warnings. - If 'R CMD check' started to fail recently on the Linux builder(s) over a missing dependency, add the missing dependency to 'Suggests:' in your DESCRIPTION file. See Renviron.bioc for more information. - See Martin Grigorov's blog post for how to debug Linux ARM64 related issues on a x86_64 host. |
| Package: dreamlet |
| Version: 1.6.0 |
| Command: /home/biocbuild/R/R/bin/R CMD check --install=check:dreamlet.install-out.txt --library=/home/biocbuild/R/R/site-library --no-vignettes --timings dreamlet_1.6.0.tar.gz |
| StartedAt: 2025-10-14 08:40:17 -0000 (Tue, 14 Oct 2025) |
| EndedAt: 2025-10-14 08:54:57 -0000 (Tue, 14 Oct 2025) |
| EllapsedTime: 880.8 seconds |
| RetCode: 0 |
| Status: OK |
| CheckDir: dreamlet.Rcheck |
| Warnings: 0 |
##############################################################################
##############################################################################
###
### Running command:
###
### /home/biocbuild/R/R/bin/R CMD check --install=check:dreamlet.install-out.txt --library=/home/biocbuild/R/R/site-library --no-vignettes --timings dreamlet_1.6.0.tar.gz
###
##############################################################################
##############################################################################
* using log directory ‘/home/biocbuild/bbs-3.21-bioc/meat/dreamlet.Rcheck’
* using R Under development (unstable) (2025-02-19 r87757)
* using platform: aarch64-unknown-linux-gnu
* R was compiled by
aarch64-unknown-linux-gnu-gcc (GCC) 14.2.0
GNU Fortran (GCC) 14.2.0
* running under: openEuler 24.03 (LTS-SP1)
* using session charset: UTF-8
* using option ‘--no-vignettes’
* checking for file ‘dreamlet/DESCRIPTION’ ... OK
* checking extension type ... Package
* this is package ‘dreamlet’ version ‘1.6.0’
* package encoding: UTF-8
* checking package namespace information ... OK
* checking package dependencies ... INFO
Imports includes 36 non-default packages.
Importing from so many packages makes the package vulnerable to any of
them becoming unavailable. Move as many as possible to Suggests and
use conditionally.
* checking if this is a source package ... OK
* checking if there is a namespace ... OK
* checking for hidden files and directories ... OK
* checking for portable file names ... OK
* checking for sufficient/correct file permissions ... OK
* checking whether package ‘dreamlet’ can be installed ... OK
* used C++ compiler: ‘aarch64-unknown-linux-gnu-g++ (GCC) 14.2.0’
* checking C++ specification ... NOTE
Specified C++11: please drop specification unless essential
* checking installed package size ... OK
* checking package directory ... OK
* checking ‘build’ directory ... OK
* checking DESCRIPTION meta-information ... OK
* checking top-level files ... OK
* checking for left-over files ... OK
* checking index information ... OK
* checking package subdirectories ... OK
* checking code files for non-ASCII characters ... OK
* checking R files for syntax errors ... OK
* checking whether the package can be loaded ... OK
* checking whether the package can be loaded with stated dependencies ... OK
* checking whether the package can be unloaded cleanly ... OK
* checking whether the namespace can be loaded with stated dependencies ... OK
* checking whether the namespace can be unloaded cleanly ... OK
* checking loading without being on the library search path ... OK
* checking dependencies in R code ... OK
* checking S3 generic/method consistency ... OK
* checking replacement functions ... OK
* checking foreign function calls ... OK
* checking R code for possible problems ... OK
* checking Rd files ... OK
* checking Rd metadata ... OK
* checking Rd cross-references ... OK
* checking for missing documentation entries ... OK
* checking for code/documentation mismatches ... OK
* checking Rd \usage sections ... OK
* checking Rd contents ... OK
* checking for unstated dependencies in examples ... OK
* checking line endings in C/C++/Fortran sources/headers ... OK
* checking line endings in Makefiles ... OK
* checking compilation flags in Makevars ... OK
* checking for GNU extensions in Makefiles ... OK
* checking for portable use of $(BLAS_LIBS) and $(LAPACK_LIBS) ... OK
* checking use of PKG_*FLAGS in Makefiles ... OK
* checking compiled code ... NOTE
Note: information on .o files is not available
* checking files in ‘vignettes’ ... NOTE
The following directory looks like a leftover from 'knitr':
‘figure’
Please remove from your package.
* checking examples ... OK
Examples with CPU (user + system) or elapsed time > 5s
user system elapsed
zenith_gsa-methods 105.910 2.222 108.399
plotVarPart-methods 27.787 0.627 28.504
sortCols-method 27.576 0.487 28.140
fitVarPart 26.981 0.283 27.342
plotPercentBars-methods 26.061 0.203 26.338
meta_analysis 23.047 0.291 23.405
stackAssays 16.745 0.291 17.083
run_mash 13.162 0.359 13.549
compositePosteriorTest 11.468 0.223 11.707
aggregateNonCountSignal 7.260 0.367 7.638
plotVolcano-methods 6.467 0.248 6.729
plotBeeswarm 5.932 0.112 6.058
diffVar-methods 5.538 0.060 5.614
processAssays 5.288 0.300 5.601
plotPCA 5.341 0.024 5.379
* checking for unstated dependencies in ‘tests’ ... OK
* checking tests ...
Running ‘runTests.R’
OK
* checking for unstated dependencies in vignettes ... OK
* checking package vignettes ... OK
* checking running R code from vignettes ... SKIPPED
* checking re-building of vignette outputs ... SKIPPED
* checking PDF version of manual ... OK
* DONE
Status: 3 NOTEs
See
‘/home/biocbuild/bbs-3.21-bioc/meat/dreamlet.Rcheck/00check.log’
for details.
dreamlet.Rcheck/00install.out
##############################################################################
##############################################################################
###
### Running command:
###
### /home/biocbuild/R/R/bin/R CMD INSTALL dreamlet
###
##############################################################################
##############################################################################
* installing to library ‘/home/biocbuild/R/R-devel_2025-02-19/site-library’
* installing *source* package ‘dreamlet’ ...
** this is package ‘dreamlet’ version ‘1.6.0’
** using staged installation
** libs
using C++ compiler: ‘aarch64-unknown-linux-gnu-g++ (GCC) 14.2.0’
using C++11
/opt/ohpc/pub/compiler/gcc/14.2.0/bin/aarch64-unknown-linux-gnu-g++ -std=gnu++11 -I"/home/biocbuild/R/R/include" -DNDEBUG -I'/home/biocbuild/R/R-devel_2025-02-19/site-library/Rcpp/include' -I'/home/biocbuild/R/R-devel_2025-02-19/site-library/beachmat/include' -I/usr/local/include -fPIC -g -O2 -Wall -Werror=format-security -c RcppExports.cpp -o RcppExports.o
/opt/ohpc/pub/compiler/gcc/14.2.0/bin/aarch64-unknown-linux-gnu-g++ -std=gnu++11 -I"/home/biocbuild/R/R/include" -DNDEBUG -I'/home/biocbuild/R/R-devel_2025-02-19/site-library/Rcpp/include' -I'/home/biocbuild/R/R-devel_2025-02-19/site-library/beachmat/include' -I/usr/local/include -fPIC -g -O2 -Wall -Werror=format-security -c colsum_beachmat.cpp -o colsum_beachmat.o
In file included from /home/biocbuild/R/R-devel_2025-02-19/site-library/beachmat/include/beachmat3/lin_matrix.h:12,
from /home/biocbuild/R/R-devel_2025-02-19/site-library/beachmat/include/beachmat3/read_lin_block.h:11,
from /home/biocbuild/R/R-devel_2025-02-19/site-library/beachmat/include/beachmat3/beachmat.h:24,
from colsum_beachmat.cpp:1:
/home/biocbuild/R/R-devel_2025-02-19/site-library/beachmat/include/beachmat3/Csparse_reader.h: In instantiation of ‘beachmat::SparseArraySeed_reader<V, TIT>::SparseArraySeed_reader(Rcpp::RObject) [with V = Rcpp::Vector<13>; TIT = const int*; Rcpp::RObject = Rcpp::RObject_Impl<Rcpp::PreserveStorage>]’:
/home/biocbuild/R/R-devel_2025-02-19/site-library/beachmat/include/beachmat3/lin_matrix.h:561:46: required from ‘beachmat::lin_SparseArraySeed<V, TIT>::lin_SparseArraySeed(Rcpp::RObject) [with V = Rcpp::Vector<13>; TIT = const int*; Rcpp::RObject = Rcpp::RObject_Impl<Rcpp::PreserveStorage>]’
561 | lin_SparseArraySeed(Rcpp::RObject mat) : reader(mat) {
| ^~~~~~~~~~~
/home/biocbuild/R/R-devel_2025-02-19/site-library/beachmat/include/beachmat3/read_lin_block.h:36:39: required from ‘std::unique_ptr<M> beachmat::read_lin_sparse_block_raw(Rcpp::RObject) [with M = lin_matrix; Rcpp::RObject = Rcpp::RObject_Impl<Rcpp::PreserveStorage>]’
36 | return std::unique_ptr<M>(new integer_SparseArraySeed(block));
| ^~~~~~~~~~~~~~~~~~~~~~~~~~~~~~~~~~
/home/biocbuild/R/R-devel_2025-02-19/site-library/beachmat/include/beachmat3/read_lin_block.h:65:57: required from here
65 | auto ptr = read_lin_sparse_block_raw<lin_matrix>(block);
| ~~~~~~~~~~~~~~~~~~~~~~~~~~~~~~~~~~~~~^~~~~~~
/home/biocbuild/R/R-devel_2025-02-19/site-library/beachmat/include/beachmat3/Csparse_reader.h:535:17: warning: comparison of integer expressions of different signedness: ‘const size_t’ {aka ‘const long unsigned int’} and ‘R_xlen_t’ {aka ‘long int’} [-Wsign-compare]
535 | if (nnz != x.size()) {
| ~~~~^~~~~~~~~~~
/home/biocbuild/R/R-devel_2025-02-19/site-library/beachmat/include/beachmat3/Csparse_reader.h:551:45: warning: comparison of integer expressions of different signedness: ‘int’ and ‘const size_t’ {aka ‘const long unsigned int’} [-Wsign-compare]
551 | if (lastR <= 0 || lastR > NR || lastC <= 0 || lastC > NC) {
| ~~~~~~^~~~
/home/biocbuild/R/R-devel_2025-02-19/site-library/beachmat/include/beachmat3/Csparse_reader.h:551:73: warning: comparison of integer expressions of different signedness: ‘int’ and ‘const size_t’ {aka ‘const long unsigned int’} [-Wsign-compare]
551 | if (lastR <= 0 || lastR > NR || lastC <= 0 || lastC > NC) {
| ~~~~~~^~~~
/home/biocbuild/R/R-devel_2025-02-19/site-library/beachmat/include/beachmat3/Csparse_reader.h:593:35: warning: comparison of integer expressions of different signedness: ‘int’ and ‘const size_t’ {aka ‘const long unsigned int’} [-Wsign-compare]
593 | for (int v = 0; v < nnz; ++v, ++rowIt, ++colIt, ++xIt) {
| ~~^~~~~
/home/biocbuild/R/R-devel_2025-02-19/site-library/beachmat/include/beachmat3/Csparse_reader.h: In instantiation of ‘beachmat::SparseArraySeed_reader<V, TIT>::SparseArraySeed_reader(Rcpp::RObject) [with V = Rcpp::Vector<14, Rcpp::PreserveStorage>; TIT = const double*; Rcpp::RObject = Rcpp::RObject_Impl<Rcpp::PreserveStorage>]’:
/home/biocbuild/R/R-devel_2025-02-19/site-library/beachmat/include/beachmat3/lin_matrix.h:561:46: required from ‘beachmat::lin_SparseArraySeed<V, TIT>::lin_SparseArraySeed(Rcpp::RObject) [with V = Rcpp::Vector<14, Rcpp::PreserveStorage>; TIT = const double*; Rcpp::RObject = Rcpp::RObject_Impl<Rcpp::PreserveStorage>]’
561 | lin_SparseArraySeed(Rcpp::RObject mat) : reader(mat) {
| ^~~~~~~~~~~
/home/biocbuild/R/R-devel_2025-02-19/site-library/beachmat/include/beachmat3/read_lin_block.h:38:39: required from ‘std::unique_ptr<M> beachmat::read_lin_sparse_block_raw(Rcpp::RObject) [with M = lin_matrix; Rcpp::RObject = Rcpp::RObject_Impl<Rcpp::PreserveStorage>]’
38 | return std::unique_ptr<M>(new double_SparseArraySeed(block));
| ^~~~~~~~~~~~~~~~~~~~~~~~~~~~~~~~~
/home/biocbuild/R/R-devel_2025-02-19/site-library/beachmat/include/beachmat3/read_lin_block.h:65:57: required from here
65 | auto ptr = read_lin_sparse_block_raw<lin_matrix>(block);
| ~~~~~~~~~~~~~~~~~~~~~~~~~~~~~~~~~~~~~^~~~~~~
/home/biocbuild/R/R-devel_2025-02-19/site-library/beachmat/include/beachmat3/Csparse_reader.h:535:17: warning: comparison of integer expressions of different signedness: ‘const size_t’ {aka ‘const long unsigned int’} and ‘R_xlen_t’ {aka ‘long int’} [-Wsign-compare]
535 | if (nnz != x.size()) {
| ~~~~^~~~~~~~~~~
/home/biocbuild/R/R-devel_2025-02-19/site-library/beachmat/include/beachmat3/Csparse_reader.h:551:45: warning: comparison of integer expressions of different signedness: ‘int’ and ‘const size_t’ {aka ‘const long unsigned int’} [-Wsign-compare]
551 | if (lastR <= 0 || lastR > NR || lastC <= 0 || lastC > NC) {
| ~~~~~~^~~~
/home/biocbuild/R/R-devel_2025-02-19/site-library/beachmat/include/beachmat3/Csparse_reader.h:551:73: warning: comparison of integer expressions of different signedness: ‘int’ and ‘const size_t’ {aka ‘const long unsigned int’} [-Wsign-compare]
551 | if (lastR <= 0 || lastR > NR || lastC <= 0 || lastC > NC) {
| ~~~~~~^~~~
/home/biocbuild/R/R-devel_2025-02-19/site-library/beachmat/include/beachmat3/Csparse_reader.h:593:35: warning: comparison of integer expressions of different signedness: ‘int’ and ‘const size_t’ {aka ‘const long unsigned int’} [-Wsign-compare]
593 | for (int v = 0; v < nnz; ++v, ++rowIt, ++colIt, ++xIt) {
| ~~^~~~~
/home/biocbuild/R/R-devel_2025-02-19/site-library/beachmat/include/beachmat3/Csparse_reader.h: In instantiation of ‘beachmat::SparseArraySeed_reader<V, TIT>::SparseArraySeed_reader(Rcpp::RObject) [with V = Rcpp::Vector<10, Rcpp::PreserveStorage>; TIT = const int*; Rcpp::RObject = Rcpp::RObject_Impl<Rcpp::PreserveStorage>]’:
/home/biocbuild/R/R-devel_2025-02-19/site-library/beachmat/include/beachmat3/lin_matrix.h:561:46: required from ‘beachmat::lin_SparseArraySeed<V, TIT>::lin_SparseArraySeed(Rcpp::RObject) [with V = Rcpp::Vector<10, Rcpp::PreserveStorage>; TIT = const int*; Rcpp::RObject = Rcpp::RObject_Impl<Rcpp::PreserveStorage>]’
561 | lin_SparseArraySeed(Rcpp::RObject mat) : reader(mat) {
| ^~~~~~~~~~~
/home/biocbuild/R/R-devel_2025-02-19/site-library/beachmat/include/beachmat3/read_lin_block.h:40:39: required from ‘std::unique_ptr<M> beachmat::read_lin_sparse_block_raw(Rcpp::RObject) [with M = lin_matrix; Rcpp::RObject = Rcpp::RObject_Impl<Rcpp::PreserveStorage>]’
40 | return std::unique_ptr<M>(new logical_SparseArraySeed(block));
| ^~~~~~~~~~~~~~~~~~~~~~~~~~~~~~~~~~
/home/biocbuild/R/R-devel_2025-02-19/site-library/beachmat/include/beachmat3/read_lin_block.h:65:57: required from here
65 | auto ptr = read_lin_sparse_block_raw<lin_matrix>(block);
| ~~~~~~~~~~~~~~~~~~~~~~~~~~~~~~~~~~~~~^~~~~~~
/home/biocbuild/R/R-devel_2025-02-19/site-library/beachmat/include/beachmat3/Csparse_reader.h:535:17: warning: comparison of integer expressions of different signedness: ‘const size_t’ {aka ‘const long unsigned int’} and ‘R_xlen_t’ {aka ‘long int’} [-Wsign-compare]
535 | if (nnz != x.size()) {
| ~~~~^~~~~~~~~~~
/home/biocbuild/R/R-devel_2025-02-19/site-library/beachmat/include/beachmat3/Csparse_reader.h:551:45: warning: comparison of integer expressions of different signedness: ‘int’ and ‘const size_t’ {aka ‘const long unsigned int’} [-Wsign-compare]
551 | if (lastR <= 0 || lastR > NR || lastC <= 0 || lastC > NC) {
| ~~~~~~^~~~
/home/biocbuild/R/R-devel_2025-02-19/site-library/beachmat/include/beachmat3/Csparse_reader.h:551:73: warning: comparison of integer expressions of different signedness: ‘int’ and ‘const size_t’ {aka ‘const long unsigned int’} [-Wsign-compare]
551 | if (lastR <= 0 || lastR > NR || lastC <= 0 || lastC > NC) {
| ~~~~~~^~~~
/home/biocbuild/R/R-devel_2025-02-19/site-library/beachmat/include/beachmat3/Csparse_reader.h:593:35: warning: comparison of integer expressions of different signedness: ‘int’ and ‘const size_t’ {aka ‘const long unsigned int’} [-Wsign-compare]
593 | for (int v = 0; v < nnz; ++v, ++rowIt, ++colIt, ++xIt) {
| ~~^~~~~
/home/biocbuild/R/R-devel_2025-02-19/site-library/beachmat/include/beachmat3/Csparse_reader.h: In instantiation of ‘beachmat::sparse_index<OUT, I> beachmat::Csparse_core<TIT, I, P>::get_row(size_t, ALT, I*, size_t, size_t) [with OUT = const int*; ALT = int*; TIT = const double*; I = int; P = long unsigned int; size_t = long unsigned int]’:
/home/biocbuild/R/R-devel_2025-02-19/site-library/beachmat/include/beachmat3/Csparse_reader.h:650:42: required from ‘beachmat::sparse_index<OUT, int> beachmat::SparseArraySeed_reader<V, TIT>::get_row(size_t, ALT, int*, size_t, size_t) [with OUT = const int*; ALT = int*; V = Rcpp::Vector<14, Rcpp::PreserveStorage>; TIT = const double*; size_t = long unsigned int]’
650 | return core.template get_row<OUT>(r, work_x, work_i, first, last);
| ~~~~~~~~~~~~~~~~~~~~~~~~~~^~~~~~~~~~~~~~~~~~~~~~~~~~~~~~~~
/home/biocbuild/R/R-devel_2025-02-19/site-library/beachmat/include/beachmat3/lin_matrix.h:596:51: required from ‘beachmat::sparse_index<const int*, int> beachmat::lin_SparseArraySeed<V, TIT>::get_row(size_t, int*, int*, size_t, size_t) [with V = Rcpp::Vector<14, Rcpp::PreserveStorage>; TIT = const double*; size_t = long unsigned int]’
596 | return reader.template get_row<const int*>(r, work_x, work_i, first, last);
| ~~~~~~~~~~~~~~~~~~~~~~~~~~~~~~~~~~~^~~~~~~~~~~~~~~~~~~~~~~~~~~~~~~~
/home/biocbuild/R/R-devel_2025-02-19/site-library/beachmat/include/beachmat3/lin_matrix.h:595:35: required from here
595 | sparse_index<const int*, int> get_row(size_t r, int* work_x, int* work_i, size_t first, size_t last) {
| ^~~~~~~
/home/biocbuild/R/R-devel_2025-02-19/site-library/beachmat/include/beachmat3/Csparse_reader.h:250:22: warning: comparison of integer expressions of different signedness: ‘const int’ and ‘const long unsigned int’ [-Wsign-compare]
250 | if (idex != *pIt && static_cast<size_t>(i[idex]) == r) {
| ~~~~~^~~~~~~
/home/biocbuild/R/R-devel_2025-02-19/site-library/beachmat/include/beachmat3/Csparse_reader.h: In instantiation of ‘beachmat::sparse_index<OUT, I> beachmat::Csparse_core<TIT, I, P>::get_row(size_t, ALT, I*, size_t, size_t) [with OUT = const double*; ALT = double*; TIT = const double*; I = int; P = long unsigned int; size_t = long unsigned int]’:
/home/biocbuild/R/R-devel_2025-02-19/site-library/beachmat/include/beachmat3/Csparse_reader.h:650:42: required from ‘beachmat::sparse_index<OUT, int> beachmat::SparseArraySeed_reader<V, TIT>::get_row(size_t, ALT, int*, size_t, size_t) [with OUT = const double*; ALT = double*; V = Rcpp::Vector<14, Rcpp::PreserveStorage>; TIT = const double*; size_t = long unsigned int]’
650 | return core.template get_row<OUT>(r, work_x, work_i, first, last);
| ~~~~~~~~~~~~~~~~~~~~~~~~~~^~~~~~~~~~~~~~~~~~~~~~~~~~~~~~~~
/home/biocbuild/R/R-devel_2025-02-19/site-library/beachmat/include/beachmat3/lin_matrix.h:602:54: required from ‘beachmat::sparse_index<const double*, int> beachmat::lin_SparseArraySeed<V, TIT>::get_row(size_t, double*, int*, size_t, size_t) [with V = Rcpp::Vector<14, Rcpp::PreserveStorage>; TIT = const double*; size_t = long unsigned int]’
602 | return reader.template get_row<const double*>(r, work_x, work_i, first, last);
| ~~~~~~~~~~~~~~~~~~~~~~~~~~~~~~~~~~~~~~^~~~~~~~~~~~~~~~~~~~~~~~~~~~~~~~
/home/biocbuild/R/R-devel_2025-02-19/site-library/beachmat/include/beachmat3/lin_matrix.h:601:38: required from here
601 | sparse_index<const double*, int> get_row(size_t r, double* work_x, int* work_i, size_t first, size_t last) {
| ^~~~~~~
/home/biocbuild/R/R-devel_2025-02-19/site-library/beachmat/include/beachmat3/Csparse_reader.h:250:22: warning: comparison of integer expressions of different signedness: ‘const int’ and ‘const long unsigned int’ [-Wsign-compare]
250 | if (idex != *pIt && static_cast<size_t>(i[idex]) == r) {
| ~~~~~^~~~~~~
/home/biocbuild/R/R-devel_2025-02-19/site-library/beachmat/include/beachmat3/Csparse_reader.h: In instantiation of ‘beachmat::sparse_index<OUT, I> beachmat::Csparse_core<TIT, I, P>::get_row(size_t, ALT, I*, size_t, size_t) [with OUT = const int*; ALT = int*; TIT = const int*; I = int; P = long unsigned int; size_t = long unsigned int]’:
/home/biocbuild/R/R-devel_2025-02-19/site-library/beachmat/include/beachmat3/Csparse_reader.h:650:42: required from ‘beachmat::sparse_index<OUT, int> beachmat::SparseArraySeed_reader<V, TIT>::get_row(size_t, ALT, int*, size_t, size_t) [with OUT = const int*; ALT = int*; V = Rcpp::Vector<10, Rcpp::PreserveStorage>; TIT = const int*; size_t = long unsigned int]’
650 | return core.template get_row<OUT>(r, work_x, work_i, first, last);
| ~~~~~~~~~~~~~~~~~~~~~~~~~~^~~~~~~~~~~~~~~~~~~~~~~~~~~~~~~~
/home/biocbuild/R/R-devel_2025-02-19/site-library/beachmat/include/beachmat3/lin_matrix.h:596:51: required from ‘beachmat::sparse_index<const int*, int> beachmat::lin_SparseArraySeed<V, TIT>::get_row(size_t, int*, int*, size_t, size_t) [with V = Rcpp::Vector<10, Rcpp::PreserveStorage>; TIT = const int*; size_t = long unsigned int]’
596 | return reader.template get_row<const int*>(r, work_x, work_i, first, last);
| ~~~~~~~~~~~~~~~~~~~~~~~~~~~~~~~~~~~^~~~~~~~~~~~~~~~~~~~~~~~~~~~~~~~
/home/biocbuild/R/R-devel_2025-02-19/site-library/beachmat/include/beachmat3/lin_matrix.h:595:35: required from here
595 | sparse_index<const int*, int> get_row(size_t r, int* work_x, int* work_i, size_t first, size_t last) {
| ^~~~~~~
/home/biocbuild/R/R-devel_2025-02-19/site-library/beachmat/include/beachmat3/Csparse_reader.h:250:22: warning: comparison of integer expressions of different signedness: ‘const int’ and ‘const long unsigned int’ [-Wsign-compare]
250 | if (idex != *pIt && static_cast<size_t>(i[idex]) == r) {
| ~~~~~^~~~~~~
/home/biocbuild/R/R-devel_2025-02-19/site-library/beachmat/include/beachmat3/Csparse_reader.h: In instantiation of ‘beachmat::sparse_index<OUT, I> beachmat::Csparse_core<TIT, I, P>::get_row(size_t, ALT, I*, size_t, size_t) [with OUT = const double*; ALT = double*; TIT = const int*; I = int; P = long unsigned int; size_t = long unsigned int]’:
/home/biocbuild/R/R-devel_2025-02-19/site-library/beachmat/include/beachmat3/Csparse_reader.h:650:42: required from ‘beachmat::sparse_index<OUT, int> beachmat::SparseArraySeed_reader<V, TIT>::get_row(size_t, ALT, int*, size_t, size_t) [with OUT = const double*; ALT = double*; V = Rcpp::Vector<10, Rcpp::PreserveStorage>; TIT = const int*; size_t = long unsigned int]’
650 | return core.template get_row<OUT>(r, work_x, work_i, first, last);
| ~~~~~~~~~~~~~~~~~~~~~~~~~~^~~~~~~~~~~~~~~~~~~~~~~~~~~~~~~~
/home/biocbuild/R/R-devel_2025-02-19/site-library/beachmat/include/beachmat3/lin_matrix.h:602:54: required from ‘beachmat::sparse_index<const double*, int> beachmat::lin_SparseArraySeed<V, TIT>::get_row(size_t, double*, int*, size_t, size_t) [with V = Rcpp::Vector<10, Rcpp::PreserveStorage>; TIT = const int*; size_t = long unsigned int]’
602 | return reader.template get_row<const double*>(r, work_x, work_i, first, last);
| ~~~~~~~~~~~~~~~~~~~~~~~~~~~~~~~~~~~~~~^~~~~~~~~~~~~~~~~~~~~~~~~~~~~~~~
/home/biocbuild/R/R-devel_2025-02-19/site-library/beachmat/include/beachmat3/lin_matrix.h:601:38: required from here
601 | sparse_index<const double*, int> get_row(size_t r, double* work_x, int* work_i, size_t first, size_t last) {
| ^~~~~~~
/home/biocbuild/R/R-devel_2025-02-19/site-library/beachmat/include/beachmat3/Csparse_reader.h:250:22: warning: comparison of integer expressions of different signedness: ‘const int’ and ‘const long unsigned int’ [-Wsign-compare]
250 | if (idex != *pIt && static_cast<size_t>(i[idex]) == r) {
| ~~~~~^~~~~~~
/opt/ohpc/pub/compiler/gcc/14.2.0/bin/aarch64-unknown-linux-gnu-g++ -std=gnu++11 -shared -L/home/biocbuild/R/R/lib -L/usr/local/lib -o dreamlet.so RcppExports.o colsum_beachmat.o -L/home/biocbuild/R/R/lib -lR
installing to /home/biocbuild/R/R-devel_2025-02-19/site-library/00LOCK-dreamlet/00new/dreamlet/libs
** R
** inst
** byte-compile and prepare package for lazy loading
** help
Loading required namespace: variancePartition
Loading required namespace: dreamlet
*** installing help indices
*** copying figures
** building package indices
** installing vignettes
** testing if installed package can be loaded from temporary location
** checking absolute paths in shared objects and dynamic libraries
** testing if installed package can be loaded from final location
** testing if installed package keeps a record of temporary installation path
* DONE (dreamlet)
dreamlet.Rcheck/tests/runTests.Rout
R Under development (unstable) (2025-02-19 r87757) -- "Unsuffered Consequences"
Copyright (C) 2025 The R Foundation for Statistical Computing
Platform: aarch64-unknown-linux-gnu
R is free software and comes with ABSOLUTELY NO WARRANTY.
You are welcome to redistribute it under certain conditions.
Type 'license()' or 'licence()' for distribution details.
R is a collaborative project with many contributors.
Type 'contributors()' for more information and
'citation()' on how to cite R or R packages in publications.
Type 'demo()' for some demos, 'help()' for on-line help, or
'help.start()' for an HTML browser interface to help.
Type 'q()' to quit R.
> library(Matrix)
> library(dreamlet)
Loading required package: variancePartition
Loading required package: ggplot2
Loading required package: limma
Loading required package: BiocParallel
Attaching package: 'variancePartition'
The following objects are masked from 'package:limma':
eBayes, topTable
Loading required package: SingleCellExperiment
Loading required package: SummarizedExperiment
Loading required package: MatrixGenerics
Loading required package: matrixStats
Attaching package: 'MatrixGenerics'
The following objects are masked from 'package:matrixStats':
colAlls, colAnyNAs, colAnys, colAvgsPerRowSet, colCollapse,
colCounts, colCummaxs, colCummins, colCumprods, colCumsums,
colDiffs, colIQRDiffs, colIQRs, colLogSumExps, colMadDiffs,
colMads, colMaxs, colMeans2, colMedians, colMins, colOrderStats,
colProds, colQuantiles, colRanges, colRanks, colSdDiffs, colSds,
colSums2, colTabulates, colVarDiffs, colVars, colWeightedMads,
colWeightedMeans, colWeightedMedians, colWeightedSds,
colWeightedVars, rowAlls, rowAnyNAs, rowAnys, rowAvgsPerColSet,
rowCollapse, rowCounts, rowCummaxs, rowCummins, rowCumprods,
rowCumsums, rowDiffs, rowIQRDiffs, rowIQRs, rowLogSumExps,
rowMadDiffs, rowMads, rowMaxs, rowMeans2, rowMedians, rowMins,
rowOrderStats, rowProds, rowQuantiles, rowRanges, rowRanks,
rowSdDiffs, rowSds, rowSums2, rowTabulates, rowVarDiffs, rowVars,
rowWeightedMads, rowWeightedMeans, rowWeightedMedians,
rowWeightedSds, rowWeightedVars
Loading required package: GenomicRanges
Loading required package: stats4
Loading required package: BiocGenerics
Loading required package: generics
Attaching package: 'generics'
The following objects are masked from 'package:base':
as.difftime, as.factor, as.ordered, intersect, is.element, setdiff,
setequal, union
Attaching package: 'BiocGenerics'
The following object is masked from 'package:limma':
plotMA
The following objects are masked from 'package:stats':
IQR, mad, sd, var, xtabs
The following objects are masked from 'package:base':
Filter, Find, Map, Position, Reduce, anyDuplicated, aperm, append,
as.data.frame, basename, cbind, colnames, dirname, do.call,
duplicated, eval, evalq, get, grep, grepl, is.unsorted, lapply,
mapply, match, mget, order, paste, pmax, pmax.int, pmin, pmin.int,
rank, rbind, rownames, sapply, saveRDS, table, tapply, unique,
unsplit, which.max, which.min
Loading required package: S4Vectors
Attaching package: 'S4Vectors'
The following objects are masked from 'package:Matrix':
expand, unname
The following object is masked from 'package:utils':
findMatches
The following objects are masked from 'package:base':
I, expand.grid, unname
Loading required package: IRanges
Loading required package: GenomeInfoDb
Loading required package: Biobase
Welcome to Bioconductor
Vignettes contain introductory material; view with
'browseVignettes()'. To cite Bioconductor, see
'citation("Biobase")', and for packages 'citation("pkgname")'.
Attaching package: 'Biobase'
The following object is masked from 'package:MatrixGenerics':
rowMedians
The following objects are masked from 'package:matrixStats':
anyMissing, rowMedians
> library(DelayedArray)
Loading required package: S4Arrays
Loading required package: abind
Attaching package: 'S4Arrays'
The following object is masked from 'package:abind':
abind
The following object is masked from 'package:base':
rowsum
Loading required package: SparseArray
Attaching package: 'DelayedArray'
The following objects are masked from 'package:base':
apply, scale, sweep
> library(edgeR)
Attaching package: 'edgeR'
The following object is masked from 'package:SingleCellExperiment':
cpm
> library(muscat)
> library(RUnit)
>
> BiocGenerics:::testPackage("dreamlet")
B cells...0.41 secs
B cells...0.32 secs
Processing block [[1/1, 1/1]] ... OK
B cells...0.35 secs
CD14+ Monocytes...0.44 secs
CD4 T cells...0.39 secs
CD8 T cells...0.23 secs
FCGR3A+ Monocytes...0.4 secs
B cells...4.6 secs
CD14+ Monocytes...6 secs
CD4 T cells...5 secs
CD8 T cells...3 secs
FCGR3A+ Monocytes...6.3 secs
B cells...0.3 secs
CD14+ Monocytes...0.44 secs
CD4 T cells...0.33 secs
CD8 T cells...0.19 secs
FCGR3A+ Monocytes...0.35 secs
RUNIT TEST PROTOCOL -- Tue Oct 14 08:54:52 2025
***********************************************
Number of test functions: 10
Number of errors: 0
Number of failures: 0
1 Test Suite :
dreamlet RUnit Tests - 10 test functions, 0 errors, 0 failures
Number of test functions: 10
Number of errors: 0
Number of failures: 0
>
> proc.time()
user system elapsed
74.461 1.597 97.024
dreamlet.Rcheck/dreamlet-Ex.timings
| name | user | system | elapsed | |
| aggregateNonCountSignal | 7.260 | 0.367 | 7.638 | |
| aggregateToPseudoBulk | 2.133 | 0.064 | 2.200 | |
| aggregateVar | 1.198 | 0.024 | 1.223 | |
| as.dreamletResult | 1.481 | 0.092 | 1.575 | |
| buildClusterTreeFromPB | 0.603 | 0.032 | 0.637 | |
| cellCounts | 0.519 | 0.008 | 0.528 | |
| cellTypeSpecificity | 2.787 | 0.076 | 2.867 | |
| checkFormula | 0.001 | 0.000 | 0.001 | |
| coefNames-methods | 4.051 | 0.059 | 4.116 | |
| compositePosteriorTest | 11.468 | 0.223 | 11.707 | |
| computeCellCounts | 0.167 | 0.004 | 0.170 | |
| computeLogCPM | 0.412 | 0.040 | 0.453 | |
| computeNormCounts | 0.256 | 0.016 | 0.273 | |
| details-methods | 2.596 | 0.048 | 2.651 | |
| diffVar-methods | 5.538 | 0.060 | 5.614 | |
| dreamlet | 4.176 | 0.036 | 4.223 | |
| dreamletCompareClusters | 3.908 | 0.135 | 4.055 | |
| dropRedundantTerms | 0.006 | 0.000 | 0.007 | |
| equalFormulas | 0.000 | 0.000 | 0.001 | |
| extractData-methods | 2.759 | 0.040 | 2.807 | |
| fitVarPart | 26.981 | 0.283 | 27.342 | |
| getTreat-methods | 4.074 | 0.052 | 4.137 | |
| meta_analysis | 23.047 | 0.291 | 23.405 | |
| outlier | 0.003 | 0.000 | 0.004 | |
| outlierByAssay | 2.621 | 0.032 | 2.660 | |
| plotBeeswarm | 5.932 | 0.112 | 6.058 | |
| plotCellComposition | 1.506 | 0.012 | 1.522 | |
| plotForest-methods | 4.567 | 0.020 | 4.600 | |
| plotGeneHeatmap-methods | 4.612 | 0.024 | 4.649 | |
| plotHeatmap-methods | 0.957 | 0.004 | 0.964 | |
| plotPCA | 5.341 | 0.024 | 5.379 | |
| plotPercentBars-methods | 26.061 | 0.203 | 26.338 | |
| plotProjection | 0.983 | 0.020 | 0.992 | |
| plotVarPart-methods | 27.787 | 0.627 | 28.504 | |
| plotViolin-methods | 1.438 | 0.119 | 1.562 | |
| plotVolcano-methods | 6.467 | 0.248 | 6.729 | |
| plotVoom-methods | 4.432 | 0.135 | 4.579 | |
| processAssays | 5.288 | 0.300 | 5.601 | |
| removeConstantTerms | 0.005 | 0.000 | 0.005 | |
| residuals-methods | 4.130 | 0.119 | 4.261 | |
| run_mash | 13.162 | 0.359 | 13.549 | |
| seeErrors-methods | 4.135 | 0.059 | 4.205 | |
| sortCols-method | 27.576 | 0.487 | 28.140 | |
| stackAssays | 16.745 | 0.291 | 17.083 | |
| topTable-methods | 4.138 | 0.068 | 4.217 | |
| zenith_gsa-methods | 105.910 | 2.222 | 108.399 | |