Back to Multiple platform build/check report for BioC 3.21:   simplified   long
AB[C]DEFGHIJKLMNOPQRSTUVWXYZ

This page was generated on 2025-02-11 11:42 -0500 (Tue, 11 Feb 2025).

HostnameOSArch (*)R versionInstalled pkgs
nebbiolo1Linux (Ubuntu 24.04.1 LTS)x86_64R Under development (unstable) (2025-01-20 r87609) -- "Unsuffered Consequences" 4719
palomino7Windows Server 2022 Datacenterx64R Under development (unstable) (2025-01-21 r87610 ucrt) -- "Unsuffered Consequences" 4480
lconwaymacOS 12.7.1 Montereyx86_64R Under development (unstable) (2025-01-22 r87618) -- "Unsuffered Consequences" 4491
kjohnson3macOS 13.7.1 Venturaarm64R Under development (unstable) (2025-01-20 r87609) -- "Unsuffered Consequences" 4444
Click on any hostname to see more info about the system (e.g. compilers)      (*) as reported by 'uname -p', except on Windows and Mac OS X

Package 431/2295HostnameOS / ArchINSTALLBUILDCHECKBUILD BIN
conumee 1.41.0  (landing page)
Volker Hovestadt
Snapshot Date: 2025-02-10 13:40 -0500 (Mon, 10 Feb 2025)
git_url: https://git.bioconductor.org/packages/conumee
git_branch: devel
git_last_commit: f47752d
git_last_commit_date: 2024-10-29 10:00:33 -0500 (Tue, 29 Oct 2024)
nebbiolo1Linux (Ubuntu 24.04.1 LTS) / x86_64  OK    OK    OK  UNNEEDED, same version is already published
palomino7Windows Server 2022 Datacenter / x64... NOT SUPPORTED ...
lconwaymacOS 12.7.1 Monterey / x86_64  OK    OK    OK    OK  UNNEEDED, same version is already published
kjohnson3macOS 13.7.1 Ventura / arm64  OK    OK    OK    OK  UNNEEDED, same version is already published


CHECK results for conumee on lconway

To the developers/maintainers of the conumee package:
- Allow up to 24 hours (and sometimes 48 hours) for your latest push to git@git.bioconductor.org:packages/conumee.git to reflect on this report. See Troubleshooting Build Report for more information.
- Use the following Renviron settings to reproduce errors and warnings.
- If 'R CMD check' started to fail recently on the Linux builder(s) over a missing dependency, add the missing dependency to 'Suggests:' in your DESCRIPTION file. See Renviron.bioc for more information.

raw results


Summary

Package: conumee
Version: 1.41.0
Command: /Library/Frameworks/R.framework/Resources/bin/R CMD check --install=check:conumee.install-out.txt --library=/Library/Frameworks/R.framework/Resources/library --no-vignettes --timings conumee_1.41.0.tar.gz
StartedAt: 2025-02-10 20:18:45 -0500 (Mon, 10 Feb 2025)
EndedAt: 2025-02-10 20:42:16 -0500 (Mon, 10 Feb 2025)
EllapsedTime: 1410.5 seconds
RetCode: 0
Status:   OK  
CheckDir: conumee.Rcheck
Warnings: 0

Command output

##############################################################################
##############################################################################
###
### Running command:
###
###   /Library/Frameworks/R.framework/Resources/bin/R CMD check --install=check:conumee.install-out.txt --library=/Library/Frameworks/R.framework/Resources/library --no-vignettes --timings conumee_1.41.0.tar.gz
###
##############################################################################
##############################################################################


* using log directory ‘/Users/biocbuild/bbs-3.21-bioc/meat/conumee.Rcheck’
* using R Under development (unstable) (2025-01-22 r87618)
* using platform: x86_64-apple-darwin20
* R was compiled by
    Apple clang version 14.0.0 (clang-1400.0.29.202)
    GNU Fortran (GCC) 14.2.0
* running under: macOS Monterey 12.7.6
* using session charset: UTF-8
* using option ‘--no-vignettes’
* checking for file ‘conumee/DESCRIPTION’ ... OK
* this is package ‘conumee’ version ‘1.41.0’
* checking package namespace information ... OK
* checking package dependencies ... OK
* checking if this is a source package ... OK
* checking if there is a namespace ... OK
* checking for hidden files and directories ... NOTE
Found the following hidden files and directories:
  .BBSoptions
These were most likely included in error. See section ‘Package
structure’ in the ‘Writing R Extensions’ manual.
* checking for portable file names ... OK
* checking for sufficient/correct file permissions ... OK
* checking whether package ‘conumee’ can be installed ... OK
* checking installed package size ... OK
* checking package directory ... OK
* checking ‘build’ directory ... OK
* checking DESCRIPTION meta-information ... OK
* checking top-level files ... OK
* checking for left-over files ... OK
* checking index information ... OK
* checking package subdirectories ... OK
* checking code files for non-ASCII characters ... OK
* checking R files for syntax errors ... OK
* checking whether the package can be loaded ... OK
* checking whether the package can be loaded with stated dependencies ... OK
* checking whether the package can be unloaded cleanly ... OK
* checking whether the namespace can be loaded with stated dependencies ... OK
* checking whether the namespace can be unloaded cleanly ... OK
* checking dependencies in R code ... OK
* checking S3 generic/method consistency ... OK
* checking replacement functions ... OK
* checking foreign function calls ... OK
* checking R code for possible problems ... NOTE
CNV.load,GenomicRatioSet: no visible global function definition for
  ‘assays’
CNV.load,matrix: no visible binding for global variable ‘anno’
Undefined global functions or variables:
  anno assays
* checking Rd files ... OK
* checking Rd metadata ... OK
* checking Rd cross-references ... OK
* checking for missing documentation entries ... OK
* checking for code/documentation mismatches ... OK
* checking Rd \usage sections ... OK
* checking Rd contents ... OK
* checking for unstated dependencies in examples ... OK
* checking contents of ‘data’ directory ... OK
* checking data for non-ASCII characters ... OK
* checking data for ASCII and uncompressed saves ... OK
* checking R/sysdata.rda ... OK
* checking files in ‘vignettes’ ... OK
* checking examples ... OK
Examples with CPU (user + system) or elapsed time > 5s
                      user system elapsed
CNV.genomeplot      71.171  3.180  76.328
CNV.detailplot_wrap 64.198  3.464  68.339
CNV.write           61.067  2.927  64.361
CNV.segment         59.172  4.415  68.953
CNV.detailplot      59.613  3.249  63.215
CNV.analysis-class  59.026  2.878  62.342
CNV.fit             38.516  1.735  41.784
CNV.bin             33.298  1.480  35.044
CNV.detail          32.719  1.792  34.842
CNV.create_anno     29.837  1.906  32.046
CNV.anno-class      28.544  1.684  30.433
read.450k.url        7.070  0.775  16.886
CNV.load             2.766  0.343   5.681
* checking for unstated dependencies in vignettes ... OK
* checking package vignettes ... OK
* checking running R code from vignettes ... SKIPPED
* checking re-building of vignette outputs ... SKIPPED
* checking PDF version of manual ... OK
* DONE

Status: 2 NOTEs
See
  ‘/Users/biocbuild/bbs-3.21-bioc/meat/conumee.Rcheck/00check.log’
for details.


Installation output

conumee.Rcheck/00install.out

##############################################################################
##############################################################################
###
### Running command:
###
###   /Library/Frameworks/R.framework/Resources/bin/R CMD INSTALL conumee
###
##############################################################################
##############################################################################


* installing to library ‘/Library/Frameworks/R.framework/Versions/4.5-x86_64/Resources/library’
* installing *source* package ‘conumee’ ...
** this is package ‘conumee’ version ‘1.41.0’
** using staged installation
** R
** data
** inst
** byte-compile and prepare package for lazy loading
** help
*** installing help indices
** building package indices
** installing vignettes
** testing if installed package can be loaded from temporary location
** testing if installed package can be loaded from final location
** testing if installed package keeps a record of temporary installation path
* DONE (conumee)

Tests output


Example timings

conumee.Rcheck/conumee-Ex.timings

nameusersystemelapsed
CNV.analysis-class59.026 2.87862.342
CNV.anno-class28.544 1.68430.433
CNV.bin33.298 1.48035.044
CNV.create_anno29.837 1.90632.046
CNV.data-class1.3960.0321.435
CNV.detail32.719 1.79234.842
CNV.detailplot59.613 3.24963.215
CNV.detailplot_wrap64.198 3.46468.339
CNV.fit38.516 1.73541.784
CNV.genomeplot71.171 3.18076.328
CNV.load2.7660.3435.681
CNV.segment59.172 4.41568.953
CNV.write61.067 2.92764.361
read.450k.url 7.070 0.77516.886