| Back to Multiple platform build/check report for BioC 3.21: simplified long |
|
This page was generated on 2025-10-16 11:38 -0400 (Thu, 16 Oct 2025).
| Hostname | OS | Arch (*) | R version | Installed pkgs |
|---|---|---|---|---|
| nebbiolo1 | Linux (Ubuntu 24.04.3 LTS) | x86_64 | 4.5.1 (2025-06-13) -- "Great Square Root" | 4833 |
| merida1 | macOS 12.7.6 Monterey | x86_64 | 4.5.1 RC (2025-06-05 r88288) -- "Great Square Root" | 4614 |
| kjohnson1 | macOS 13.7.5 Ventura | arm64 | 4.5.1 Patched (2025-06-14 r88325) -- "Great Square Root" | 4555 |
| kunpeng2 | Linux (openEuler 24.03 LTS) | aarch64 | R Under development (unstable) (2025-02-19 r87757) -- "Unsuffered Consequences" | 4586 |
| Click on any hostname to see more info about the system (e.g. compilers) (*) as reported by 'uname -p', except on Windows and Mac OS X | ||||
| Package 428/2341 | Hostname | OS / Arch | INSTALL | BUILD | CHECK | BUILD BIN | ||||||||
| compSPOT 1.6.0 (landing page) Sydney Grant
| nebbiolo1 | Linux (Ubuntu 24.04.3 LTS) / x86_64 | OK | OK | OK | |||||||||
| merida1 | macOS 12.7.6 Monterey / x86_64 | OK | OK | OK | OK | |||||||||
| kjohnson1 | macOS 13.7.5 Ventura / arm64 | OK | OK | OK | OK | |||||||||
| kunpeng2 | Linux (openEuler 24.03 LTS) / aarch64 | OK | ERROR | skipped | ||||||||||
|
To the developers/maintainers of the compSPOT package: - Allow up to 24 hours (and sometimes 48 hours) for your latest push to git@git.bioconductor.org:packages/compSPOT.git to reflect on this report. See Troubleshooting Build Report for more information. - Use the following Renviron settings to reproduce errors and warnings. - If 'R CMD check' started to fail recently on the Linux builder(s) over a missing dependency, add the missing dependency to 'Suggests:' in your DESCRIPTION file. See Renviron.bioc for more information. |
| Package: compSPOT |
| Version: 1.6.0 |
| Command: /Library/Frameworks/R.framework/Resources/bin/R CMD check --install=check:compSPOT.install-out.txt --library=/Library/Frameworks/R.framework/Resources/library --no-vignettes --timings compSPOT_1.6.0.tar.gz |
| StartedAt: 2025-10-14 01:53:26 -0400 (Tue, 14 Oct 2025) |
| EndedAt: 2025-10-14 02:01:31 -0400 (Tue, 14 Oct 2025) |
| EllapsedTime: 485.3 seconds |
| RetCode: 0 |
| Status: OK |
| CheckDir: compSPOT.Rcheck |
| Warnings: 0 |
##############################################################################
##############################################################################
###
### Running command:
###
### /Library/Frameworks/R.framework/Resources/bin/R CMD check --install=check:compSPOT.install-out.txt --library=/Library/Frameworks/R.framework/Resources/library --no-vignettes --timings compSPOT_1.6.0.tar.gz
###
##############################################################################
##############################################################################
* using log directory ‘/Users/biocbuild/bbs-3.21-bioc/meat/compSPOT.Rcheck’
* using R version 4.5.1 RC (2025-06-05 r88288)
* using platform: x86_64-apple-darwin20
* R was compiled by
Apple clang version 14.0.0 (clang-1400.0.29.202)
GNU Fortran (GCC) 14.2.0
* running under: macOS Monterey 12.7.6
* using session charset: UTF-8
* using option ‘--no-vignettes’
* checking for file ‘compSPOT/DESCRIPTION’ ... OK
* checking extension type ... Package
* this is package ‘compSPOT’ version ‘1.6.0’
* package encoding: UTF-8
* checking package namespace information ... OK
* checking package dependencies ... OK
* checking if this is a source package ... OK
* checking if there is a namespace ... OK
* checking for hidden files and directories ... OK
* checking for portable file names ... OK
* checking for sufficient/correct file permissions ... OK
* checking whether package ‘compSPOT’ can be installed ... OK
* checking installed package size ... OK
* checking package directory ... OK
* checking ‘build’ directory ... OK
* checking DESCRIPTION meta-information ... OK
* checking top-level files ... OK
* checking for left-over files ... OK
* checking index information ... OK
* checking package subdirectories ... OK
* checking code files for non-ASCII characters ... OK
* checking R files for syntax errors ... OK
* checking whether the package can be loaded ... OK
* checking whether the package can be loaded with stated dependencies ... OK
* checking whether the package can be unloaded cleanly ... OK
* checking whether the namespace can be loaded with stated dependencies ... OK
* checking whether the namespace can be unloaded cleanly ... OK
* checking dependencies in R code ... OK
* checking S3 generic/method consistency ... OK
* checking replacement functions ... OK
* checking foreign function calls ... OK
* checking R code for possible problems ... NOTE
compare_features : count_mutations_features: no visible binding for
global variable ‘Sample’
compare_features : count_mutations_features: no visible binding for
global variable ‘Chromosome’
count_groups: no visible binding for global variable ‘Group’
count_mutations: no visible binding for global variable ‘Sample’
count_mutations: no visible binding for global variable ‘Chromosome’
find_hotspots: no visible binding for global variable ‘percent’
plot_ecdf: no visible binding for global variable ‘Hotspot’
plot_ecdf: no visible binding for global variable ‘Mutation_Count’
plot_ecdf: no visible binding for global variable ‘Group’
plot_features: no visible global function definition for ‘na.omit’
plot_features: no visible binding for global variable ‘Count’
plot_sigspot: no visible binding for global variable ‘percent’
plot_sigspot: no visible binding for global variable ‘number’
plot_sigspot: no visible binding for global variable ‘Label’
plot_sigspot: no visible binding for global variable ‘type’
plot_sigspot: no visible binding for global variable ‘Count’
plot_sigspot: no visible binding for global variable ‘Group’
plot_spot: no visible binding for global variable ‘Mutation_Count’
plot_spot: no visible binding for global variable ‘Hotspot’
plot_spot: no visible binding for global variable ‘Group’
region_counter: no visible binding for global variable ‘Sample’
region_counter: no visible binding for global variable ‘Chromosome’
spot_rank: no visible binding for global variable ‘Chromosome’
Undefined global functions or variables:
Chromosome Count Group Hotspot Label Mutation_Count Sample na.omit
number percent type
Consider adding
importFrom("stats", "na.omit")
to your NAMESPACE file.
* checking Rd files ... OK
* checking Rd metadata ... OK
* checking Rd cross-references ... OK
* checking for missing documentation entries ... OK
* checking for code/documentation mismatches ... OK
* checking Rd \usage sections ... OK
* checking Rd contents ... OK
* checking for unstated dependencies in examples ... OK
* checking contents of ‘data’ directory ... OK
* checking data for non-ASCII characters ... OK
* checking data for ASCII and uncompressed saves ... OK
* checking files in ‘vignettes’ ... OK
* checking examples ... OK
Examples with CPU (user + system) or elapsed time > 5s
user system elapsed
compare_groups 242.940 8.822 265.107
find_hotspots 26.430 0.810 27.852
compare_features 9.047 0.148 9.877
* checking for unstated dependencies in ‘tests’ ... OK
* checking tests ...
Running ‘testthat.R’
OK
* checking for unstated dependencies in vignettes ... OK
* checking package vignettes ... OK
* checking running R code from vignettes ... SKIPPED
* checking re-building of vignette outputs ... SKIPPED
* checking PDF version of manual ... OK
* DONE
Status: 1 NOTE
See
‘/Users/biocbuild/bbs-3.21-bioc/meat/compSPOT.Rcheck/00check.log’
for details.
compSPOT.Rcheck/00install.out
############################################################################## ############################################################################## ### ### Running command: ### ### /Library/Frameworks/R.framework/Resources/bin/R CMD INSTALL compSPOT ### ############################################################################## ############################################################################## * installing to library ‘/Library/Frameworks/R.framework/Versions/4.5-x86_64/Resources/library’ * installing *source* package ‘compSPOT’ ... ** this is package ‘compSPOT’ version ‘1.6.0’ ** using staged installation ** R ** data ** byte-compile and prepare package for lazy loading ** help *** installing help indices ** building package indices ** installing vignettes ** testing if installed package can be loaded from temporary location ** testing if installed package can be loaded from final location ** testing if installed package keeps a record of temporary installation path * DONE (compSPOT)
compSPOT.Rcheck/tests/testthat.Rout
R version 4.5.1 RC (2025-06-05 r88288) -- "Great Square Root"
Copyright (C) 2025 The R Foundation for Statistical Computing
Platform: x86_64-apple-darwin20
R is free software and comes with ABSOLUTELY NO WARRANTY.
You are welcome to redistribute it under certain conditions.
Type 'license()' or 'licence()' for distribution details.
R is a collaborative project with many contributors.
Type 'contributors()' for more information and
'citation()' on how to cite R or R packages in publications.
Type 'demo()' for some demos, 'help()' for on-line help, or
'help.start()' for an HTML browser interface to help.
Type 'q()' to quit R.
> # This file is part of the standard setup for testthat.
> # It is recommended that you do not modify it.
> #
> # Where should you do additional test configuration?
> # Learn more about the roles of various files in:
> # * https://r-pkgs.org/testing-design.html#sec-tests-files-overview
> # * https://testthat.r-lib.org/articles/special-files.html
>
> library(testthat)
> library(compSPOT)
>
> test_check("compSPOT")
[ FAIL 0 | WARN 0 | SKIP 0 | PASS 202 ]
>
> proc.time()
user system elapsed
73.056 2.150 78.493
compSPOT.Rcheck/compSPOT-Ex.timings
| name | user | system | elapsed | |
| compare_features | 9.047 | 0.148 | 9.877 | |
| compare_groups | 242.940 | 8.822 | 265.107 | |
| find_hotspots | 26.430 | 0.810 | 27.852 | |