Back to Multiple platform build/check report for BioC 3.21:   simplified   long
AB[C]DEFGHIJKLMNOPQRSTUVWXYZ

This page was generated on 2025-02-11 11:40 -0500 (Tue, 11 Feb 2025).

HostnameOSArch (*)R versionInstalled pkgs
nebbiolo1Linux (Ubuntu 24.04.1 LTS)x86_64R Under development (unstable) (2025-01-20 r87609) -- "Unsuffered Consequences" 4719
palomino7Windows Server 2022 Datacenterx64R Under development (unstable) (2025-01-21 r87610 ucrt) -- "Unsuffered Consequences" 4480
lconwaymacOS 12.7.1 Montereyx86_64R Under development (unstable) (2025-01-22 r87618) -- "Unsuffered Consequences" 4491
kjohnson3macOS 13.7.1 Venturaarm64R Under development (unstable) (2025-01-20 r87609) -- "Unsuffered Consequences" 4444
Click on any hostname to see more info about the system (e.g. compilers)      (*) as reported by 'uname -p', except on Windows and Mac OS X

Package 409/2295HostnameOS / ArchINSTALLBUILDCHECKBUILD BIN
cola 2.13.1  (landing page)
Zuguang Gu
Snapshot Date: 2025-02-10 13:40 -0500 (Mon, 10 Feb 2025)
git_url: https://git.bioconductor.org/packages/cola
git_branch: devel
git_last_commit: 1f071f7
git_last_commit_date: 2025-02-06 04:31:44 -0500 (Thu, 06 Feb 2025)
nebbiolo1Linux (Ubuntu 24.04.1 LTS) / x86_64  OK    OK    OK  UNNEEDED, same version is already published
palomino7Windows Server 2022 Datacenter / x64  OK    OK    OK    OK  UNNEEDED, same version is already published
lconwaymacOS 12.7.1 Monterey / x86_64  OK    OK    OK    OK  UNNEEDED, same version is already published
kjohnson3macOS 13.7.1 Ventura / arm64  OK    OK    OK    OK  UNNEEDED, same version is already published


CHECK results for cola on palomino7

To the developers/maintainers of the cola package:
- Allow up to 24 hours (and sometimes 48 hours) for your latest push to git@git.bioconductor.org:packages/cola.git to reflect on this report. See Troubleshooting Build Report for more information.
- Use the following Renviron settings to reproduce errors and warnings.
- If 'R CMD check' started to fail recently on the Linux builder(s) over a missing dependency, add the missing dependency to 'Suggests:' in your DESCRIPTION file. See Renviron.bioc for more information.

raw results


Summary

Package: cola
Version: 2.13.1
Command: E:\biocbuild\bbs-3.21-bioc\R\bin\R.exe CMD check --no-multiarch --install=check:cola.install-out.txt --library=E:\biocbuild\bbs-3.21-bioc\R\library --no-vignettes --timings cola_2.13.1.tar.gz
StartedAt: 2025-02-11 00:02:17 -0500 (Tue, 11 Feb 2025)
EndedAt: 2025-02-11 00:07:02 -0500 (Tue, 11 Feb 2025)
EllapsedTime: 284.8 seconds
RetCode: 0
Status:   OK  
CheckDir: cola.Rcheck
Warnings: 0

Command output

##############################################################################
##############################################################################
###
### Running command:
###
###   E:\biocbuild\bbs-3.21-bioc\R\bin\R.exe CMD check --no-multiarch --install=check:cola.install-out.txt --library=E:\biocbuild\bbs-3.21-bioc\R\library --no-vignettes --timings cola_2.13.1.tar.gz
###
##############################################################################
##############################################################################


* using log directory 'E:/biocbuild/bbs-3.21-bioc/meat/cola.Rcheck'
* using R Under development (unstable) (2025-01-21 r87610 ucrt)
* using platform: x86_64-w64-mingw32
* R was compiled by
    gcc.exe (GCC) 13.3.0
    GNU Fortran (GCC) 13.3.0
* running under: Windows Server 2022 x64 (build 20348)
* using session charset: UTF-8
* using option '--no-vignettes'
* checking for file 'cola/DESCRIPTION' ... OK
* checking extension type ... Package
* this is package 'cola' version '2.13.1'
* checking package namespace information ... OK
* checking package dependencies ... OK
* checking if this is a source package ... OK
* checking if there is a namespace ... OK
* checking for hidden files and directories ... OK
* checking for portable file names ... OK
* checking whether package 'cola' can be installed ... OK
* used C++ compiler: 'G__~1.EXE (GCC) 13.3.0'
* checking installed package size ... INFO
  installed size is  6.6Mb
  sub-directories of 1Mb or more:
    data      3.2Mb
    extdata   1.0Mb
* checking package directory ... OK
* checking 'build' directory ... OK
* checking DESCRIPTION meta-information ... NOTE
License stub is invalid DCF.
* checking top-level files ... OK
* checking for left-over files ... OK
* checking index information ... OK
* checking package subdirectories ... OK
* checking code files for non-ASCII characters ... OK
* checking R files for syntax errors ... OK
* checking whether the package can be loaded ... OK
* checking whether the package can be loaded with stated dependencies ... OK
* checking whether the package can be unloaded cleanly ... OK
* checking whether the namespace can be loaded with stated dependencies ... OK
* checking whether the namespace can be unloaded cleanly ... OK
* checking whether startup messages can be suppressed ... OK
* checking dependencies in R code ... OK
* checking S3 generic/method consistency ... OK
* checking replacement functions ... OK
* checking foreign function calls ... OK
* checking R code for possible problems ... OK
* checking Rd files ... OK
* checking Rd metadata ... OK
* checking Rd cross-references ... NOTE
Found the following Rd file(s) with Rd \link{} targets missing package
anchors:
  predict_classes-ConsensusPartition-method.Rd: colorRamp2
  predict_classes-matrix-method.Rd: colorRamp2
Please provide package anchors for all Rd \link{} targets not in the
package itself and the base packages.
* checking for missing documentation entries ... OK
* checking for code/documentation mismatches ... OK
* checking Rd \usage sections ... OK
* checking Rd contents ... OK
* checking for unstated dependencies in examples ... OK
* checking contents of 'data' directory ... OK
* checking data for non-ASCII characters ... OK
* checking data for ASCII and uncompressed saves ... OK
* checking line endings in C/C++/Fortran sources/headers ... OK
* checking compiled code ... NOTE
Note: information on .o files for x64 is not available
File 'E:/biocbuild/bbs-3.21-bioc/R/library/cola/libs/x64/cola.dll':
  Found '_exit', possibly from '_exit' (C)
  Found 'abort', possibly from 'abort' (C), 'runtime' (Fortran)
  Found 'exit', possibly from 'exit' (C), 'stop' (Fortran)

Compiled code should not call entry points which might terminate R nor
write to stdout/stderr instead of to the console, nor use Fortran I/O
nor system RNGs nor [v]sprintf. The detected symbols are linked into
the code but might come from libraries and not actually be called.

See 'Writing portable packages' in the 'Writing R Extensions' manual.
* checking files in 'vignettes' ... OK
* checking examples ... OK
Examples with CPU (user + system) or elapsed time > 5s
                                                user system elapsed
get_signatures-ConsensusPartition-method        6.58   0.22    7.54
compare_signatures-HierarchicalPartition-method 4.80   0.29    5.25
consensus_partition                             2.05   0.05   36.04
* checking for unstated dependencies in 'tests' ... OK
* checking tests ...
  Running 'test-all.R'
 OK
* checking for unstated dependencies in vignettes ... OK
* checking package vignettes ... OK
* checking running R code from vignettes ... SKIPPED
* checking re-building of vignette outputs ... SKIPPED
* checking PDF version of manual ... OK
* DONE

Status: 3 NOTEs
See
  'E:/biocbuild/bbs-3.21-bioc/meat/cola.Rcheck/00check.log'
for details.


Installation output

cola.Rcheck/00install.out

##############################################################################
##############################################################################
###
### Running command:
###
###   E:\biocbuild\bbs-3.21-bioc\R\bin\R.exe CMD INSTALL cola
###
##############################################################################
##############################################################################


* installing to library 'E:/biocbuild/bbs-3.21-bioc/R/library'
* installing *source* package 'cola' ...
** this is package 'cola' version '2.13.1'
** using staged installation
** libs
using C++ compiler: 'G__~1.EXE (GCC) 13.3.0'
g++ -std=gnu++17  -I"E:/biocbuild/bbs-3.21-bioc/R/include" -DNDEBUG  -I'E:/biocbuild/bbs-3.21-bioc/R/library/Rcpp/include'   -I"C:/rtools44/x86_64-w64-mingw32.static.posix/include"      -O2 -Wall  -mfpmath=sse -msse2 -mstackrealign   -DR_NO_REMAP -c RcppExports.cpp -o RcppExports.o
g++ -std=gnu++17  -I"E:/biocbuild/bbs-3.21-bioc/R/include" -DNDEBUG  -I'E:/biocbuild/bbs-3.21-bioc/R/library/Rcpp/include'   -I"C:/rtools44/x86_64-w64-mingw32.static.posix/include"      -O2 -Wall  -mfpmath=sse -msse2 -mstackrealign   -DR_NO_REMAP -c atc.cpp -o atc.o
g++ -std=gnu++17  -I"E:/biocbuild/bbs-3.21-bioc/R/include" -DNDEBUG  -I'E:/biocbuild/bbs-3.21-bioc/R/library/Rcpp/include'   -I"C:/rtools44/x86_64-w64-mingw32.static.posix/include"      -O2 -Wall  -mfpmath=sse -msse2 -mstackrealign   -DR_NO_REMAP -c cal_consensus_mat.cpp -o cal_consensus_mat.o
g++ -std=gnu++17  -I"E:/biocbuild/bbs-3.21-bioc/R/include" -DNDEBUG  -I'E:/biocbuild/bbs-3.21-bioc/R/library/Rcpp/include'   -I"C:/rtools44/x86_64-w64-mingw32.static.posix/include"      -O2 -Wall  -mfpmath=sse -msse2 -mstackrealign   -DR_NO_REMAP -c pdist.cpp -o pdist.o
g++ -std=gnu++17 -shared -s -static-libgcc -o cola.dll tmp.def RcppExports.o atc.o cal_consensus_mat.o pdist.o -LC:/rtools44/x86_64-w64-mingw32.static.posix/lib/x64 -LC:/rtools44/x86_64-w64-mingw32.static.posix/lib -LE:/biocbuild/bbs-3.21-bioc/R/bin/x64 -lR
installing to E:/biocbuild/bbs-3.21-bioc/R/library/00LOCK-cola/00new/cola/libs/x64
** R
** data
** inst
** byte-compile and prepare package for lazy loading
** help
*** installing help indices
** building package indices
** installing vignettes
** testing if installed package can be loaded from temporary location
** testing if installed package can be loaded from final location
** testing if installed package keeps a record of temporary installation path
* DONE (cola)

Tests output

cola.Rcheck/tests/test-all.Rout


R Under development (unstable) (2025-01-21 r87610 ucrt) -- "Unsuffered Consequences"
Copyright (C) 2025 The R Foundation for Statistical Computing
Platform: x86_64-w64-mingw32/x64

R is free software and comes with ABSOLUTELY NO WARRANTY.
You are welcome to redistribute it under certain conditions.
Type 'license()' or 'licence()' for distribution details.

R is a collaborative project with many contributors.
Type 'contributors()' for more information and
'citation()' on how to cite R or R packages in publications.

Type 'demo()' for some demos, 'help()' for on-line help, or
'help.start()' for an HTML browser interface to help.
Type 'q()' to quit R.

> library(testthat)
> suppressWarnings(suppressPackageStartupMessages(library(cola)))
> 
> test_check("cola")
[ FAIL 0 | WARN 0 | SKIP 0 | PASS 18 ]
> 
> 
> proc.time()
   user  system elapsed 
   4.37    0.57   25.93 

Example timings

cola.Rcheck/cola-Ex.timings

nameusersystemelapsed
ATC0.050.000.04
ATC_approx000
ConsensusPartition-class000
ConsensusPartitionList-class000
DownSamplingConsensusPartition-class000
Extract.ConsensusPartitionList0.540.000.54
Extract.HierarchicalPartition0.270.020.29
ExtractExtract.ConsensusPartitionList0.170.010.18
ExtractExtract.HierarchicalPartition000
FCC0.190.000.19
HierarchicalPartition-class000
PAC0.470.050.52
aPAC0.140.010.16
adjust_matrix0.010.000.01
adjust_outlier000
all_leaves-HierarchicalPartition-method0.130.000.13
all_nodes-HierarchicalPartition-method0.110.000.11
all_partition_methods000
all_top_value_methods000
cola0.070.020.08
cola_opt0.010.000.02
cola_report-ConsensusPartition-method000
cola_report-ConsensusPartitionList-method000
cola_report-HierarchicalPartition-method000
cola_report-dispatch000
cola_rl0.050.010.06
collect_classes-ConsensusPartition-method2.580.602.44
collect_classes-ConsensusPartitionList-method3.900.043.95
collect_classes-HierarchicalPartition-method1.640.041.67
collect_classes-dispatch000
collect_plots-ConsensusPartition-method000
collect_plots-ConsensusPartitionList-method000
collect_plots-dispatch000
collect_stats-ConsensusPartition-method000
collect_stats-ConsensusPartitionList-method0.580.030.61
collect_stats-dispatch000
colnames-ConsensusPartition-method000
colnames-ConsensusPartitionList-method000
colnames-DownSamplingConsensusPartition-method000
colnames-HierarchicalPartition-method000
colnames-dispatch000
compare_partitions-ConsensusPartition-method000
compare_signatures-ConsensusPartition-method000
compare_signatures-HierarchicalPartition-method4.800.295.25
compare_signatures-dispatch000
concordance0.120.020.14
config_ATC000
consensus_heatmap-ConsensusPartition-method0.670.060.74
consensus_partition 2.05 0.0536.04
consensus_partition_by_down_sampling000
correspond_between_rankings0.080.010.10
correspond_between_two_rankings0.050.000.04
david_enrichment000
dim.ConsensusPartition000
dim.ConsensusPartitionList000
dim.DownSamplingConsensusPartition000
dim.HierarchicalPartition000
dimension_reduction-ConsensusPartition-method0.820.050.88
dimension_reduction-DownSamplingConsensusPartition-method2.020.022.03
dimension_reduction-HierarchicalPartition-method0.760.000.76
dimension_reduction-dispatch000
dimension_reduction-matrix-method000
find_best_km000
functional_enrichment-ANY-method000
functional_enrichment-ConsensusPartition-method000
functional_enrichment-ConsensusPartitionList-method000
functional_enrichment-HierarchicalPartition-method000
functional_enrichment-dispatch000
get_anno-ConsensusPartition-method000
get_anno-ConsensusPartitionList-method000
get_anno-DownSamplingConsensusPartition-method0.060.000.06
get_anno-HierarchicalPartition-method0.020.000.02
get_anno-dispatch000
get_anno_col-ConsensusPartition-method000
get_anno_col-ConsensusPartitionList-method000
get_anno_col-HierarchicalPartition-method000
get_anno_col-dispatch000
get_children_nodes-HierarchicalPartition-method000
get_classes-ConsensusPartition-method0.140.020.15
get_classes-ConsensusPartitionList-method0.140.010.16
get_classes-DownSamplingConsensusPartition-method0.050.020.06
get_classes-HierarchicalPartition-method0.110.010.13
get_classes-dispatch000
get_consensus-ConsensusPartition-method0.110.080.18
get_matrix-ConsensusPartition-method0.530.280.82
get_matrix-ConsensusPartitionList-method0.500.300.79
get_matrix-DownSamplingConsensusPartition-method0.020.000.00
get_matrix-HierarchicalPartition-method000
get_matrix-dispatch000
get_membership-ConsensusPartition-method0.160.000.16
get_membership-ConsensusPartitionList-method0.170.020.19
get_membership-dispatch000
get_param-ConsensusPartition-method0.140.040.19
get_signatures-ConsensusPartition-method6.580.227.54
get_signatures-DownSamplingConsensusPartition-method000
get_signatures-HierarchicalPartition-method000
get_signatures-dispatch000
get_stats-ConsensusPartition-method0.140.020.15
get_stats-ConsensusPartitionList-method0.140.010.16
get_stats-dispatch000
golub_cola0.160.020.17
golub_cola_ds0.080.050.13
golub_cola_rh0.120.010.14
hierarchical_partition000
is_best_k-ConsensusPartition-method0.140.000.14
is_best_k-ConsensusPartitionList-method0.110.020.12
is_best_k-dispatch000
is_leaf_node-HierarchicalPartition-method0.110.010.13
is_stable_k-ConsensusPartition-method0.140.000.14
is_stable_k-ConsensusPartitionList-method0.110.020.13
is_stable_k-dispatch000
knee_finder20.030.000.03
knitr_add_tab_item000
knitr_insert_tabs000
map_to_entrez_id000
max_depth-HierarchicalPartition-method0.080.000.07
membership_heatmap-ConsensusPartition-method0.460.010.47
merge_node-HierarchicalPartition-method000
merge_node_param000
ncol-ConsensusPartition-method000
ncol-ConsensusPartitionList-method000
ncol-DownSamplingConsensusPartition-method000
ncol-HierarchicalPartition-method000
ncol-dispatch000
node_info-HierarchicalPartition-method000
node_level-HierarchicalPartition-method000
nrow-ConsensusPartition-method000
nrow-ConsensusPartitionList-method000
nrow-HierarchicalPartition-method000
nrow-dispatch000
plot_ecdf-ConsensusPartition-method0.150.000.16
predict_classes-ConsensusPartition-method000
predict_classes-dispatch000
predict_classes-matrix-method000
print.hc_table_suggest_best_k000
recalc_stats000
register_NMF000
register_SOM000
register_partition_methods0.650.020.67
register_top_value_methods000
relabel_class000
remove_partition_methods000
remove_top_value_methods000
rownames-ConsensusPartition-method000
rownames-ConsensusPartitionList-method000
rownames-HierarchicalPartition-method000
rownames-dispatch000
run_all_consensus_partition_methods000
select_partition_number-ConsensusPartition-method0.170.010.19
show-ConsensusPartition-method000
show-ConsensusPartitionList-method000
show-DownSamplingConsensusPartition-method0.110.000.11
show-HierarchicalPartition-method0.140.000.14
show-dispatch000
split_node-HierarchicalPartition-method000
suggest_best_k-ConsensusPartition-method0.090.020.11
suggest_best_k-ConsensusPartitionList-method0.130.000.12
suggest_best_k-HierarchicalPartition-method0.120.000.13
suggest_best_k-dispatch000
test_between_factors0.020.000.01
test_to_known_factors-ConsensusPartition-method0.140.000.14
test_to_known_factors-ConsensusPartitionList-method0.270.010.28
test_to_known_factors-DownSamplingConsensusPartition-method0.090.020.11
test_to_known_factors-HierarchicalPartition-method0.130.010.14
test_to_known_factors-dispatch000
top_elements_overlap0.320.020.35
top_rows_heatmap-ConsensusPartition-method000
top_rows_heatmap-ConsensusPartitionList-method000
top_rows_heatmap-HierarchicalPartition-method000
top_rows_heatmap-dispatch000
top_rows_heatmap-matrix-method3.340.303.75
top_rows_overlap-ConsensusPartitionList-method1.490.041.53
top_rows_overlap-HierarchicalPartition-method0.650.000.66
top_rows_overlap-dispatch000
top_rows_overlap-matrix-method0.190.000.19