Back to Multiple platform build/check report for BioC 3.21:   simplified   long
AB[C]DEFGHIJKLMNOPQRSTUVWXYZ

This page was generated on 2025-02-15 11:39 -0500 (Sat, 15 Feb 2025).

HostnameOSArch (*)R versionInstalled pkgs
nebbiolo1Linux (Ubuntu 24.04.1 LTS)x86_64R Under development (unstable) (2025-01-20 r87609) -- "Unsuffered Consequences" 4720
palomino7Windows Server 2022 Datacenterx64R Under development (unstable) (2025-01-21 r87610 ucrt) -- "Unsuffered Consequences" 4482
lconwaymacOS 12.7.1 Montereyx86_64R Under development (unstable) (2025-01-22 r87618) -- "Unsuffered Consequences" 4493
kjohnson3macOS 13.7.1 Venturaarm64R Under development (unstable) (2025-01-20 r87609) -- "Unsuffered Consequences" 4446
Click on any hostname to see more info about the system (e.g. compilers)      (*) as reported by 'uname -p', except on Windows and Mac OS X

Package 413/2295HostnameOS / ArchINSTALLBUILDCHECKBUILD BIN
coMethDMR 1.11.0  (landing page)
Fernanda Veitzman
Snapshot Date: 2025-02-14 13:40 -0500 (Fri, 14 Feb 2025)
git_url: https://git.bioconductor.org/packages/coMethDMR
git_branch: devel
git_last_commit: 7275ade
git_last_commit_date: 2024-10-29 11:07:14 -0500 (Tue, 29 Oct 2024)
nebbiolo1Linux (Ubuntu 24.04.1 LTS) / x86_64  OK    OK    OK  UNNEEDED, same version is already published
palomino7Windows Server 2022 Datacenter / x64  OK    OK    OK    OK  UNNEEDED, same version is already published
lconwaymacOS 12.7.1 Monterey / x86_64  OK    OK    OK    OK  UNNEEDED, same version is already published
kjohnson3macOS 13.7.1 Ventura / arm64  OK    OK    OK    OK  UNNEEDED, same version is already published


CHECK results for coMethDMR on nebbiolo1

To the developers/maintainers of the coMethDMR package:
- Allow up to 24 hours (and sometimes 48 hours) for your latest push to git@git.bioconductor.org:packages/coMethDMR.git to reflect on this report. See Troubleshooting Build Report for more information.
- Use the following Renviron settings to reproduce errors and warnings.
- If 'R CMD check' started to fail recently on the Linux builder(s) over a missing dependency, add the missing dependency to 'Suggests:' in your DESCRIPTION file. See Renviron.bioc for more information.

raw results


Summary

Package: coMethDMR
Version: 1.11.0
Command: /home/biocbuild/bbs-3.21-bioc/R/bin/R CMD check --install=check:coMethDMR.install-out.txt --library=/home/biocbuild/bbs-3.21-bioc/R/site-library --timings coMethDMR_1.11.0.tar.gz
StartedAt: 2025-02-14 20:52:14 -0500 (Fri, 14 Feb 2025)
EndedAt: 2025-02-14 21:05:33 -0500 (Fri, 14 Feb 2025)
EllapsedTime: 799.0 seconds
RetCode: 0
Status:   OK  
CheckDir: coMethDMR.Rcheck
Warnings: 0

Command output

##############################################################################
##############################################################################
###
### Running command:
###
###   /home/biocbuild/bbs-3.21-bioc/R/bin/R CMD check --install=check:coMethDMR.install-out.txt --library=/home/biocbuild/bbs-3.21-bioc/R/site-library --timings coMethDMR_1.11.0.tar.gz
###
##############################################################################
##############################################################################


* using log directory ‘/home/biocbuild/bbs-3.21-bioc/meat/coMethDMR.Rcheck’
* using R Under development (unstable) (2025-01-20 r87609)
* using platform: x86_64-pc-linux-gnu
* R was compiled by
    gcc (Ubuntu 13.3.0-6ubuntu2~24.04) 13.3.0
    GNU Fortran (Ubuntu 13.3.0-6ubuntu2~24.04) 13.3.0
* running under: Ubuntu 24.04.2 LTS
* using session charset: UTF-8
* checking for file ‘coMethDMR/DESCRIPTION’ ... OK
* this is package ‘coMethDMR’ version ‘1.11.0’
* package encoding: UTF-8
* checking package namespace information ... OK
* checking package dependencies ... OK
* checking if this is a source package ... OK
* checking if there is a namespace ... OK
* checking for hidden files and directories ... OK
* checking for portable file names ... OK
* checking for sufficient/correct file permissions ... OK
* checking whether package ‘coMethDMR’ can be installed ... OK
* checking installed package size ... OK
* checking package directory ... OK
* checking ‘build’ directory ... OK
* checking DESCRIPTION meta-information ... OK
* checking top-level files ... OK
* checking for left-over files ... OK
* checking index information ... OK
* checking package subdirectories ... OK
* checking code files for non-ASCII characters ... OK
* checking R files for syntax errors ... OK
* checking whether the package can be loaded ... OK
* checking whether the package can be loaded with stated dependencies ... OK
* checking whether the package can be unloaded cleanly ... OK
* checking whether the namespace can be loaded with stated dependencies ... OK
* checking whether the namespace can be unloaded cleanly ... OK
* checking loading without being on the library search path ... OK
* checking whether startup messages can be suppressed ... OK
* checking dependencies in R code ... OK
* checking S3 generic/method consistency ... OK
* checking replacement functions ... OK
* checking foreign function calls ... OK
* checking R code for possible problems ... NOTE
File ‘coMethDMR/R/zzz.R’:
  .onLoad calls:
    packageStartupMessage("Checking for cached SeSAMe data.")
    packageStartupMessage("Caching SeSAMe data for 450k/EPIC arrays.")

See section ‘Good practice’ in '?.onAttach'.
* checking Rd files ... NOTE
checkRd: (-1) AnnotateResults.Rd:13: Lost braces in \itemize; meant \describe ?
checkRd: (-1) AnnotateResults.Rd:14: Lost braces in \itemize; meant \describe ?
checkRd: (-1) AnnotateResults.Rd:15: Lost braces in \itemize; meant \describe ?
checkRd: (-1) CoMethSingleRegion.Rd:55-60: Lost braces in \itemize; \value handles \item{}{} directly
checkRd: (-1) CoMethSingleRegion.Rd:61-63: Lost braces in \itemize; \value handles \item{}{} directly
checkRd: (-1) CreateRdrop.Rd:23: Lost braces in \itemize; \value handles \item{}{} directly
checkRd: (-1) CreateRdrop.Rd:24-25: Lost braces in \itemize; \value handles \item{}{} directly
checkRd: (-1) MarkComethylatedCpGs.Rd:44: Lost braces in \itemize; \value handles \item{}{} directly
checkRd: (-1) MarkComethylatedCpGs.Rd:45-46: Lost braces in \itemize; \value handles \item{}{} directly
checkRd: (-1) MarkComethylatedCpGs.Rd:47: Lost braces in \itemize; \value handles \item{}{} directly
checkRd: (-1) MarkComethylatedCpGs.Rd:48-49: Lost braces in \itemize; \value handles \item{}{} directly
checkRd: (-1) MarkMissing.Rd:23-24: Lost braces in \itemize; \value handles \item{}{} directly
checkRd: (-1) MarkMissing.Rd:25-26: Lost braces in \itemize; \value handles \item{}{} directly
checkRd: (-1) MarkMissing.Rd:27-28: Lost braces in \itemize; \value handles \item{}{} directly
checkRd: (-1) MarkMissing.Rd:29-30: Lost braces in \itemize; \value handles \item{}{} directly
* checking Rd metadata ... OK
* checking Rd cross-references ... OK
* checking for missing documentation entries ... OK
* checking for code/documentation mismatches ... OK
* checking Rd \usage sections ... OK
* checking Rd contents ... OK
* checking for unstated dependencies in examples ... OK
* checking contents of ‘data’ directory ... OK
* checking data for non-ASCII characters ... OK
* checking data for ASCII and uncompressed saves ... OK
* checking files in ‘vignettes’ ... OK
* checking examples ... OK
Examples with CPU (user + system) or elapsed time > 5s
                      user system elapsed
CoMethSingleRegion  29.299  1.554  32.122
lmmTest             24.714  1.601  27.756
SplitCpGDFbyRegion  17.180  0.919  18.804
CpGsInfoOneRegion   16.639  0.919  18.323
lmmTestAllRegions   16.263  0.685  17.421
CoMethAllRegions    12.231  1.156  13.625
AnnotateResults     11.300  2.078  13.380
GetCpGsInRegion     11.335  0.413  12.218
CreateOutputDF       7.646  0.625   8.528
CpGsInfoAllRegions   6.612  0.557   7.405
CloseBySingleRegion  6.558  0.589   7.443
OrderCpGsByLocation  5.597  0.219   6.070
ImportSesameData     5.331  0.233   5.827
* checking for unstated dependencies in ‘tests’ ... OK
* checking tests ...
  Running ‘testthat.R’
 OK
* checking for unstated dependencies in vignettes ... OK
* checking package vignettes ... OK
* checking re-building of vignette outputs ... OK
* checking PDF version of manual ... OK
* DONE

Status: 2 NOTEs
See
  ‘/home/biocbuild/bbs-3.21-bioc/meat/coMethDMR.Rcheck/00check.log’
for details.


Installation output

coMethDMR.Rcheck/00install.out

##############################################################################
##############################################################################
###
### Running command:
###
###   /home/biocbuild/bbs-3.21-bioc/R/bin/R CMD INSTALL coMethDMR
###
##############################################################################
##############################################################################


* installing to library ‘/home/biocbuild/bbs-3.21-bioc/R/site-library’
* installing *source* package ‘coMethDMR’ ...
** this is package ‘coMethDMR’ version ‘1.11.0’
** using staged installation
** R
** data
** inst
** byte-compile and prepare package for lazy loading
** help
*** installing help indices
** building package indices
** installing vignettes
** testing if installed package can be loaded from temporary location
** testing if installed package can be loaded from final location
** testing if installed package keeps a record of temporary installation path
* DONE (coMethDMR)

Tests output

coMethDMR.Rcheck/tests/testthat.Rout


R Under development (unstable) (2025-01-20 r87609) -- "Unsuffered Consequences"
Copyright (C) 2025 The R Foundation for Statistical Computing
Platform: x86_64-pc-linux-gnu

R is free software and comes with ABSOLUTELY NO WARRANTY.
You are welcome to redistribute it under certain conditions.
Type 'license()' or 'licence()' for distribution details.

R is a collaborative project with many contributors.
Type 'contributors()' for more information and
'citation()' on how to cite R or R packages in publications.

Type 'demo()' for some demos, 'help()' for on-line help, or
'help.start()' for an HTML browser interface to help.
Type 'q()' to quit R.

> library(testthat)
> library(coMethDMR)
Checking for cached SeSAMe data.
> 
> test_check("coMethDMR")
[ FAIL 0 | WARN 0 | SKIP 0 | PASS 12 ]
> 
> proc.time()
   user  system elapsed 
 55.744   2.516  59.533 

Example timings

coMethDMR.Rcheck/coMethDMR-Ex.timings

nameusersystemelapsed
AnnotateResults11.300 2.07813.380
CloseBySingleRegion6.5580.5897.443
CoMethAllRegions12.231 1.15613.625
CoMethSingleRegion29.299 1.55432.122
CpGsInfoAllRegions6.6120.5577.405
CpGsInfoOneRegion16.639 0.91918.323
CreateOutputDF7.6460.6258.528
CreateParallelWorkers1.4990.0601.557
CreateRdrop0.0030.0000.004
FindComethylatedRegions0.0140.0000.016
GetCpGsInRegion11.335 0.41312.218
GetResiduals0.2070.0160.223
ImportSesameData5.3310.2335.827
MarkComethylatedCpGs0.0030.0010.004
MarkMissing0.0030.0010.004
NameRegion0.0010.0000.001
OrderCpGsByLocation5.5970.2196.070
RegionsToRanges0.0090.0020.011
SplitCpGDFbyRegion17.180 0.91918.804
WriteCloseByAllRegions0.0380.0080.046
lmmTest24.714 1.60127.756
lmmTestAllRegions16.263 0.68517.421