| Back to Multiple platform build/check report for BioC 3.21: simplified long |
|
This page was generated on 2025-10-16 11:41 -0400 (Thu, 16 Oct 2025).
| Hostname | OS | Arch (*) | R version | Installed pkgs |
|---|---|---|---|---|
| nebbiolo1 | Linux (Ubuntu 24.04.3 LTS) | x86_64 | 4.5.1 (2025-06-13) -- "Great Square Root" | 4833 |
| merida1 | macOS 12.7.6 Monterey | x86_64 | 4.5.1 RC (2025-06-05 r88288) -- "Great Square Root" | 4614 |
| kjohnson1 | macOS 13.7.5 Ventura | arm64 | 4.5.1 Patched (2025-06-14 r88325) -- "Great Square Root" | 4555 |
| kunpeng2 | Linux (openEuler 24.03 LTS) | aarch64 | R Under development (unstable) (2025-02-19 r87757) -- "Unsuffered Consequences" | 4586 |
| Click on any hostname to see more info about the system (e.g. compilers) (*) as reported by 'uname -p', except on Windows and Mac OS X | ||||
| Package 246/2341 | Hostname | OS / Arch | INSTALL | BUILD | CHECK | BUILD BIN | ||||||||
| broadSeq 1.2.4 (landing page) Rishi Das Roy
| nebbiolo1 | Linux (Ubuntu 24.04.3 LTS) / x86_64 | OK | OK | OK | |||||||||
| merida1 | macOS 12.7.6 Monterey / x86_64 | OK | OK | OK | OK | |||||||||
| kjohnson1 | macOS 13.7.5 Ventura / arm64 | OK | OK | OK | OK | |||||||||
| kunpeng2 | Linux (openEuler 24.03 LTS) / aarch64 | OK | OK | OK | ||||||||||
|
To the developers/maintainers of the broadSeq package: - Allow up to 24 hours (and sometimes 48 hours) for your latest push to git@git.bioconductor.org:packages/broadSeq.git to reflect on this report. See Troubleshooting Build Report for more information. - Use the following Renviron settings to reproduce errors and warnings. - If 'R CMD check' started to fail recently on the Linux builder(s) over a missing dependency, add the missing dependency to 'Suggests:' in your DESCRIPTION file. See Renviron.bioc for more information. - See Martin Grigorov's blog post for how to debug Linux ARM64 related issues on a x86_64 host. |
| Package: broadSeq |
| Version: 1.2.4 |
| Command: /home/biocbuild/R/R/bin/R CMD check --install=check:broadSeq.install-out.txt --library=/home/biocbuild/R/R/site-library --no-vignettes --timings broadSeq_1.2.4.tar.gz |
| StartedAt: 2025-10-14 07:03:45 -0000 (Tue, 14 Oct 2025) |
| EndedAt: 2025-10-14 07:10:18 -0000 (Tue, 14 Oct 2025) |
| EllapsedTime: 393.3 seconds |
| RetCode: 0 |
| Status: OK |
| CheckDir: broadSeq.Rcheck |
| Warnings: 0 |
##############################################################################
##############################################################################
###
### Running command:
###
### /home/biocbuild/R/R/bin/R CMD check --install=check:broadSeq.install-out.txt --library=/home/biocbuild/R/R/site-library --no-vignettes --timings broadSeq_1.2.4.tar.gz
###
##############################################################################
##############################################################################
* using log directory ‘/home/biocbuild/bbs-3.21-bioc/meat/broadSeq.Rcheck’
* using R Under development (unstable) (2025-02-19 r87757)
* using platform: aarch64-unknown-linux-gnu
* R was compiled by
aarch64-unknown-linux-gnu-gcc (GCC) 14.2.0
GNU Fortran (GCC) 14.2.0
* running under: openEuler 24.03 (LTS-SP1)
* using session charset: UTF-8
* using option ‘--no-vignettes’
* checking for file ‘broadSeq/DESCRIPTION’ ... OK
* this is package ‘broadSeq’ version ‘1.2.4’
* package encoding: UTF-8
* checking package namespace information ... OK
* checking package dependencies ... OK
* checking if this is a source package ... OK
* checking if there is a namespace ... OK
* checking for hidden files and directories ... OK
* checking for portable file names ... OK
* checking for sufficient/correct file permissions ... OK
* checking whether package ‘broadSeq’ can be installed ... OK
* checking installed package size ... OK
* checking package directory ... OK
* checking ‘build’ directory ... OK
* checking DESCRIPTION meta-information ... OK
* checking top-level files ... OK
* checking for left-over files ... OK
* checking index information ... OK
* checking package subdirectories ... OK
* checking code files for non-ASCII characters ... OK
* checking R files for syntax errors ... OK
* checking whether the package can be loaded ... OK
* checking whether the package can be loaded with stated dependencies ... OK
* checking whether the package can be unloaded cleanly ... OK
* checking whether the namespace can be loaded with stated dependencies ... OK
* checking whether the namespace can be unloaded cleanly ... OK
* checking loading without being on the library search path ... OK
* checking dependencies in R code ... NOTE
Namespace in Imports field not imported from: ‘BiocStyle’
All declared Imports should be used.
* checking S3 generic/method consistency ... OK
* checking replacement functions ... OK
* checking foreign function calls ... OK
* checking R code for possible problems ... NOTE
genes_plot: warning in facet(facet.by, scale = "free"): partial
argument match of 'scale' to 'scales'
volcanoPlot: warning in ggscatter(x = lFCName, y = "padj_temp", color =
"Significant", palette = palette, title = "Volcano plot", label =
labelName, repel = TRUE, label.rectangle = TRUE, show.legend = FALSE,
label.select = selectedLabel): partial argument match of
'show.legend' to 'show.legend.text'
assay_plot: no visible global function definition for ‘ggarrange’
assay_plot: no visible global function definition for ‘text_grob’
biplotAnyPC: no visible binding for global variable ‘PC’
biplotAnyPC: no visible binding for global variable ‘var_pct’
biplotAnyPC: no visible global function definition for ‘pull’
biplotAnyPC: no visible binding for global variable ‘gene’
biplotAnyPC: no visible global function definition for ‘aes’
biplotAnyPC: no visible global function definition for ‘arrow’
biplotAnyPC: no visible global function definition for ‘unit’
combinedEnrichment: no visible global function definition for
‘keytypes’
extract_topGeneLoadings: no visible global function definition for
‘desc’
extract_topGeneLoadings: no visible global function definition for
‘all_of’
genes_plot: no visible global function definition for ‘rowData’
normalizeEdgerCPM: no visible global function definition for ‘is’
plotAnyPC: no visible binding for global variable ‘PC’
plotAnyPC: no visible binding for global variable ‘var_pct’
plotHeatmapCluster: no visible global function definition for ‘is’
plotHeatmapCluster: no visible global function definition for ‘colData’
plotHeatmapCluster: no visible global function definition for ‘rowData’
plotHeatmapCluster: no visible global function definition for ‘all_of’
plot_MDS: no visible global function definition for ‘is’
plot_MDS: no visible global function definition for ‘dist’
plot_MDS: no visible global function definition for ‘cmdscale’
plot_MDS: no visible global function definition for ‘colData’
prcompTidy: no visible global function definition for ‘is’
prcompTidy: no visible global function definition for ‘prcomp’
prcompTidy: no visible binding for global variable ‘stdev’
prcompTidy: no visible binding for global variable ‘var’
prcompTidy: no visible binding for global variable ‘var_pct’
prcompTidy: no visible binding for global variable ‘PC’
prcompTidy: no visible binding for global variable ‘.’
prcompTidy: no visible binding for global variable ‘gene’
transformDESeq2: no visible global function definition for ‘is’
transformDESeq2: no visible global function definition for ‘assays<-’
transformDESeq2: no visible global function definition for ‘assay’
use_DELocal: no visible global function definition for ‘desc’
use_DELocal: no visible binding for global variable ‘relative.logFC’
use_EBSeq: no visible binding for global variable ‘RealFC’
use_EBSeq: no visible binding for global variable ‘Status’
use_EBSeq: no visible global function definition for ‘desc’
use_EBSeq: no visible binding for global variable ‘PPDE’
use_NOIseq: no visible global function definition for ‘desc’
use_NOIseq: no visible binding for global variable ‘prob’
use_SAMseq: no visible binding for global variable ‘q-value(%)’
use_deseq2: no visible binding for global variable ‘padj’
use_edgeR: no visible binding for global variable ‘logFC’
use_edgeR: no visible binding for global variable ‘FDR’
use_edgeR: no visible global function definition for ‘:=’
use_limma: no visible global function definition for ‘par’
use_limma: no visible binding for global variable ‘logFC’
use_limma: no visible binding for global variable ‘B’
use_limma: no visible global function definition for ‘:=’
volcanoPlot: no visible global function definition for ‘labs’
volcanoPlot: no visible global function definition for ‘geom_abline’
Undefined global functions or variables:
. := B FDR PC PPDE RealFC Status aes all_of arrow assay assays<-
cmdscale colData desc dist gene geom_abline ggarrange is keytypes
labs logFC padj par prcomp prob pull q-value(%) relative.logFC
rowData stdev text_grob unit var var_pct
Consider adding
importFrom("graphics", "par")
importFrom("methods", "is")
importFrom("stats", "cmdscale", "dist", "prcomp", "var")
to your NAMESPACE file (and ensure that your DESCRIPTION Imports field
contains 'methods').
* checking Rd files ... OK
* checking Rd metadata ... OK
* checking Rd cross-references ... NOTE
Found the following Rd file(s) with Rd \link{} targets missing package
anchors:
genes_plot.Rd: SummarizedExperiment, ggboxplot
normalizeEdgerCPM.Rd: SummarizedExperiment, normLibSizes, cpm
plotHeatmapCluster.Rd: SummarizedExperiment, pheatmap
plot_MDS.Rd: SummarizedExperiment, ggscatter
prcompTidy.Rd: SummarizedExperiment, ggscatter
sampleAssay_plot.Rd: SummarizedExperiment, ggboxplot
transformDESeq2.Rd: SummarizedExperiment,
varianceStabilizingTransformation, normTransform, rlog
use_DELocal.Rd: SummarizedExperiment, DELocal
use_EBSeq.Rd: SummarizedExperiment, GetDEResults
use_NOIseq.Rd: noiseqbio, SummarizedExperiment
use_SAMseq.Rd: SummarizedExperiment
use_deseq2.Rd: SummarizedExperiment, results, DESeqResults
use_edgeR.Rd: SummarizedExperiment, glmLRT, exactTest, topTags
use_limma.Rd: SummarizedExperiment
use_multDE.Rd: SummarizedExperiment
Please provide package anchors for all Rd \link{} targets not in the
package itself and the base packages.
* checking for missing documentation entries ... OK
* checking for code/documentation mismatches ... OK
* checking Rd \usage sections ... OK
* checking Rd contents ... OK
* checking for unstated dependencies in examples ... OK
* checking files in ‘vignettes’ ... OK
* checking examples ... OK
Examples with CPU (user + system) or elapsed time > 5s
user system elapsed
sampleAssay_plot 12.892 0.080 13.003
use_multDE 12.553 0.047 12.609
genes_plot 5.797 0.235 6.064
use_deseq2 5.843 0.008 5.866
plot_MDS 5.793 0.032 5.837
transformDESeq2 4.998 0.020 5.031
* checking for unstated dependencies in vignettes ... OK
* checking package vignettes ... OK
* checking running R code from vignettes ... SKIPPED
* checking re-building of vignette outputs ... SKIPPED
* checking PDF version of manual ... OK
* DONE
Status: 3 NOTEs
See
‘/home/biocbuild/bbs-3.21-bioc/meat/broadSeq.Rcheck/00check.log’
for details.
broadSeq.Rcheck/00install.out
############################################################################## ############################################################################## ### ### Running command: ### ### /home/biocbuild/R/R/bin/R CMD INSTALL broadSeq ### ############################################################################## ############################################################################## * installing to library ‘/home/biocbuild/R/R-devel_2025-02-19/site-library’ * installing *source* package ‘broadSeq’ ... ** this is package ‘broadSeq’ version ‘1.2.4’ ** using staged installation ** R ** inst ** byte-compile and prepare package for lazy loading ** help *** installing help indices *** copying figures ** building package indices ** installing vignettes ** testing if installed package can be loaded from temporary location ** testing if installed package can be loaded from final location ** testing if installed package keeps a record of temporary installation path * DONE (broadSeq)
broadSeq.Rcheck/broadSeq-Ex.timings
| name | user | system | elapsed | |
| genes_plot | 5.797 | 0.235 | 6.064 | |
| normalizeEdgerCPM | 1.706 | 0.072 | 1.781 | |
| plotHeatmapCluster | 1.795 | 0.000 | 1.800 | |
| plot_MDS | 5.793 | 0.032 | 5.837 | |
| prcompTidy | 2.153 | 0.016 | 2.176 | |
| round_df | 0.008 | 0.000 | 0.009 | |
| sampleAssay_plot | 12.892 | 0.080 | 13.003 | |
| transformDESeq2 | 4.998 | 0.020 | 5.031 | |
| use_DELocal | 4.044 | 0.004 | 4.061 | |
| use_EBSeq | 1.113 | 0.008 | 1.103 | |
| use_NOIseq | 0.737 | 0.008 | 0.747 | |
| use_deseq2 | 5.843 | 0.008 | 5.866 | |
| use_edgeR | 0.479 | 0.000 | 0.480 | |
| use_limma | 0.234 | 0.000 | 0.235 | |
| use_multDE | 12.553 | 0.047 | 12.609 | |