Back to Multiple platform build/check report for BioC 3.21:   simplified   long
A[B]CDEFGHIJKLMNOPQRSTUVWXYZ

This page was generated on 2025-01-30 13:13 -0500 (Thu, 30 Jan 2025).

HostnameOSArch (*)R versionInstalled pkgs
nebbiolo1Linux (Ubuntu 24.04.1 LTS)x86_64R Under development (unstable) (2025-01-20 r87609) -- "Unsuffered Consequences" 4703
lconwaymacOS 12.7.1 Montereyx86_64R Under development (unstable) (2025-01-22 r87618) -- "Unsuffered Consequences" 4477
kjohnson3macOS 13.7.1 Venturaarm64R Under development (unstable) (2025-01-20 r87609) -- "Unsuffered Consequences" 4430
kunpeng2Linux (openEuler 22.03 LTS-SP1)aarch64R Under development (unstable) (2024-11-24 r87369) -- "Unsuffered Consequences" 4420
Click on any hostname to see more info about the system (e.g. compilers)      (*) as reported by 'uname -p', except on Windows and Mac OS X

Package 222/2289HostnameOS / ArchINSTALLBUILDCHECKBUILD BIN
biscuiteer 1.21.0  (landing page)
Jacob Morrison
Snapshot Date: 2025-01-29 13:40 -0500 (Wed, 29 Jan 2025)
git_url: https://git.bioconductor.org/packages/biscuiteer
git_branch: devel
git_last_commit: 7fd1d20
git_last_commit_date: 2024-10-29 10:41:15 -0500 (Tue, 29 Oct 2024)
nebbiolo1Linux (Ubuntu 24.04.1 LTS) / x86_64  OK    OK    WARNINGS  UNNEEDED, same version is already published
lconwaymacOS 12.7.1 Monterey / x86_64  OK    OK    WARNINGS    OK  NO, package depends on 'VariantAnnotation' which is only available as a source package that needs compilation
kjohnson3macOS 13.7.1 Ventura / arm64  OK    OK    WARNINGS    OK  NO, package depends on 'VariantAnnotation' which is only available as a source package that needs compilation
kunpeng2Linux (openEuler 22.03 LTS-SP1) / aarch64  OK    NA    NA  


INSTALL results for biscuiteer on kunpeng2

To the developers/maintainers of the biscuiteer package:
- Allow up to 24 hours (and sometimes 48 hours) for your latest push to git@git.bioconductor.org:packages/biscuiteer.git to reflect on this report. See Troubleshooting Build Report for more information.
- Use the following Renviron settings to reproduce errors and warnings.
- If 'R CMD check' started to fail recently on the Linux builder(s) over a missing dependency, add the missing dependency to 'Suggests:' in your DESCRIPTION file. See Renviron.bioc for more information.
- See Martin Grigorov's blog post for how to debug Linux ARM64 related issues on a x86_64 host.

raw results


Summary

Package: biscuiteer
Version: 1.21.0
Command: /home/biocbuild/R/R/bin/R CMD INSTALL biscuiteer
StartedAt: 2025-01-29 20:03:55 -0000 (Wed, 29 Jan 2025)
EndedAt: 2025-01-29 20:05:51 -0000 (Wed, 29 Jan 2025)
EllapsedTime: 115.5 seconds
RetCode: 0
Status:   OK  

Command output

##############################################################################
##############################################################################
###
### Running command:
###
###   /home/biocbuild/R/R/bin/R CMD INSTALL biscuiteer
###
##############################################################################
##############################################################################


* installing to library ‘/home/biocbuild/R/R-4.5.0-devel_2024-11-24/site-library’
* installing *source* package ‘biscuiteer’ ...
** using staged installation
** R
** data
** inst
** byte-compile and prepare package for lazy loading
Warning: program compiled against libxml 212 using older 211
Warning: replacing previous import ‘BiocParallel::bpstart’ by ‘QDNAseq::bpstart’ when loading ‘biscuiteer’
** help
*** installing help indices
** building package indices
** installing vignettes
** testing if installed package can be loaded from temporary location
Warning: program compiled against libxml 212 using older 211
Warning: replacing previous import ‘BiocParallel::bpstart’ by ‘QDNAseq::bpstart’ when loading ‘biscuiteer’
** testing if installed package can be loaded from final location
ExperimentHub caching warnings:
Warning in message(cond, appendLF = TRUE) :
  additional arguments ignored in message()
Could not check database for updates.
  Database source currently unreachable.
  This should only be a temporary interruption. 
  Using previously cached version.Warning: program compiled against libxml 212 using older 211
Warning: replacing previous import ‘BiocParallel::bpstart’ by ‘QDNAseq::bpstart’ when loading ‘biscuiteer’
** testing if installed package keeps a record of temporary installation path
* DONE (biscuiteer)