Back to Multiple platform build/check report for BioC 3.21:   simplified   long
ABCDEFGHIJKLMNOPQRS[T]UVWXYZ

This page was generated on 2025-02-15 11:40 -0500 (Sat, 15 Feb 2025).

HostnameOSArch (*)R versionInstalled pkgs
nebbiolo1Linux (Ubuntu 24.04.1 LTS)x86_64R Under development (unstable) (2025-01-20 r87609) -- "Unsuffered Consequences" 4720
palomino7Windows Server 2022 Datacenterx64R Under development (unstable) (2025-01-21 r87610 ucrt) -- "Unsuffered Consequences" 4482
lconwaymacOS 12.7.1 Montereyx86_64R Under development (unstable) (2025-01-22 r87618) -- "Unsuffered Consequences" 4493
kjohnson3macOS 13.7.1 Venturaarm64R Under development (unstable) (2025-01-20 r87609) -- "Unsuffered Consequences" 4446
Click on any hostname to see more info about the system (e.g. compilers)      (*) as reported by 'uname -p', except on Windows and Mac OS X

Package 2123/2295HostnameOS / ArchINSTALLBUILDCHECKBUILD BIN
TargetSearch 2.9.1  (landing page)
Alvaro Cuadros-Inostroza
Snapshot Date: 2025-02-14 13:40 -0500 (Fri, 14 Feb 2025)
git_url: https://git.bioconductor.org/packages/TargetSearch
git_branch: devel
git_last_commit: 5a422d0
git_last_commit_date: 2024-11-18 05:52:10 -0500 (Mon, 18 Nov 2024)
nebbiolo1Linux (Ubuntu 24.04.1 LTS) / x86_64  OK    OK    OK  UNNEEDED, same version is already published
palomino7Windows Server 2022 Datacenter / x64  OK    OK    OK    OK  UNNEEDED, same version is already published
lconwaymacOS 12.7.1 Monterey / x86_64  OK    OK    OK    OK  UNNEEDED, same version is already published
kjohnson3macOS 13.7.1 Ventura / arm64  OK    OK    OK    OK  UNNEEDED, same version is already published


CHECK results for TargetSearch on nebbiolo1

To the developers/maintainers of the TargetSearch package:
- Allow up to 24 hours (and sometimes 48 hours) for your latest push to git@git.bioconductor.org:packages/TargetSearch.git to reflect on this report. See Troubleshooting Build Report for more information.
- Use the following Renviron settings to reproduce errors and warnings.
- If 'R CMD check' started to fail recently on the Linux builder(s) over a missing dependency, add the missing dependency to 'Suggests:' in your DESCRIPTION file. See Renviron.bioc for more information.

raw results


Summary

Package: TargetSearch
Version: 2.9.1
Command: /home/biocbuild/bbs-3.21-bioc/R/bin/R CMD check --install=check:TargetSearch.install-out.txt --library=/home/biocbuild/bbs-3.21-bioc/R/site-library --timings TargetSearch_2.9.1.tar.gz
StartedAt: 2025-02-15 02:53:37 -0500 (Sat, 15 Feb 2025)
EndedAt: 2025-02-15 02:54:55 -0500 (Sat, 15 Feb 2025)
EllapsedTime: 78.1 seconds
RetCode: 0
Status:   OK  
CheckDir: TargetSearch.Rcheck
Warnings: 0

Command output

##############################################################################
##############################################################################
###
### Running command:
###
###   /home/biocbuild/bbs-3.21-bioc/R/bin/R CMD check --install=check:TargetSearch.install-out.txt --library=/home/biocbuild/bbs-3.21-bioc/R/site-library --timings TargetSearch_2.9.1.tar.gz
###
##############################################################################
##############################################################################


* using log directory ‘/home/biocbuild/bbs-3.21-bioc/meat/TargetSearch.Rcheck’
* using R Under development (unstable) (2025-01-20 r87609)
* using platform: x86_64-pc-linux-gnu
* R was compiled by
    gcc (Ubuntu 13.3.0-6ubuntu2~24.04) 13.3.0
    GNU Fortran (Ubuntu 13.3.0-6ubuntu2~24.04) 13.3.0
* running under: Ubuntu 24.04.2 LTS
* using session charset: UTF-8
* checking for file ‘TargetSearch/DESCRIPTION’ ... OK
* checking extension type ... Package
* this is package ‘TargetSearch’ version ‘2.9.1’
* checking package namespace information ... OK
* checking package dependencies ... OK
* checking if this is a source package ... OK
* checking if there is a namespace ... OK
* checking for hidden files and directories ... OK
* checking for portable file names ... OK
* checking for sufficient/correct file permissions ... OK
* checking whether package ‘TargetSearch’ can be installed ... OK
* used C compiler: ‘gcc (Ubuntu 13.3.0-6ubuntu2~24.04) 13.3.0’
* checking installed package size ... OK
* checking package directory ... OK
* checking ‘build’ directory ... OK
* checking DESCRIPTION meta-information ... OK
* checking top-level files ... OK
* checking for left-over files ... OK
* checking index information ... OK
* checking package subdirectories ... OK
* checking code files for non-ASCII characters ... OK
* checking R files for syntax errors ... OK
* checking whether the package can be loaded ... OK
* checking whether the package can be loaded with stated dependencies ... OK
* checking whether the package can be unloaded cleanly ... OK
* checking whether the namespace can be loaded with stated dependencies ... OK
* checking whether the namespace can be unloaded cleanly ... OK
* checking loading without being on the library search path ... OK
* checking dependencies in R code ... OK
* checking S3 generic/method consistency ... OK
* checking replacement functions ... OK
* checking foreign function calls ... OK
* checking R code for possible problems ... OK
* checking Rd files ... OK
* checking Rd metadata ... OK
* checking Rd cross-references ... OK
* checking for missing documentation entries ... OK
* checking for code/documentation mismatches ... OK
* checking Rd \usage sections ... OK
* checking Rd contents ... OK
* checking for unstated dependencies in examples ... OK
* checking contents of ‘data’ directory ... OK
* checking data for non-ASCII characters ... OK
* checking data for ASCII and uncompressed saves ... OK
* checking line endings in C/C++/Fortran sources/headers ... OK
* checking compiled code ... NOTE
Note: information on .o files is not available
* checking installed files from ‘inst/doc’ ... OK
* checking files in ‘vignettes’ ... OK
* checking examples ... OK
Examples with CPU (user + system) or elapsed time > 5s
           user system elapsed
RIcorrect 8.117  0.698    8.85
* checking for unstated dependencies in ‘tests’ ... OK
* checking tests ...
  Running ‘tinytest.R’
 OK
* checking for unstated dependencies in vignettes ... OK
* checking package vignettes ... OK
* checking re-building of vignette outputs ... OK
* checking PDF version of manual ... OK
* DONE

Status: 1 NOTE
See
  ‘/home/biocbuild/bbs-3.21-bioc/meat/TargetSearch.Rcheck/00check.log’
for details.


Installation output

TargetSearch.Rcheck/00install.out

##############################################################################
##############################################################################
###
### Running command:
###
###   /home/biocbuild/bbs-3.21-bioc/R/bin/R CMD INSTALL TargetSearch
###
##############################################################################
##############################################################################


* installing to library ‘/home/biocbuild/bbs-3.21-bioc/R/site-library’
* installing *source* package ‘TargetSearch’ ...
** this is package ‘TargetSearch’ version ‘2.9.1’
** using staged installation
** libs
using C compiler: ‘gcc (Ubuntu 13.3.0-6ubuntu2~24.04) 13.3.0’
gcc -I"/home/biocbuild/bbs-3.21-bioc/R/include" -DNDEBUG   -I/usr/local/include    -fpic  -g -O2  -c Rinit.c -o Rinit.o
gcc -I"/home/biocbuild/bbs-3.21-bioc/R/include" -DNDEBUG   -I/usr/local/include    -fpic  -g -O2  -c baseline.c -o baseline.o
gcc -I"/home/biocbuild/bbs-3.21-bioc/R/include" -DNDEBUG   -I/usr/local/include    -fpic  -g -O2  -c detection.c -o detection.o
gcc -I"/home/biocbuild/bbs-3.21-bioc/R/include" -DNDEBUG   -I/usr/local/include    -fpic  -g -O2  -c file.c -o file.o
gcc -I"/home/biocbuild/bbs-3.21-bioc/R/include" -DNDEBUG   -I/usr/local/include    -fpic  -g -O2  -c find.c -o find.o
gcc -I"/home/biocbuild/bbs-3.21-bioc/R/include" -DNDEBUG   -I/usr/local/include    -fpic  -g -O2  -c get_line.c -o get_line.o
gcc -I"/home/biocbuild/bbs-3.21-bioc/R/include" -DNDEBUG   -I/usr/local/include    -fpic  -g -O2  -c hpf.c -o hpf.o
gcc -I"/home/biocbuild/bbs-3.21-bioc/R/include" -DNDEBUG   -I/usr/local/include    -fpic  -g -O2  -c matrix.c -o matrix.o
gcc -I"/home/biocbuild/bbs-3.21-bioc/R/include" -DNDEBUG   -I/usr/local/include    -fpic  -g -O2  -c ncdf.c -o ncdf.o
gcc -I"/home/biocbuild/bbs-3.21-bioc/R/include" -DNDEBUG   -I/usr/local/include    -fpic  -g -O2  -c peak.c -o peak.o
gcc -I"/home/biocbuild/bbs-3.21-bioc/R/include" -DNDEBUG   -I/usr/local/include    -fpic  -g -O2  -c spectrum.c -o spectrum.o
gcc -I"/home/biocbuild/bbs-3.21-bioc/R/include" -DNDEBUG   -I/usr/local/include    -fpic  -g -O2  -c strutils.c -o strutils.o
gcc -I"/home/biocbuild/bbs-3.21-bioc/R/include" -DNDEBUG   -I/usr/local/include    -fpic  -g -O2  -c utils.c -o utils.o
gcc -shared -L/home/biocbuild/bbs-3.21-bioc/R/lib -L/usr/local/lib -o TargetSearch.so Rinit.o baseline.o detection.o file.o find.o get_line.o hpf.o matrix.o ncdf.o peak.o spectrum.o strutils.o utils.o -L/home/biocbuild/bbs-3.21-bioc/R/lib -lR
installing to /home/biocbuild/bbs-3.21-bioc/R/site-library/00LOCK-TargetSearch/00new/TargetSearch/libs
** R
** data
** inst
** byte-compile and prepare package for lazy loading
** help
*** installing help indices
** building package indices
** installing vignettes
** testing if installed package can be loaded from temporary location
** checking absolute paths in shared objects and dynamic libraries
** testing if installed package can be loaded from final location
** testing if installed package keeps a record of temporary installation path
* DONE (TargetSearch)

Tests output

TargetSearch.Rcheck/tests/tinytest.Rout


R Under development (unstable) (2025-01-20 r87609) -- "Unsuffered Consequences"
Copyright (C) 2025 The R Foundation for Statistical Computing
Platform: x86_64-pc-linux-gnu

R is free software and comes with ABSOLUTELY NO WARRANTY.
You are welcome to redistribute it under certain conditions.
Type 'license()' or 'licence()' for distribution details.

R is a collaborative project with many contributors.
Type 'contributors()' for more information and
'citation()' on how to cite R or R packages in publications.

Type 'demo()' for some demos, 'help()' for on-line help, or
'help.start()' for an HTML browser interface to help.
Type 'q()' to quit R.

> if ( requireNamespace("tinytest", quietly=TRUE) && requireNamespace("TargetSearchData", quietly=TRUE)) {
+     tinytest::test_package("TargetSearch", color=FALSE, verbose=1)
+ }
Loading required package: TargetSearchData

test_FindAllPeaks.R...........   19 tests OK  0.8s
FAMEs were saved in /tmp/RtmpevAWps/file3410f169f2e4c5.pdf
FAMEs were saved in /tmp/RtmpevAWps/file3410f169f2e4c5.pdf
FAMEs were saved in /tmp/RtmpevAWps/file3410f169f2e4c5.pdf
FAMEs were saved in /tmp/RtmpevAWps/file3410f169f2e4c5.pdf

test_fameoutliers.R...........    5 tests OK  57ms

test_file.R...................    4 tests OK  57ms

test_import_fame.R............   14 tests OK  54ms

test_import_library.R.........   15 tests OK  84ms

test_ncdf4_plot_peak.R........    7 tests OK  0.3s

test_quantMatrix.R............    8 tests OK  29ms

test_ri_data_extract.R........    6 tests OK  3.3s

test_ri_plot_peak.R...........   22 tests OK  0.1s

test_tsLib.R..................   24 tests OK  81ms

test_tsProfile.R..............   12 tests OK  13ms

test_tsRim.R..................    9 tests OK  4ms

test_tsSample.R...............   19 tests OK  33ms

test_write_ri_file.R..........    6 tests OK  24ms
All ok, 170 results (5.0s)
> 
> proc.time()
   user  system elapsed 
  5.127   0.121   5.241 

Example timings

TargetSearch.Rcheck/TargetSearch-Ex.timings

nameusersystemelapsed
FAMEoutliers0.0560.0050.061
FindAllPeaks0.5980.0210.640
FindPeaks0.1050.0030.107
ImportFameSettings0.0070.0000.008
ImportLibrary0.0170.0000.017
ImportSamples0.010.000.01
NetCDFPeakFinding0.1060.0580.166
Profile0.4820.0060.488
ProfileCleanUp0.3880.0100.398
RIcorrect8.1170.6988.850
TSExample1.5740.1161.691
Write.Results0.0500.0010.050
baseline0.2020.0130.215
baselineCorrection0.2040.0080.212
baselineCorrectionQuant0.2870.0050.292
checkRimLim0.6080.0690.676
file0.0550.0050.060
fixRI0.6780.0520.730
makeIndex0.0040.0000.004
medianRILib0.2110.0030.214
ncdf4Convert-method0.0800.0190.099
ncdf4_convert0.0210.0050.026
ncdf4_convert_from_path1.5490.1091.658
ncdf4_data_extract0.2820.0210.305
ncdf4_plot_peak0.7740.0670.841
ncdf4_update_ri0.2110.0090.220
peakCDFextraction0.3340.0160.349
peakFind0.1130.0050.119
plotFAME0.0080.0000.007
plotPeak0.1280.0040.132
plotPeakRI0.4110.0080.421
plotPeakSimple0.2270.0190.246
plotRIdev0.2340.0050.239
plotRefSpectra0.0780.0010.079
plotSpectra0.1180.0030.122
quantMatrix0.3890.0070.396
ri2rt0.0030.0010.003
riMatrix0.5630.0330.596
ri_data_extract0.0250.0010.026
ri_plot_peak0.5940.0130.605
rt2ri0.0030.0000.004
sampleRI0.2270.0030.230
tsLib-class0.0230.0020.024
tsMSdata-class0.0080.0180.026
tsProfile-class0.0060.0030.010
tsRim-class0.0020.0000.003
tsSample-class0.0190.0010.021
tsUpdate-method000
updateRI0.8880.0570.945
writeLibText0.0160.0010.017
writeMSP0.0170.0010.018