| Back to Multiple platform build/check report for BioC 3.21: simplified long |
|
This page was generated on 2025-04-22 13:19 -0400 (Tue, 22 Apr 2025).
| Hostname | OS | Arch (*) | R version | Installed pkgs |
|---|---|---|---|---|
| nebbiolo1 | Linux (Ubuntu 24.04.1 LTS) | x86_64 | 4.5.0 RC (2025-04-04 r88126) -- "How About a Twenty-Six" | 4831 |
| palomino7 | Windows Server 2022 Datacenter | x64 | 4.5.0 RC (2025-04-04 r88126 ucrt) -- "How About a Twenty-Six" | 4573 |
| lconway | macOS 12.7.1 Monterey | x86_64 | 4.5.0 RC (2025-04-04 r88126) -- "How About a Twenty-Six" | 4599 |
| kjohnson3 | macOS 13.7.1 Ventura | arm64 | 4.5.0 RC (2025-04-04 r88126) -- "How About a Twenty-Six" | 4553 |
| kunpeng2 | Linux (openEuler 24.03 LTS) | aarch64 | R Under development (unstable) (2025-02-19 r87757) -- "Unsuffered Consequences" | 4570 |
| Click on any hostname to see more info about the system (e.g. compilers) (*) as reported by 'uname -p', except on Windows and Mac OS X | ||||
| Package 2241/2341 | Hostname | OS / Arch | INSTALL | BUILD | CHECK | BUILD BIN | ||||||||
| TRESS 1.14.0 (landing page) Zhenxing Guo
| nebbiolo1 | Linux (Ubuntu 24.04.1 LTS) / x86_64 | OK | OK | OK | |||||||||
| palomino7 | Windows Server 2022 Datacenter / x64 | OK | OK | OK | OK | |||||||||
| lconway | macOS 12.7.1 Monterey / x86_64 | OK | OK | OK | OK | |||||||||
| kjohnson3 | macOS 13.7.1 Ventura / arm64 | OK | OK | OK | OK | |||||||||
| kunpeng2 | Linux (openEuler 24.03 LTS) / aarch64 | OK | OK | OK | ||||||||||
|
To the developers/maintainers of the TRESS package: - Allow up to 24 hours (and sometimes 48 hours) for your latest push to git@git.bioconductor.org:packages/TRESS.git to reflect on this report. See Troubleshooting Build Report for more information. - Use the following Renviron settings to reproduce errors and warnings. - If 'R CMD check' started to fail recently on the Linux builder(s) over a missing dependency, add the missing dependency to 'Suggests:' in your DESCRIPTION file. See Renviron.bioc for more information. |
| Package: TRESS |
| Version: 1.14.0 |
| Command: /Library/Frameworks/R.framework/Resources/bin/R CMD check --install=check:TRESS.install-out.txt --library=/Library/Frameworks/R.framework/Resources/library --no-vignettes --timings TRESS_1.14.0.tar.gz |
| StartedAt: 2025-04-21 22:12:08 -0400 (Mon, 21 Apr 2025) |
| EndedAt: 2025-04-21 22:13:58 -0400 (Mon, 21 Apr 2025) |
| EllapsedTime: 109.4 seconds |
| RetCode: 0 |
| Status: OK |
| CheckDir: TRESS.Rcheck |
| Warnings: 0 |
##############################################################################
##############################################################################
###
### Running command:
###
### /Library/Frameworks/R.framework/Resources/bin/R CMD check --install=check:TRESS.install-out.txt --library=/Library/Frameworks/R.framework/Resources/library --no-vignettes --timings TRESS_1.14.0.tar.gz
###
##############################################################################
##############################################################################
* using log directory ‘/Users/biocbuild/bbs-3.21-bioc/meat/TRESS.Rcheck’
* using R version 4.5.0 RC (2025-04-04 r88126)
* using platform: aarch64-apple-darwin20
* R was compiled by
Apple clang version 14.0.0 (clang-1400.0.29.202)
GNU Fortran (GCC) 14.2.0
* running under: macOS Ventura 13.7.1
* using session charset: UTF-8
* using option ‘--no-vignettes’
* checking for file ‘TRESS/DESCRIPTION’ ... OK
* checking extension type ... Package
* this is package ‘TRESS’ version ‘1.14.0’
* package encoding: UTF-8
* checking package namespace information ... OK
* checking package dependencies ... INFO
Vignette dependency required without any vignettes: ‘knitr’
* checking if this is a source package ... OK
* checking if there is a namespace ... OK
* checking for hidden files and directories ... OK
* checking for portable file names ... OK
* checking for sufficient/correct file permissions ... OK
* checking whether package ‘TRESS’ can be installed ... OK
* checking installed package size ... OK
* checking package directory ... OK
* checking DESCRIPTION meta-information ... OK
* checking top-level files ... OK
* checking for left-over files ... OK
* checking index information ... OK
* checking package subdirectories ... OK
* checking code files for non-ASCII characters ... OK
* checking R files for syntax errors ... OK
* checking whether the package can be loaded ... OK
* checking whether the package can be loaded with stated dependencies ... OK
* checking whether the package can be unloaded cleanly ... OK
* checking whether the namespace can be loaded with stated dependencies ... OK
* checking whether the namespace can be unloaded cleanly ... OK
* checking dependencies in R code ... OK
* checking S3 generic/method consistency ... OK
* checking replacement functions ... OK
* checking foreign function calls ... OK
* checking R code for possible problems ... OK
* checking Rd files ... NOTE
checkRd: (-1) CallCandidates.Rd:61: Escaped LaTeX specials: \&
checkRd: (-1) CallCandidates.Rd:63: Escaped LaTeX specials: \&
checkRd: (-1) CallPeaks.multiRep.Rd:7: Escaped LaTeX specials: \&
checkRd: (-1) CallPeaks.paramEsti.Rd:10: Escaped LaTeX specials: \&
checkRd: (-1) CallPeaks.paramEsti.Rd:23: Escaped LaTeX specials: \&
checkRd: (-1) findBumps.Rd:8: Escaped LaTeX specials: \&
* checking Rd metadata ... OK
* checking Rd cross-references ... OK
* checking for missing documentation entries ... OK
* checking for code/documentation mismatches ... OK
* checking Rd \usage sections ... OK
* checking Rd contents ... OK
* checking for unstated dependencies in examples ... OK
* checking contents of ‘data’ directory ... OK
* checking data for non-ASCII characters ... OK
* checking data for ASCII and uncompressed saves ... OK
* checking examples ... OK
Examples with CPU (user + system) or elapsed time > 5s
user system elapsed
CallDMRs.paramEsti 8.648 0.988 6.210
CoefName 6.914 0.829 5.898
TRESS_DMRtest 7.111 0.528 4.861
* checking PDF version of manual ... OK
* DONE
Status: 1 NOTE
See
‘/Users/biocbuild/bbs-3.21-bioc/meat/TRESS.Rcheck/00check.log’
for details.
TRESS.Rcheck/00install.out
############################################################################## ############################################################################## ### ### Running command: ### ### /Library/Frameworks/R.framework/Resources/bin/R CMD INSTALL TRESS ### ############################################################################## ############################################################################## * installing to library ‘/Library/Frameworks/R.framework/Versions/4.5-arm64/Resources/library’ * installing *source* package ‘TRESS’ ... ** this is package ‘TRESS’ version ‘1.14.0’ ** using staged installation ** R ** data ** inst ** byte-compile and prepare package for lazy loading ** help *** installing help indices ** building package indices ** testing if installed package can be loaded from temporary location ** testing if installed package can be loaded from final location ** testing if installed package keeps a record of temporary installation path * DONE (TRESS)
TRESS.Rcheck/TRESS-Ex.timings
| name | user | system | elapsed | |
| CallCandidates | 0.611 | 0.038 | 0.673 | |
| CallDMRs.paramEsti | 8.648 | 0.988 | 6.210 | |
| CallPeaks.multiRep | 0.559 | 0.069 | 0.629 | |
| CallPeaks.oneRep | 0.021 | 0.006 | 0.028 | |
| CallPeaks.paramEsti | 0.570 | 0.004 | 0.575 | |
| CoefName | 6.914 | 0.829 | 5.898 | |
| DMRInfer | 3.284 | 0.458 | 0.111 | |
| DivideBins | 0.000 | 0.000 | 0.001 | |
| ShowOnePeak | 0.078 | 0.027 | 0.106 | |
| TRESS_DMRfit | 0 | 0 | 0 | |
| TRESS_DMRtest | 7.111 | 0.528 | 4.861 | |
| TRESS_peak | 0 | 0 | 0 | |
| filterRegions | 1.497 | 0.117 | 0.010 | |
| findBumps | 0.019 | 0.019 | 0.038 | |
| meRatio | 0.007 | 0.002 | 0.008 | |