| Back to Multiple platform build/check report for BioC 3.21: simplified long | 
 | 
This page was generated on 2025-10-13 11:42 -0400 (Mon, 13 Oct 2025).
| Hostname | OS | Arch (*) | R version | Installed pkgs | 
|---|---|---|---|---|
| nebbiolo1 | Linux (Ubuntu 24.04.3 LTS) | x86_64 | 4.5.1 (2025-06-13) -- "Great Square Root" | 4833 | 
| merida1 | macOS 12.7.5 Monterey | x86_64 | 4.5.1 RC (2025-06-05 r88288) -- "Great Square Root" | 4614 | 
| kjohnson1 | macOS 13.6.6 Ventura | arm64 | 4.5.1 Patched (2025-06-14 r88325) -- "Great Square Root" | 4555 | 
| kunpeng2 | Linux (openEuler 24.03 LTS) | aarch64 | R Under development (unstable) (2025-02-19 r87757) -- "Unsuffered Consequences" | 4586 | 
| Click on any hostname to see more info about the system (e.g. compilers) (*) as reported by 'uname -p', except on Windows and Mac OS X | ||||
| Package 2211/2341 | Hostname | OS / Arch | INSTALL | BUILD | CHECK | BUILD BIN | ||||||||
| TOP 1.8.0  (landing page) Harry Robertson 
 | nebbiolo1 | Linux (Ubuntu 24.04.3 LTS) / x86_64 | OK | OK | OK |  | ||||||||
| merida1 | macOS 12.7.5 Monterey / x86_64 | OK | OK | OK | OK |  | ||||||||
| kjohnson1 | macOS 13.6.6 Ventura / arm64 | OK | OK | OK | OK |  | ||||||||
| kunpeng2 | Linux (openEuler 24.03 LTS) / aarch64 | OK | OK | OK | ||||||||||
| To the developers/maintainers of the TOP package: - Allow up to 24 hours (and sometimes 48 hours) for your latest push to git@git.bioconductor.org:packages/TOP.git to reflect on this report. See Troubleshooting Build Report for more information. - Use the following Renviron settings to reproduce errors and warnings. - If 'R CMD check' started to fail recently on the Linux builder(s) over a missing dependency, add the missing dependency to 'Suggests:' in your DESCRIPTION file. See Renviron.bioc for more information. - See Martin Grigorov's blog post for how to debug Linux ARM64 related issues on a x86_64 host. | 
| Package: TOP | 
| Version: 1.8.0 | 
| Command: /home/biocbuild/R/R/bin/R CMD check --install=check:TOP.install-out.txt --library=/home/biocbuild/R/R/site-library --no-vignettes --timings TOP_1.8.0.tar.gz | 
| StartedAt: 2025-10-10 14:56:08 -0000 (Fri, 10 Oct 2025) | 
| EndedAt: 2025-10-10 15:01:22 -0000 (Fri, 10 Oct 2025) | 
| EllapsedTime: 313.4 seconds | 
| RetCode: 0 | 
| Status: OK | 
| CheckDir: TOP.Rcheck | 
| Warnings: 0 | 
##############################################################################
##############################################################################
###
### Running command:
###
###   /home/biocbuild/R/R/bin/R CMD check --install=check:TOP.install-out.txt --library=/home/biocbuild/R/R/site-library --no-vignettes --timings TOP_1.8.0.tar.gz
###
##############################################################################
##############################################################################
* using log directory ‘/home/biocbuild/bbs-3.21-bioc/meat/TOP.Rcheck’
* using R Under development (unstable) (2025-02-19 r87757)
* using platform: aarch64-unknown-linux-gnu
* R was compiled by
    aarch64-unknown-linux-gnu-gcc (GCC) 14.2.0
    GNU Fortran (GCC) 14.2.0
* running under: openEuler 24.03 (LTS-SP1)
* using session charset: UTF-8
* using option ‘--no-vignettes’
* checking for file ‘TOP/DESCRIPTION’ ... OK
* this is package ‘TOP’ version ‘1.8.0’
* package encoding: UTF-8
* checking package namespace information ... OK
* checking package dependencies ... INFO
Imports includes 27 non-default packages.
Importing from so many packages makes the package vulnerable to any of
them becoming unavailable.  Move as many as possible to Suggests and
use conditionally.
* checking if this is a source package ... OK
* checking if there is a namespace ... OK
* checking for hidden files and directories ... OK
* checking for portable file names ... OK
* checking for sufficient/correct file permissions ... OK
* checking whether package ‘TOP’ can be installed ... OK
* checking installed package size ... OK
* checking package directory ... OK
* checking ‘build’ directory ... OK
* checking DESCRIPTION meta-information ... OK
* checking top-level files ... OK
* checking for left-over files ... OK
* checking index information ... OK
* checking package subdirectories ... OK
* checking code files for non-ASCII characters ... OK
* checking R files for syntax errors ... OK
* checking whether the package can be loaded ... OK
* checking whether the package can be loaded with stated dependencies ... OK
* checking whether the package can be unloaded cleanly ... OK
* checking whether the namespace can be loaded with stated dependencies ... OK
* checking whether the namespace can be unloaded cleanly ... OK
* checking loading without being on the library search path ... OK
* checking dependencies in R code ... OK
* checking S3 generic/method consistency ... OK
* checking replacement functions ... OK
* checking foreign function calls ... OK
* checking R code for possible problems ... NOTE
Surv_TOP_CI: no visible binding for global variable ‘offset’
TOP_coefPlot: no visible binding for global variable ‘lambda.min’
TOP_coefPlot: no visible binding for global variable ‘Features’
TOP_lambdaPlot: no visible binding for global variable ‘variable’
TOP_lambdaPlot: no visible binding for global variable ‘value’
TOP_lambdaPlot: no visible binding for global variable ‘Feature’
TOP_model: no visible binding for global variable ‘value’
TOP_model: no visible binding for global variable ‘SampleGroup’
TOP_model: no visible binding for global variable ‘n’
TOP_model: no visible binding for global variable ‘freq’
TOP_model: no visible binding for global variable ‘sd’
TOP_survival: no visible binding for global variable ‘coef’
TOP_survival: no visible binding for global variable ‘value’
TOP_survival: no visible binding for global variable ‘freq’
TOP_survival: no visible binding for global variable ‘sd’
TOP_survival: no visible binding for global variable ‘.’
TOP_survival: no visible binding for global variable ‘SampleGroup’
TOP_survival: no visible binding for global variable ‘n’
TOP_survivalPrediction: no visible binding for global variable ‘offset’
coefNetworkPlot: no visible binding for global variable ‘Features’
coefNetworkPlot: no visible binding for global variable ‘lambda.min’
coefNetworkPlot: no visible binding for global variable ‘score’
colCoxTests_combine: no visible binding for global variable ‘coef’
extractAUC: no visible binding for global variable ‘variable’
extractAUC: no visible binding for global variable ‘value’
simplenetworkPlot: no visible binding for global variable ‘Features’
simplenetworkPlot: no visible binding for global variable ‘lambda.min’
simplenetworkPlot: no visible binding for global variable ‘coef_abs’
simplenetworkPlot: no visible binding for global variable ‘from’
simplenetworkPlot: no visible binding for global variable ‘to’
simplenetworkPlot: no visible binding for global variable ‘name’
Undefined global functions or variables:
  . Feature Features SampleGroup coef coef_abs freq from lambda.min n
  name offset score sd to value variable
Consider adding
  importFrom("stats", "coef", "offset", "sd")
to your NAMESPACE file.
* checking Rd files ... OK
* checking Rd metadata ... OK
* checking Rd cross-references ... OK
* checking for missing documentation entries ... OK
* checking for code/documentation mismatches ... OK
* checking Rd \usage sections ... OK
* checking Rd contents ... OK
* checking for unstated dependencies in examples ... OK
* checking contents of ‘data’ directory ... OK
* checking data for non-ASCII characters ... OK
* checking data for ASCII and uncompressed saves ... OK
* checking files in ‘vignettes’ ... OK
* checking examples ... OK
* checking for unstated dependencies in vignettes ... OK
* checking package vignettes ... OK
* checking running R code from vignettes ... SKIPPED
* checking re-building of vignette outputs ... SKIPPED
* checking PDF version of manual ... OK
* DONE
Status: 1 NOTE
See
  ‘/home/biocbuild/bbs-3.21-bioc/meat/TOP.Rcheck/00check.log’
for details.
TOP.Rcheck/00install.out
############################################################################## ############################################################################## ### ### Running command: ### ### /home/biocbuild/R/R/bin/R CMD INSTALL TOP ### ############################################################################## ############################################################################## * installing to library ‘/home/biocbuild/R/R-devel_2025-02-19/site-library’ * installing *source* package ‘TOP’ ... ** this is package ‘TOP’ version ‘1.8.0’ ** using staged installation ** R ** data ** byte-compile and prepare package for lazy loading ** help *** installing help indices ** building package indices ** installing vignettes ** testing if installed package can be loaded from temporary location ** testing if installed package can be loaded from final location ** testing if installed package keeps a record of temporary installation path * DONE (TOP)
TOP.Rcheck/TOP-Ex.timings
| name | user | system | elapsed | |
| ROC_Plot | 1.049 | 0.027 | 1.083 | |
| Surv_Frank_CI | 1.568 | 0.052 | 1.623 | |
| TOP_coefPlot | 0.766 | 0.028 | 0.797 | |
| TOP_lambdaPlot | 1.039 | 0.016 | 1.060 | |
| TOP_model | 0.271 | 0.000 | 0.272 | |
| TOP_survival | 1.558 | 0.024 | 1.586 | |
| TOP_survivalPrediction | 1.580 | 0.008 | 1.592 | |
| coefNetworkPlot | 2.022 | 0.084 | 2.111 | |
| filterFeatures | 0.057 | 0.000 | 0.057 | |
| logit-expit | 0.032 | 0.004 | 0.037 | |
| pairwise_col_diff | 0.001 | 0.000 | 0.001 | |
| performance_TOP | 0.255 | 0.008 | 0.264 | |
| predict_TOP | 0.214 | 0.000 | 0.215 | |
| simplenetworkPlot | 0.810 | 0.008 | 0.821 | |