| Back to Multiple platform build/check report for BioC 3.21: simplified long |
|
This page was generated on 2025-10-13 11:42 -0400 (Mon, 13 Oct 2025).
| Hostname | OS | Arch (*) | R version | Installed pkgs |
|---|---|---|---|---|
| nebbiolo1 | Linux (Ubuntu 24.04.3 LTS) | x86_64 | 4.5.1 (2025-06-13) -- "Great Square Root" | 4833 |
| merida1 | macOS 12.7.5 Monterey | x86_64 | 4.5.1 RC (2025-06-05 r88288) -- "Great Square Root" | 4614 |
| kjohnson1 | macOS 13.6.6 Ventura | arm64 | 4.5.1 Patched (2025-06-14 r88325) -- "Great Square Root" | 4555 |
| kunpeng2 | Linux (openEuler 24.03 LTS) | aarch64 | R Under development (unstable) (2025-02-19 r87757) -- "Unsuffered Consequences" | 4586 |
| Click on any hostname to see more info about the system (e.g. compilers) (*) as reported by 'uname -p', except on Windows and Mac OS X | ||||
| Package 2149/2341 | Hostname | OS / Arch | INSTALL | BUILD | CHECK | BUILD BIN | ||||||||
| SynExtend 1.20.2 (landing page) Nicholas Cooley
| nebbiolo1 | Linux (Ubuntu 24.04.3 LTS) / x86_64 | OK | OK | OK | |||||||||
| merida1 | macOS 12.7.5 Monterey / x86_64 | OK | OK | OK | OK | |||||||||
| kjohnson1 | macOS 13.6.6 Ventura / arm64 | OK | OK | OK | OK | |||||||||
| kunpeng2 | Linux (openEuler 24.03 LTS) / aarch64 | OK | OK | OK | ||||||||||
|
To the developers/maintainers of the SynExtend package: - Allow up to 24 hours (and sometimes 48 hours) for your latest push to git@git.bioconductor.org:packages/SynExtend.git to reflect on this report. See Troubleshooting Build Report for more information. - Use the following Renviron settings to reproduce errors and warnings. - If 'R CMD check' started to fail recently on the Linux builder(s) over a missing dependency, add the missing dependency to 'Suggests:' in your DESCRIPTION file. See Renviron.bioc for more information. - See Martin Grigorov's blog post for how to debug Linux ARM64 related issues on a x86_64 host. |
| Package: SynExtend |
| Version: 1.20.2 |
| Command: /home/biocbuild/R/R/bin/R CMD check --install=check:SynExtend.install-out.txt --library=/home/biocbuild/R/R/site-library --no-vignettes --timings SynExtend_1.20.2.tar.gz |
| StartedAt: 2025-10-10 14:42:06 -0000 (Fri, 10 Oct 2025) |
| EndedAt: 2025-10-10 14:53:05 -0000 (Fri, 10 Oct 2025) |
| EllapsedTime: 658.9 seconds |
| RetCode: 0 |
| Status: OK |
| CheckDir: SynExtend.Rcheck |
| Warnings: 0 |
##############################################################################
##############################################################################
###
### Running command:
###
### /home/biocbuild/R/R/bin/R CMD check --install=check:SynExtend.install-out.txt --library=/home/biocbuild/R/R/site-library --no-vignettes --timings SynExtend_1.20.2.tar.gz
###
##############################################################################
##############################################################################
* using log directory ‘/home/biocbuild/bbs-3.21-bioc/meat/SynExtend.Rcheck’
* using R Under development (unstable) (2025-02-19 r87757)
* using platform: aarch64-unknown-linux-gnu
* R was compiled by
aarch64-unknown-linux-gnu-gcc (GCC) 14.2.0
GNU Fortran (GCC) 14.2.0
* running under: openEuler 24.03 (LTS-SP1)
* using session charset: UTF-8
* using option ‘--no-vignettes’
* checking for file ‘SynExtend/DESCRIPTION’ ... OK
* checking extension type ... Package
* this is package ‘SynExtend’ version ‘1.20.2’
* package encoding: UTF-8
* checking package namespace information ... OK
* checking package dependencies ... OK
* checking if this is a source package ... OK
* checking if there is a namespace ... OK
* checking for hidden files and directories ... OK
* checking for portable file names ... OK
* checking for sufficient/correct file permissions ... OK
* checking whether package ‘SynExtend’ can be installed ... OK
* used C compiler: ‘aarch64-unknown-linux-gnu-gcc (GCC) 14.2.0’
* used Fortran compiler: ‘GNU Fortran (GCC) 14.2.0’
* checking installed package size ... OK
* checking package directory ... OK
* checking ‘build’ directory ... OK
* checking DESCRIPTION meta-information ... OK
* checking top-level files ... OK
* checking for left-over files ... OK
* checking index information ... OK
* checking package subdirectories ... OK
* checking code files for non-ASCII characters ... OK
* checking R files for syntax errors ... OK
* checking whether the package can be loaded ... OK
* checking whether the package can be loaded with stated dependencies ... OK
* checking whether the package can be unloaded cleanly ... OK
* checking whether the namespace can be loaded with stated dependencies ... OK
* checking whether the namespace can be unloaded cleanly ... OK
* checking loading without being on the library search path ... OK
* checking dependencies in R code ... NOTE
Unexported objects imported by ':::' calls:
‘DECIPHER:::.detectCores’ ‘DECIPHER:::.getSubMatrix’
‘DECIPHER:::.nucleotideSubstitutionMatrix’
See the note in ?`:::` about the use of this operator.
* checking S3 generic/method consistency ... OK
* checking replacement functions ... OK
* checking foreign function calls ... OK
* checking R code for possible problems ... OK
* checking Rd files ... OK
* checking Rd metadata ... OK
* checking Rd cross-references ... NOTE
Found the following Rd file(s) with Rd \link{} targets missing package
anchors:
AAHitScoping.Rd: SearchIndex
ApproximateBackground.Rd: translate, FindSynteny
BlockByRank.Rd: FindSynteny
BlockExpansion.Rd: FindSynteny
BlockReconciliation.Rd: FindSynteny, Synteny-class
CheckAgainstReport.Rd: readDNAStringSet
ClusterByK.Rd: FindSynteny
CompetePairs.Rd: FindSynteny
DisjointSet.Rd: FindSynteny, Synteny-class
EstimRearrScen.Rd: Synteny-class, FindSynteny
ExpandDiagonal.Rd: AlignPairs, FindSynteny
ExtractBy.Rd: FindSynteny, Synteny-class
HitConsensus.Rd: FindSynteny
NucleotideOverlap.Rd: FindSynteny, Synteny-class
PairSummaries.Rd: FindSynteny, Synteny-class
PrepareSeqs.Rd: FindSynteny
SelectByK.Rd: FindSynteny
SequenceSimilarity.Rd: AlignSeqs, AlignProfiles, AlignTranslation,
DistanceMatrix
SummarizePairs.Rd: AlignPairs, getGeneticCode, IndexSeqs,
SearchIndex, FindSynteny
Please provide package anchors for all Rd \link{} targets not in the
package itself and the base packages.
* checking for missing documentation entries ... OK
* checking for code/documentation mismatches ... OK
* checking Rd \usage sections ... OK
* checking Rd contents ... OK
* checking for unstated dependencies in examples ... OK
* checking contents of ‘data’ directory ... OK
* checking data for non-ASCII characters ... OK
* checking data for ASCII and uncompressed saves ... OK
* checking line endings in C/C++/Fortran sources/headers ... OK
* checking line endings in Makefiles ... OK
* checking compilation flags in Makevars ... OK
* checking for GNU extensions in Makefiles ... OK
* checking for portable use of $(BLAS_LIBS) and $(LAPACK_LIBS) ... OK
* checking use of PKG_*FLAGS in Makefiles ... OK
* checking compiled code ... NOTE
Note: information on .o files is not available
* checking usage of KIND in Fortran files ... OK
* checking files in ‘vignettes’ ... OK
* checking examples ... OK
Examples with CPU (user + system) or elapsed time > 5s
user system elapsed
BuiltInEnsembles 119.436 0.420 120.131
ExampleStreptomycesData 82.569 0.244 83.093
BlockExpansion 79.363 1.301 80.930
SummarizePairs 75.732 0.156 75.977
SelectByK 44.635 0.155 44.871
ExpandDiagonal 44.382 0.152 44.619
gffToDataFrame 12.073 0.012 12.106
predict.EvoWeaver 10.943 0.020 10.978
PairSummaries 5.647 0.004 5.661
* checking for unstated dependencies in ‘tests’ ... OK
* checking tests ...
Running ‘test_ExoLabel.R’
OK
* checking for unstated dependencies in vignettes ... OK
* checking package vignettes ... OK
* checking running R code from vignettes ... SKIPPED
* checking re-building of vignette outputs ... SKIPPED
* checking PDF version of manual ... OK
* DONE
Status: 3 NOTEs
See
‘/home/biocbuild/bbs-3.21-bioc/meat/SynExtend.Rcheck/00check.log’
for details.
SynExtend.Rcheck/00install.out
##############################################################################
##############################################################################
###
### Running command:
###
### /home/biocbuild/R/R/bin/R CMD INSTALL SynExtend
###
##############################################################################
##############################################################################
* installing to library ‘/home/biocbuild/R/R-devel_2025-02-19/site-library’
* installing *source* package ‘SynExtend’ ...
** this is package ‘SynExtend’ version ‘1.20.2’
** using staged installation
** libs
using C compiler: ‘aarch64-unknown-linux-gnu-gcc (GCC) 14.2.0’
using Fortran compiler: ‘GNU Fortran (GCC) 14.2.0’
/opt/ohpc/pub/compiler/gcc/14.2.0/bin/aarch64-unknown-linux-gnu-gcc -std=gnu23 -I"/home/biocbuild/R/R/include" -DNDEBUG -I/usr/local/include -fopenmp -fPIC -g -O2 -Wall -Werror=format-security -c CDend.c -o CDend.o
/opt/ohpc/pub/compiler/gcc/14.2.0/bin/aarch64-unknown-linux-gnu-gcc -std=gnu23 -I"/home/biocbuild/R/R/include" -DNDEBUG -I/usr/local/include -fopenmp -fPIC -g -O2 -Wall -Werror=format-security -c CShuffle.c -o CShuffle.o
/opt/ohpc/pub/compiler/gcc/14.2.0/bin/aarch64-unknown-linux-gnu-gcc -std=gnu23 -I"/home/biocbuild/R/R/include" -DNDEBUG -I/usr/local/include -fopenmp -fPIC -g -O2 -Wall -Werror=format-security -c HungarianAlgo.c -o HungarianAlgo.o
/opt/ohpc/pub/compiler/gcc/14.2.0/bin/aarch64-unknown-linux-gnu-gcc -std=gnu23 -I"/home/biocbuild/R/R/include" -DNDEBUG -I/usr/local/include -fopenmp -fPIC -g -O2 -Wall -Werror=format-security -c LoserTree.c -o LoserTree.o
/opt/ohpc/pub/compiler/gcc/14.2.0/bin/aarch64-unknown-linux-gnu-gcc -std=gnu23 -I"/home/biocbuild/R/R/include" -DNDEBUG -I/usr/local/include -fopenmp -fPIC -g -O2 -Wall -Werror=format-security -c MoranI.c -o MoranI.o
/opt/ohpc/pub/compiler/gcc/14.2.0/bin/aarch64-unknown-linux-gnu-gcc -std=gnu23 -I"/home/biocbuild/R/R/include" -DNDEBUG -I/usr/local/include -fopenmp -fPIC -g -O2 -Wall -Werror=format-security -c NucleotideCounts.c -o NucleotideCounts.o
/opt/ohpc/pub/compiler/gcc/14.2.0/bin/aarch64-unknown-linux-gnu-gcc -std=gnu23 -I"/home/biocbuild/R/R/include" -DNDEBUG -I/usr/local/include -fopenmp -fPIC -g -O2 -Wall -Werror=format-security -c OnDiskLP.c -o OnDiskLP.o
OnDiskLP.c: In function ‘R_LPOOM_cluster’:
OnDiskLP.c:2185:5: warning: ‘debug_weights’ may be used uninitialized [-Wmaybe-uninitialized]
2185 | SET_VECTOR_ELT(LIST_VAL, 1, debug_weights);
| ^~~~~~~~~~~~~~~~~~~~~~~~~~~~~~~~~~~~~~~~~~
OnDiskLP.c:2076:8: note: ‘debug_weights’ was declared here
2076 | SEXP debug_weights, debug_degrees;
| ^~~~~~~~~~~~~
OnDiskLP.c:2186:5: warning: ‘debug_degrees’ may be used uninitialized [-Wmaybe-uninitialized]
2186 | SET_VECTOR_ELT(LIST_VAL, 2, debug_degrees);
| ^~~~~~~~~~~~~~~~~~~~~~~~~~~~~~~~~~~~~~~~~~
OnDiskLP.c:2076:23: note: ‘debug_degrees’ was declared here
2076 | SEXP debug_weights, debug_degrees;
| ^~~~~~~~~~~~~
OnDiskLP.c:2187:5: warning: ‘debug_disjoint_sizes’ may be used uninitialized [-Wmaybe-uninitialized]
2187 | SET_VECTOR_ELT(LIST_VAL, 3, debug_disjoint_sizes);
| ^~~~~~~~~~~~~~~~~~~~~~~~~~~~~~~~~~~~~~~~~~~~~~~~~
OnDiskLP.c:2125:8: note: ‘debug_disjoint_sizes’ was declared here
2125 | SEXP debug_disjoint_sizes;
| ^~~~~~~~~~~~~~~~~~~~
/opt/ohpc/pub/compiler/gcc/14.2.0/bin/aarch64-unknown-linux-gnu-gcc -std=gnu23 -I"/home/biocbuild/R/R/include" -DNDEBUG -I/usr/local/include -fopenmp -fPIC -g -O2 -Wall -Werror=format-security -c PrefixTrie.c -o PrefixTrie.o
/opt/ohpc/pub/compiler/gcc/14.2.0/bin/aarch64-unknown-linux-gnu-gcc -std=gnu23 -I"/home/biocbuild/R/R/include" -DNDEBUG -I/usr/local/include -fopenmp -fPIC -g -O2 -Wall -Werror=format-security -c R_init_synextend.c -o R_init_synextend.o
/opt/ohpc/pub/compiler/gcc/14.2.0/bin/aarch64-unknown-linux-gnu-gcc -std=gnu23 -I"/home/biocbuild/R/R/include" -DNDEBUG -I/usr/local/include -fopenmp -fPIC -g -O2 -Wall -Werror=format-security -c RandomForest.c -o RandomForest.o
/opt/ohpc/pub/compiler/gcc/14.2.0/bin/aarch64-unknown-linux-gnu-gcc -std=gnu23 -I"/home/biocbuild/R/R/include" -DNDEBUG -I/usr/local/include -fopenmp -fPIC -g -O2 -Wall -Werror=format-security -c SEutils.c -o SEutils.o
/opt/ohpc/pub/compiler/gcc/14.2.0/bin/aarch64-unknown-linux-gnu-gcc -std=gnu23 -I"/home/biocbuild/R/R/include" -DNDEBUG -I/usr/local/include -fopenmp -fPIC -g -O2 -Wall -Werror=format-security -c XORRand.c -o XORRand.o
/opt/ohpc/pub/compiler/gcc/14.2.0/bin/aarch64-unknown-linux-gnu-gfortran -fPIC -g -O2 -Wall -Werror=format-security -c _fortran_tabulate.f95 -o _fortran_tabulate.o
f951: Warning: ‘-Werror=’ argument ‘-Werror=format-security’ is not valid for Fortran
/opt/ohpc/pub/compiler/gcc/14.2.0/bin/aarch64-unknown-linux-gnu-gfortran -fPIC -g -O2 -Wall -Werror=format-security -c _fortran_utils.f95 -o _fortran_utils.o
f951: Warning: ‘-Werror=’ argument ‘-Werror=format-security’ is not valid for Fortran
/opt/ohpc/pub/compiler/gcc/14.2.0/bin/aarch64-unknown-linux-gnu-gcc -std=gnu23 -I"/home/biocbuild/R/R/include" -DNDEBUG -I/usr/local/include -fopenmp -fPIC -g -O2 -Wall -Werror=format-security -c calcMIR2C.c -o calcMIR2C.o
/opt/ohpc/pub/compiler/gcc/14.2.0/bin/aarch64-unknown-linux-gnu-gfortran -fPIC -g -O2 -Wall -Werror=format-security -c cart_fort.f95 -o cart_fort.o
f951: Warning: ‘-Werror=’ argument ‘-Werror=format-security’ is not valid for Fortran
/opt/ohpc/pub/compiler/gcc/14.2.0/bin/aarch64-unknown-linux-gnu-gcc -std=gnu23 -I"/home/biocbuild/R/R/include" -DNDEBUG -I/usr/local/include -fopenmp -fPIC -g -O2 -Wall -Werror=format-security -c dendrapply.c -o dendrapply.o
/opt/ohpc/pub/compiler/gcc/14.2.0/bin/aarch64-unknown-linux-gnu-gcc -std=gnu23 -shared -L/home/biocbuild/R/R/lib -L/usr/local/lib -o SynExtend.so CDend.o CShuffle.o HungarianAlgo.o LoserTree.o MoranI.o NucleotideCounts.o OnDiskLP.o PrefixTrie.o R_init_synextend.o RandomForest.o SEutils.o XORRand.o _fortran_tabulate.o _fortran_utils.o calcMIR2C.o cart_fort.o dendrapply.o -fopenmp -lgfortran -lm -L/home/biocbuild/R/R/lib -lR
installing to /home/biocbuild/R/R-devel_2025-02-19/site-library/00LOCK-SynExtend/00new/SynExtend/libs
** R
** data
** inst
** byte-compile and prepare package for lazy loading
** help
*** installing help indices
** building package indices
** installing vignettes
** testing if installed package can be loaded from temporary location
** checking absolute paths in shared objects and dynamic libraries
** testing if installed package can be loaded from final location
** testing if installed package keeps a record of temporary installation path
* DONE (SynExtend)
SynExtend.Rcheck/tests/test_ExoLabel.Rout
R Under development (unstable) (2025-02-19 r87757) -- "Unsuffered Consequences"
Copyright (C) 2025 The R Foundation for Statistical Computing
Platform: aarch64-unknown-linux-gnu
R is free software and comes with ABSOLUTELY NO WARRANTY.
You are welcome to redistribute it under certain conditions.
Type 'license()' or 'licence()' for distribution details.
R is a collaborative project with many contributors.
Type 'contributors()' for more information and
'citation()' on how to cite R or R packages in publications.
Type 'demo()' for some demos, 'help()' for on-line help, or
'help.start()' for an HTML browser interface to help.
Type 'q()' to quit R.
> generate_random_graph <- function(nverts, nedges){
+ require(igraph, quietly=TRUE)
+ alph <- AA_STANDARD
+ num_required <- ceiling(log(nverts, length(alph)))
+ num_required <- max(num_required, 3)
+ sample_names <- mkAllStrings(alph, num_required)
+ labs <- sample(sample_names, nverts)
+ g <- sample_gnm(nverts, nedges)
+ df <- as_data_frame(g, what="edges")
+ data.frame(v1=labs[df[,1]], v2=labs[df[,2]], w=runif(nedges))
+ }
>
> run_status_tests <- function(){
+ if(!require(igraph)){
+ cat("Skipping tests, igraph is not available.\n")
+ invisible(TRUE)
+ }
+ require(SynExtend)
+ tf1 <- tempfile()
+ tf2 <- tempfile()
+ WEIGHT_TOLERANCE <- 0.001
+ testExo <- SynExtend:::.testExoLabel
+ cat("Small graphs:...")
+ for(loop in c(0, 0.25, 0.5)){
+ df <- generate_random_graph(10, 25)
+ if(any(abs(df$w - loop) < WEIGHT_TOLERANCE))
+ df$w[abs(df$w - loop) < WEIGHT_TOLERANCE] <- df$w[abs(df$w - loop) < WEIGHT_TOLERANCE] + 3*WEIGHT_TOLERANCE
+ write.table(df, tf1, row.names=FALSE, col.names=FALSE, quote=FALSE, sep='\t')
+ testExo(tf1, add_self_loops=loop)
+ }
+ cat("passed.\n")
+
+ cat("Larger graphs:...")
+ for(loop in c(0, 0.5)){
+ df <- generate_random_graph(10000, 25000)
+ if(any(abs(df$w - loop) < WEIGHT_TOLERANCE))
+ df$w[abs(df$w - loop) < WEIGHT_TOLERANCE] <- df$w[abs(df$w - loop) < WEIGHT_TOLERANCE] + 3*WEIGHT_TOLERANCE
+ write.table(df, tf1, row.names=FALSE, col.names=FALSE, quote=FALSE, sep='\t')
+ testExo(tf1, add_self_loops=loop)
+ }
+ cat("passed.\n")
+
+
+ cat("Directed Edges...")
+ testExo(tf1, mode="directed")
+ cat("passed.\n")
+
+ cat("No fast sort...")
+ testExo(tf1, use_fast_sort=FALSE)
+ cat("passed.\n")
+
+ ## I'll just use the same graph here
+ cat("Different separator...")
+ write.table(df, tf1, row.names=FALSE, col.names=FALSE, quote=FALSE, sep=',')
+ testExo(tf1, sep=',')
+ cat("passed.\n")
+
+ cat("Multi-file input...")
+ tf2 <- tempfile()
+ df <- generate_random_graph(50000, 100000)
+ write.table(df[1:50000,], tf1, row.names=FALSE, col.names=FALSE, quote=FALSE, sep='\t')
+ write.table(df[50000:100000,], tf2, row.names=FALSE, col.names=FALSE, quote=FALSE, sep='\t')
+ testExo(c(tf1, tf2))
+ cat("passed.\n")
+
+ cat("Larger weights...")
+ df[,3] <- df[,3] * 1000
+ write.table(df, tf1, row.names=FALSE, col.names=FALSE, quote=FALSE, sep='\t')
+ testExo(tf1)
+ cat("passed.\n")
+
+ file.remove(tf1)
+ file.remove(tf2)
+
+ cat("\nAll checks passed!\n")
+ invisible(TRUE)
+ }
>
> run_status_tests()
Loading required package: igraph
Attaching package: 'igraph'
The following objects are masked from 'package:stats':
decompose, spectrum
The following object is masked from 'package:base':
union
Loading required package: SynExtend
Loading required package: DECIPHER
Loading required package: Biostrings
Loading required package: BiocGenerics
Loading required package: generics
Attaching package: 'generics'
The following objects are masked from 'package:igraph':
components, union
The following objects are masked from 'package:base':
as.difftime, as.factor, as.ordered, intersect, is.element, setdiff,
setequal, union
Attaching package: 'BiocGenerics'
The following objects are masked from 'package:igraph':
normalize, path
The following objects are masked from 'package:stats':
IQR, mad, sd, var, xtabs
The following objects are masked from 'package:base':
Filter, Find, Map, Position, Reduce, anyDuplicated, aperm, append,
as.data.frame, basename, cbind, colnames, dirname, do.call,
duplicated, eval, evalq, get, grep, grepl, is.unsorted, lapply,
mapply, match, mget, order, paste, pmax, pmax.int, pmin, pmin.int,
rank, rbind, rownames, sapply, saveRDS, table, tapply, unique,
unsplit, which.max, which.min
Loading required package: S4Vectors
Loading required package: stats4
Attaching package: 'S4Vectors'
The following object is masked from 'package:utils':
findMatches
The following objects are masked from 'package:base':
I, expand.grid, unname
Loading required package: IRanges
Loading required package: XVector
Loading required package: GenomeInfoDb
Attaching package: 'Biostrings'
The following object is masked from 'package:base':
strsplit
Attaching package: 'SynExtend'
The following object is masked from 'package:stats':
dendrapply
Small graphs:...passed.
Larger graphs:...passed.
Directed Edges...passed.
No fast sort...passed.
Different separator...passed.
Multi-file input...passed.
Larger weights...passed.
All checks passed!
>
> proc.time()
user system elapsed
10.981 1.125 12.126
SynExtend.Rcheck/SynExtend-Ex.timings
| name | user | system | elapsed | |
| AAHitScoping | 0 | 0 | 0 | |
| ApproximateBackground | 0.108 | 0.004 | 0.123 | |
| BlastSeqs | 0 | 0 | 0 | |
| BlockByRank | 0.914 | 0.000 | 0.922 | |
| BlockExpansion | 79.363 | 1.301 | 80.930 | |
| BlockReconciliation | 0 | 0 | 0 | |
| BuiltInEnsembles | 119.436 | 0.420 | 120.131 | |
| CIDist_NullDist | 0.002 | 0.000 | 0.002 | |
| CheckAgainstReport | 0 | 0 | 0 | |
| ClusterByK | 1.926 | 0.019 | 1.950 | |
| CompetePairs | 0.985 | 0.007 | 0.995 | |
| DPhyloStatistic | 0.038 | 0.004 | 0.043 | |
| DecisionTree-class | 0.054 | 0.000 | 0.054 | |
| DisjointSet | 0.096 | 0.000 | 0.097 | |
| Endosymbionts_GeneCalls | 0.017 | 0.000 | 0.017 | |
| Endosymbionts_LinkedFeatures | 0.021 | 0.000 | 0.021 | |
| Endosymbionts_Pairs01 | 0.032 | 0.000 | 0.032 | |
| Endosymbionts_Pairs02 | 0.033 | 0.000 | 0.032 | |
| Endosymbionts_Pairs03 | 0.027 | 0.000 | 0.027 | |
| Endosymbionts_Sets | 0.004 | 0.000 | 0.003 | |
| Endosymbionts_Synteny | 0.005 | 0.000 | 0.005 | |
| EstimRearrScen | 2.247 | 0.012 | 2.265 | |
| EstimateExoLabel | 0.003 | 0.000 | 0.003 | |
| EvoWeaver | 0.004 | 0.000 | 0.003 | |
| EvoWeb | 0.096 | 0.004 | 0.100 | |
| ExampleStreptomycesData | 82.569 | 0.244 | 83.093 | |
| ExoLabel | 0.024 | 0.000 | 0.025 | |
| ExpandDiagonal | 44.382 | 0.152 | 44.619 | |
| ExtractBy | 0.451 | 0.008 | 0.461 | |
| FastQFromSRR | 0 | 0 | 0 | |
| FindSets | 0.002 | 0.000 | 0.001 | |
| FitchParsimony | 0.098 | 0.000 | 0.098 | |
| Generic | 0.002 | 0.000 | 0.002 | |
| HitConsensus | 0 | 0 | 0 | |
| MakeBlastDb | 0 | 0 | 0 | |
| MoransI | 0.001 | 0.000 | 0.001 | |
| NormVec | 0.001 | 0.000 | 0.000 | |
| NucleotideOverlap | 0.800 | 0.000 | 0.802 | |
| OneSite | 0 | 0 | 0 | |
| PairSummaries | 5.647 | 0.004 | 5.661 | |
| PhyloDistance-CI | 0.005 | 0.000 | 0.006 | |
| PhyloDistance-JRF | 0.005 | 0.000 | 0.005 | |
| PhyloDistance-KF | 0.002 | 0.000 | 0.003 | |
| PhyloDistance-RF | 0.003 | 0.000 | 0.003 | |
| PhyloDistance | 0.004 | 0.000 | 0.005 | |
| PrepareSeqs | 1.982 | 0.012 | 1.998 | |
| RandForest | 0.017 | 0.000 | 0.017 | |
| RejectionBy | 0 | 0 | 0 | |
| SelectByK | 44.635 | 0.155 | 44.871 | |
| SequenceSimilarity | 0.082 | 0.000 | 0.085 | |
| SubSetPairs | 0.843 | 0.000 | 0.844 | |
| SummarizePairs | 75.732 | 0.156 | 75.977 | |
| SuperTree | 0.367 | 0.013 | 0.381 | |
| SuperTreeEx | 0.012 | 0.000 | 0.011 | |
| WithinSetCompetition | 4.675 | 0.012 | 4.694 | |
| dendrapply | 0.142 | 0.004 | 0.146 | |
| gffToDataFrame | 12.073 | 0.012 | 12.106 | |
| plot.EvoWeb | 1.355 | 0.004 | 1.361 | |
| predict.EvoWeaver | 10.943 | 0.020 | 10.978 | |
| simMat | 0.037 | 0.000 | 0.037 | |
| subset-dendrogram | 0.376 | 0.004 | 0.380 | |