| Back to Multiple platform build/check report for BioC 3.21: simplified long |
|
This page was generated on 2025-04-22 13:18 -0400 (Tue, 22 Apr 2025).
| Hostname | OS | Arch (*) | R version | Installed pkgs |
|---|---|---|---|---|
| nebbiolo1 | Linux (Ubuntu 24.04.1 LTS) | x86_64 | 4.5.0 RC (2025-04-04 r88126) -- "How About a Twenty-Six" | 4831 |
| palomino7 | Windows Server 2022 Datacenter | x64 | 4.5.0 RC (2025-04-04 r88126 ucrt) -- "How About a Twenty-Six" | 4573 |
| lconway | macOS 12.7.1 Monterey | x86_64 | 4.5.0 RC (2025-04-04 r88126) -- "How About a Twenty-Six" | 4599 |
| kjohnson3 | macOS 13.7.1 Ventura | arm64 | 4.5.0 RC (2025-04-04 r88126) -- "How About a Twenty-Six" | 4553 |
| kunpeng2 | Linux (openEuler 24.03 LTS) | aarch64 | R Under development (unstable) (2025-02-19 r87757) -- "Unsuffered Consequences" | 4570 |
| Click on any hostname to see more info about the system (e.g. compilers) (*) as reported by 'uname -p', except on Windows and Mac OS X | ||||
| Package 1962/2341 | Hostname | OS / Arch | INSTALL | BUILD | CHECK | BUILD BIN | ||||||||
| SeqArray 1.48.0 (landing page) Xiuwen Zheng
| nebbiolo1 | Linux (Ubuntu 24.04.1 LTS) / x86_64 | OK | OK | OK | |||||||||
| palomino7 | Windows Server 2022 Datacenter / x64 | OK | OK | OK | OK | |||||||||
| lconway | macOS 12.7.1 Monterey / x86_64 | OK | OK | OK | OK | |||||||||
| kjohnson3 | macOS 13.7.1 Ventura / arm64 | OK | OK | OK | OK | |||||||||
| kunpeng2 | Linux (openEuler 24.03 LTS) / aarch64 | OK | OK | OK | ||||||||||
|
To the developers/maintainers of the SeqArray package: - Allow up to 24 hours (and sometimes 48 hours) for your latest push to git@git.bioconductor.org:packages/SeqArray.git to reflect on this report. See Troubleshooting Build Report for more information. - Use the following Renviron settings to reproduce errors and warnings. - If 'R CMD check' started to fail recently on the Linux builder(s) over a missing dependency, add the missing dependency to 'Suggests:' in your DESCRIPTION file. See Renviron.bioc for more information. |
| Package: SeqArray |
| Version: 1.48.0 |
| Command: /Library/Frameworks/R.framework/Resources/bin/R CMD check --install=check:SeqArray.install-out.txt --library=/Library/Frameworks/R.framework/Resources/library --no-vignettes --timings SeqArray_1.48.0.tar.gz |
| StartedAt: 2025-04-21 21:37:29 -0400 (Mon, 21 Apr 2025) |
| EndedAt: 2025-04-21 21:38:51 -0400 (Mon, 21 Apr 2025) |
| EllapsedTime: 82.1 seconds |
| RetCode: 0 |
| Status: OK |
| CheckDir: SeqArray.Rcheck |
| Warnings: 0 |
##############################################################################
##############################################################################
###
### Running command:
###
### /Library/Frameworks/R.framework/Resources/bin/R CMD check --install=check:SeqArray.install-out.txt --library=/Library/Frameworks/R.framework/Resources/library --no-vignettes --timings SeqArray_1.48.0.tar.gz
###
##############################################################################
##############################################################################
* using log directory ‘/Users/biocbuild/bbs-3.21-bioc/meat/SeqArray.Rcheck’
* using R version 4.5.0 RC (2025-04-04 r88126)
* using platform: aarch64-apple-darwin20
* R was compiled by
Apple clang version 14.0.0 (clang-1400.0.29.202)
GNU Fortran (GCC) 14.2.0
* running under: macOS Ventura 13.7.1
* using session charset: UTF-8
* using option ‘--no-vignettes’
* checking for file ‘SeqArray/DESCRIPTION’ ... OK
* checking extension type ... Package
* this is package ‘SeqArray’ version ‘1.48.0’
* checking package namespace information ... OK
* checking package dependencies ... OK
* checking if this is a source package ... OK
* checking if there is a namespace ... OK
* checking for hidden files and directories ... OK
* checking for portable file names ... OK
* checking for sufficient/correct file permissions ... OK
* checking whether package ‘SeqArray’ can be installed ... OK
* used C compiler: ‘Apple clang version 15.0.0 (clang-1500.1.0.2.5)’
* used C++ compiler: ‘Apple clang version 15.0.0 (clang-1500.1.0.2.5)’
* used SDK: ‘MacOSX11.3.sdk’
* checking installed package size ... OK
* checking package directory ... OK
* checking ‘build’ directory ... OK
* checking DESCRIPTION meta-information ... OK
* checking top-level files ... OK
* checking for left-over files ... OK
* checking index information ... OK
* checking package subdirectories ... OK
* checking code files for non-ASCII characters ... OK
* checking R files for syntax errors ... OK
* checking whether the package can be loaded ... OK
* checking whether the package can be loaded with stated dependencies ... OK
* checking whether the package can be unloaded cleanly ... OK
* checking whether the namespace can be loaded with stated dependencies ... OK
* checking whether the namespace can be unloaded cleanly ... OK
* checking whether startup messages can be suppressed ... OK
* checking dependencies in R code ... NOTE
Namespace in Imports field not imported from: ‘digest’
All declared Imports should be used.
* checking S3 generic/method consistency ... OK
* checking replacement functions ... OK
* checking foreign function calls ... OK
* checking R code for possible problems ... OK
* checking Rd files ... OK
* checking Rd metadata ... OK
* checking Rd cross-references ... NOTE
Non-topic package-anchored link(s) in Rd file 'seqGDS2VCF.Rd':
‘[Rsamtools:zip]{bgzip}’
See section 'Cross-references' in the 'Writing R Extensions' manual.
Found the following Rd file(s) with Rd \link{} targets missing package
anchors:
SeqVarGDSClass-class.Rd: gds.class, DNAStringSet, DNAStringSetList,
DataFrameList
seqAddValue.Rd: add.gdsn
seqApply.Rd: gdsn.class
seqBED2GDS.Rd: cleanup.gds
seqBlockApply.Rd: gdsn.class
seqClose.Rd: gds.class
seqExport.Rd: cleanup.gds
seqGDS2SNP.Rd: add.gdsn, cleanup.gds
seqMerge.Rd: cleanup.gds
seqNewVarData.Rd: IntegerList
seqOpen.Rd: openfn.gds, gds.class
seqRecompress.Rd: cleanup.gds
seqResetVariantID.Rd: cleanup.gds
seqSNP2GDS.Rd: add.gdsn, cleanup.gds
seqSetFilter.Rd: GRanges, GRangesList, IRanges
seqStorageOption.Rd: add.gdsn, compression.gdsn
seqTranspose.Rd: add.gdsn
seqUnitApply.Rd: gdsn.class
seqVCF2GDS.Rd: cleanup.gds
Please provide package anchors for all Rd \link{} targets not in the
package itself and the base packages.
* checking for missing documentation entries ... OK
* checking for code/documentation mismatches ... OK
* checking Rd \usage sections ... OK
* checking Rd contents ... OK
* checking for unstated dependencies in examples ... OK
* checking contents of ‘data’ directory ... OK
* checking data for non-ASCII characters ... OK
* checking LazyData ... OK
* checking data for ASCII and uncompressed saves ... OK
* checking line endings in C/C++/Fortran sources/headers ... OK
* checking line endings in Makefiles ... OK
* checking compilation flags in Makevars ... OK
* checking for GNU extensions in Makefiles ... OK
* checking for portable use of $(BLAS_LIBS) and $(LAPACK_LIBS) ... OK
* checking use of PKG_*FLAGS in Makefiles ... OK
* checking compiled code ... NOTE
Note: information on .o files is not available
File ‘SeqArray/libs/SeqArray.so’:
Found non-API calls to R: ‘R_GetConnection’, ‘R_ReadConnection’,
‘R_WriteConnection’, ‘R_new_custom_connection’
Compiled code should not call non-API entry points in R.
See ‘Writing portable packages’ in the ‘Writing R Extensions’ manual,
and section ‘Moving into C API compliance’ for issues with the use of
non-API entry points.
* checking files in ‘vignettes’ ... OK
* checking examples ... OK
* checking for unstated dependencies in ‘tests’ ... OK
* checking tests ...
Running ‘test.R’
OK
* checking for unstated dependencies in vignettes ... OK
* checking package vignettes ... OK
* checking running R code from vignettes ... SKIPPED
* checking re-building of vignette outputs ... SKIPPED
* checking PDF version of manual ... OK
* DONE
Status: 3 NOTEs
See
‘/Users/biocbuild/bbs-3.21-bioc/meat/SeqArray.Rcheck/00check.log’
for details.
SeqArray.Rcheck/00install.out
############################################################################## ############################################################################## ### ### Running command: ### ### /Library/Frameworks/R.framework/Resources/bin/R CMD INSTALL SeqArray ### ############################################################################## ############################################################################## * installing to library ‘/Library/Frameworks/R.framework/Versions/4.5-arm64/Resources/library’ * installing *source* package ‘SeqArray’ ... ** this is package ‘SeqArray’ version ‘1.48.0’ ** using staged installation ** libs using C compiler: ‘Apple clang version 15.0.0 (clang-1500.1.0.2.5)’ using C++ compiler: ‘Apple clang version 15.0.0 (clang-1500.1.0.2.5)’ using SDK: ‘MacOSX11.3.sdk’ clang++ -arch arm64 -std=gnu++17 -I"/Library/Frameworks/R.framework/Resources/include" -DNDEBUG -DUSING_R -I'/Library/Frameworks/R.framework/Versions/4.5-arm64/Resources/library/gdsfmt/include' -I/opt/R/arm64/include -fPIC -falign-functions=64 -Wall -g -O2 -c ConvGDS2VCF.cpp -o ConvGDS2VCF.o clang++ -arch arm64 -std=gnu++17 -I"/Library/Frameworks/R.framework/Resources/include" -DNDEBUG -DUSING_R -I'/Library/Frameworks/R.framework/Versions/4.5-arm64/Resources/library/gdsfmt/include' -I/opt/R/arm64/include -fPIC -falign-functions=64 -Wall -g -O2 -c ConvToGDS.cpp -o ConvToGDS.o clang++ -arch arm64 -std=gnu++17 -I"/Library/Frameworks/R.framework/Resources/include" -DNDEBUG -DUSING_R -I'/Library/Frameworks/R.framework/Versions/4.5-arm64/Resources/library/gdsfmt/include' -I/opt/R/arm64/include -fPIC -falign-functions=64 -Wall -g -O2 -c ConvVCF2GDS.cpp -o ConvVCF2GDS.o clang++ -arch arm64 -std=gnu++17 -I"/Library/Frameworks/R.framework/Resources/include" -DNDEBUG -DUSING_R -I'/Library/Frameworks/R.framework/Versions/4.5-arm64/Resources/library/gdsfmt/include' -I/opt/R/arm64/include -fPIC -falign-functions=64 -Wall -g -O2 -c FileMerge.cpp -o FileMerge.o clang++ -arch arm64 -std=gnu++17 -I"/Library/Frameworks/R.framework/Resources/include" -DNDEBUG -DUSING_R -I'/Library/Frameworks/R.framework/Versions/4.5-arm64/Resources/library/gdsfmt/include' -I/opt/R/arm64/include -fPIC -falign-functions=64 -Wall -g -O2 -c GetData.cpp -o GetData.o clang++ -arch arm64 -std=gnu++17 -I"/Library/Frameworks/R.framework/Resources/include" -DNDEBUG -DUSING_R -I'/Library/Frameworks/R.framework/Versions/4.5-arm64/Resources/library/gdsfmt/include' -I/opt/R/arm64/include -fPIC -falign-functions=64 -Wall -g -O2 -c Index.cpp -o Index.o clang++ -arch arm64 -std=gnu++17 -I"/Library/Frameworks/R.framework/Resources/include" -DNDEBUG -DUSING_R -I'/Library/Frameworks/R.framework/Versions/4.5-arm64/Resources/library/gdsfmt/include' -I/opt/R/arm64/include -fPIC -falign-functions=64 -Wall -g -O2 -c LinkSNPRelate.cpp -o LinkSNPRelate.o clang++ -arch arm64 -std=gnu++17 -I"/Library/Frameworks/R.framework/Resources/include" -DNDEBUG -DUSING_R -I'/Library/Frameworks/R.framework/Versions/4.5-arm64/Resources/library/gdsfmt/include' -I/opt/R/arm64/include -fPIC -falign-functions=64 -Wall -g -O2 -c Methods.cpp -o Methods.o clang -arch arm64 -I"/Library/Frameworks/R.framework/Resources/include" -DNDEBUG -DUSING_R -I'/Library/Frameworks/R.framework/Versions/4.5-arm64/Resources/library/gdsfmt/include' -I/opt/R/arm64/include -fPIC -falign-functions=64 -Wall -g -O2 -c R_SeqArray.c -o R_SeqArray.o clang++ -arch arm64 -std=gnu++17 -I"/Library/Frameworks/R.framework/Resources/include" -DNDEBUG -DUSING_R -I'/Library/Frameworks/R.framework/Versions/4.5-arm64/Resources/library/gdsfmt/include' -I/opt/R/arm64/include -fPIC -falign-functions=64 -Wall -g -O2 -c ReadBySample.cpp -o ReadBySample.o clang++ -arch arm64 -std=gnu++17 -I"/Library/Frameworks/R.framework/Resources/include" -DNDEBUG -DUSING_R -I'/Library/Frameworks/R.framework/Versions/4.5-arm64/Resources/library/gdsfmt/include' -I/opt/R/arm64/include -fPIC -falign-functions=64 -Wall -g -O2 -c ReadByUnit.cpp -o ReadByUnit.o clang++ -arch arm64 -std=gnu++17 -I"/Library/Frameworks/R.framework/Resources/include" -DNDEBUG -DUSING_R -I'/Library/Frameworks/R.framework/Versions/4.5-arm64/Resources/library/gdsfmt/include' -I/opt/R/arm64/include -fPIC -falign-functions=64 -Wall -g -O2 -c ReadByVariant.cpp -o ReadByVariant.o clang++ -arch arm64 -std=gnu++17 -I"/Library/Frameworks/R.framework/Resources/include" -DNDEBUG -DUSING_R -I'/Library/Frameworks/R.framework/Versions/4.5-arm64/Resources/library/gdsfmt/include' -I/opt/R/arm64/include -fPIC -falign-functions=64 -Wall -g -O2 -c SeqArray.cpp -o SeqArray.o clang++ -arch arm64 -std=gnu++17 -I"/Library/Frameworks/R.framework/Resources/include" -DNDEBUG -DUSING_R -I'/Library/Frameworks/R.framework/Versions/4.5-arm64/Resources/library/gdsfmt/include' -I/opt/R/arm64/include -fPIC -falign-functions=64 -Wall -g -O2 -c pkg_test.cpp -o pkg_test.o clang -arch arm64 -I"/Library/Frameworks/R.framework/Resources/include" -DNDEBUG -DUSING_R -I'/Library/Frameworks/R.framework/Versions/4.5-arm64/Resources/library/gdsfmt/include' -I/opt/R/arm64/include -fPIC -falign-functions=64 -Wall -g -O2 -c samtools_ext.c -o samtools_ext.o clang++ -arch arm64 -std=gnu++17 -I"/Library/Frameworks/R.framework/Resources/include" -DNDEBUG -DUSING_R -I'/Library/Frameworks/R.framework/Versions/4.5-arm64/Resources/library/gdsfmt/include' -I/opt/R/arm64/include -fPIC -falign-functions=64 -Wall -g -O2 -c vectorization.cpp -o vectorization.o clang++ -arch arm64 -std=gnu++17 -dynamiclib -Wl,-headerpad_max_install_names -undefined dynamic_lookup -L/Library/Frameworks/R.framework/Resources/lib -L/opt/R/arm64/lib -o SeqArray.so ConvGDS2VCF.o ConvToGDS.o ConvVCF2GDS.o FileMerge.o GetData.o Index.o LinkSNPRelate.o Methods.o R_SeqArray.o ReadBySample.o ReadByUnit.o ReadByVariant.o SeqArray.o pkg_test.o samtools_ext.o vectorization.o -F/Library/Frameworks/R.framework/.. -framework R installing to /Library/Frameworks/R.framework/Versions/4.5-arm64/Resources/library/00LOCK-SeqArray/00new/SeqArray/libs ** R ** data *** moving datasets to lazyload DB ** inst ** byte-compile and prepare package for lazy loading ** help *** installing help indices ** building package indices ** installing vignettes ** testing if installed package can be loaded from temporary location ** checking absolute paths in shared objects and dynamic libraries ** testing if installed package can be loaded from final location ** testing if installed package keeps a record of temporary installation path * DONE (SeqArray)
SeqArray.Rcheck/tests/test.Rout
R version 4.5.0 RC (2025-04-04 r88126) -- "How About a Twenty-Six"
Copyright (C) 2025 The R Foundation for Statistical Computing
Platform: aarch64-apple-darwin20
R is free software and comes with ABSOLUTELY NO WARRANTY.
You are welcome to redistribute it under certain conditions.
Type 'license()' or 'licence()' for distribution details.
R is a collaborative project with many contributors.
Type 'contributors()' for more information and
'citation()' on how to cite R or R packages in publications.
Type 'demo()' for some demos, 'help()' for on-line help, or
'help.start()' for an HTML browser interface to help.
Type 'q()' to quit R.
> if (.Platform$OS.type != "windows")
+ BiocGenerics:::testPackage("SeqArray")
Loading required package: BiocGenerics
Loading required package: generics
Attaching package: 'generics'
The following objects are masked from 'package:base':
as.difftime, as.factor, as.ordered, intersect, is.element, setdiff,
setequal, union
Attaching package: 'BiocGenerics'
The following objects are masked from 'package:stats':
IQR, mad, sd, var, xtabs
The following objects are masked from 'package:base':
Filter, Find, Map, Position, Reduce, anyDuplicated, aperm, append,
as.data.frame, basename, cbind, colnames, dirname, do.call,
duplicated, eval, evalq, get, grep, grepl, is.unsorted, lapply,
mapply, match, mget, order, paste, pmax, pmax.int, pmin, pmin.int,
rank, rbind, rownames, sapply, saveRDS, table, tapply, unique,
unsplit, which.max, which.min
Loading required package: MatrixGenerics
Loading required package: matrixStats
Attaching package: 'matrixStats'
The following object is masked from 'package:SeqArray':
rowRanges
Attaching package: 'MatrixGenerics'
The following objects are masked from 'package:matrixStats':
colAlls, colAnyNAs, colAnys, colAvgsPerRowSet, colCollapse,
colCounts, colCummaxs, colCummins, colCumprods, colCumsums,
colDiffs, colIQRDiffs, colIQRs, colLogSumExps, colMadDiffs,
colMads, colMaxs, colMeans2, colMedians, colMins, colOrderStats,
colProds, colQuantiles, colRanges, colRanks, colSdDiffs, colSds,
colSums2, colTabulates, colVarDiffs, colVars, colWeightedMads,
colWeightedMeans, colWeightedMedians, colWeightedSds,
colWeightedVars, rowAlls, rowAnyNAs, rowAnys, rowAvgsPerColSet,
rowCollapse, rowCounts, rowCummaxs, rowCummins, rowCumprods,
rowCumsums, rowDiffs, rowIQRDiffs, rowIQRs, rowLogSumExps,
rowMadDiffs, rowMads, rowMaxs, rowMeans2, rowMedians, rowMins,
rowOrderStats, rowProds, rowQuantiles, rowRanges, rowRanks,
rowSdDiffs, rowSds, rowSums2, rowTabulates, rowVarDiffs, rowVars,
rowWeightedMads, rowWeightedMeans, rowWeightedMedians,
rowWeightedSds, rowWeightedVars
The following object is masked from 'package:SeqArray':
rowRanges
Loading required package: GenomeInfoDb
Loading required package: S4Vectors
Loading required package: stats4
Attaching package: 'S4Vectors'
The following object is masked from 'package:utils':
findMatches
The following objects are masked from 'package:base':
I, expand.grid, unname
Loading required package: IRanges
Loading required package: GenomicRanges
Loading required package: SummarizedExperiment
Loading required package: Biobase
Welcome to Bioconductor
Vignettes contain introductory material; view with
'browseVignettes()'. To cite Bioconductor, see
'citation("Biobase")', and for packages 'citation("pkgname")'.
Attaching package: 'Biobase'
The following object is masked from 'package:MatrixGenerics':
rowMedians
The following objects are masked from 'package:matrixStats':
anyMissing, rowMedians
Attaching package: 'SummarizedExperiment'
The following object is masked from 'package:SeqArray':
colData
Loading required package: Rsamtools
Loading required package: Biostrings
Loading required package: XVector
Attaching package: 'Biostrings'
The following object is masked from 'package:base':
strsplit
Attaching package: 'VariantAnnotation'
The following objects are masked from 'package:SeqArray':
alt, filt, fixed, geno, header, info, qual, ref
The following object is masked from 'package:base':
tabulate
[W::bcf_hdr_check_sanity] GL should be declared as Number=G
# of selected variants: 898
[..................................................] 0%, ETC: ---
[==================================================] 100%, completed, 1s
[..................................................] 0%, ETC: ---
[==================================================] 100%, completed, 1s
[..................................................] 0%, ETC: ---
[==================================================] 100%, completed, 1s
[..................................................] 0%, ETC: ---
[==================================================] 100%, completed, 1s
# of selected variants: 655
[..................................................] 0%, ETC: ---
[==================================================] 100%, completed, 0s
[..................................................] 0%, ETC: ---
[==================================================] 100%, completed, 1s
[..................................................] 0%, ETC: ---
[==================================================] 100%, completed, 1s
[..................................................] 0%, ETC: ---
[==================================================] 100%, completed, 0s
Attaching package: 'Matrix'
The following object is masked from 'package:VariantAnnotation':
expand
The following object is masked from 'package:S4Vectors':
expand
# of selected samples: 90
# of selected variants: 1,348
# of selected samples: 90
# of selected variants: 1,348
# of selected samples: 90
# of selected variants: 1,348
# of selected samples: 90
# of selected variants: 1,348
RUNIT TEST PROTOCOL -- Mon Apr 21 21:38:47 2025
***********************************************
Number of test functions: 28
Number of errors: 0
Number of failures: 0
1 Test Suite :
SeqArray RUnit Tests - 28 test functions, 0 errors, 0 failures
Number of test functions: 28
Number of errors: 0
Number of failures: 0
There were 50 or more warnings (use warnings() to see the first 50)
>
> proc.time()
user system elapsed
25.748 5.448 33.374
SeqArray.Rcheck/SeqArray-Ex.timings
| name | user | system | elapsed | |
| SeqArray-package | 0.132 | 0.027 | 0.165 | |
| SeqVarGDSClass-class | 0.034 | 0.002 | 0.036 | |
| seqAddValue | 0.034 | 0.007 | 0.043 | |
| seqAlleleFreq | 0.021 | 0.001 | 0.022 | |
| seqApply | 0.038 | 0.006 | 0.044 | |
| seqAsVCF | 0.001 | 0.001 | 0.001 | |
| seqBED2GDS | 0.101 | 0.017 | 0.124 | |
| seqBlockApply | 0.018 | 0.002 | 0.025 | |
| seqCheck | 0.008 | 0.002 | 0.009 | |
| seqDelete | 0.025 | 0.003 | 0.028 | |
| seqDigest | 0.011 | 0.001 | 0.018 | |
| seqEmptyFile | 0.004 | 0.002 | 0.006 | |
| seqExampleFileName | 0.000 | 0.000 | 0.001 | |
| seqExport | 0.213 | 0.606 | 0.838 | |
| seqGDS2SNP | 0.023 | 0.044 | 0.068 | |
| seqGDS2VCF | 0.218 | 0.009 | 0.227 | |
| seqGet2bGeno | 0.004 | 0.001 | 0.004 | |
| seqGetData | 0.364 | 0.016 | 0.380 | |
| seqGetFilter | 0.014 | 0.001 | 0.015 | |
| seqMerge | 0.453 | 0.098 | 0.591 | |
| seqMissing | 0.021 | 0.003 | 0.024 | |
| seqNewVarData | 0.003 | 0.000 | 0.004 | |
| seqNumAllele | 0.000 | 0.000 | 0.001 | |
| seqOpen | 0.013 | 0.002 | 0.015 | |
| seqOptimize | 0.068 | 0.019 | 0.092 | |
| seqParallel | 0.043 | 0.084 | 0.098 | |
| seqParallelSetup | 0.020 | 0.018 | 0.034 | |
| seqRecompress | 0.127 | 0.104 | 0.231 | |
| seqResetVariantID | 0.006 | 0.019 | 0.026 | |
| seqSNP2GDS | 0.646 | 0.076 | 0.731 | |
| seqSetFilter | 0.019 | 0.006 | 0.026 | |
| seqSetFilterCond | 0.015 | 0.002 | 0.018 | |
| seqStorageOption | 0.213 | 0.092 | 0.321 | |
| seqSummary | 0.029 | 0.011 | 0.040 | |
| seqSystem | 0 | 0 | 0 | |
| seqTranspose | 0.070 | 0.022 | 0.096 | |
| seqUnitApply | 0.082 | 0.050 | 0.121 | |
| seqUnitFilterCond | 0.023 | 0.014 | 0.035 | |
| seqUnitSlidingWindows | 0.011 | 0.003 | 0.014 | |
| seqUnitSubset | 0.015 | 0.005 | 0.020 | |
| seqVCF2GDS | 0.206 | 0.161 | 0.353 | |
| seqVCF_Header | 0.025 | 0.008 | 0.035 | |
| seqVCF_SampID | 0.001 | 0.000 | 0.001 | |