| Back to Multiple platform build/check report for BioC 3.21: simplified long | 
 | 
This page was generated on 2025-10-16 11:39 -0400 (Thu, 16 Oct 2025).
| Hostname | OS | Arch (*) | R version | Installed pkgs | 
|---|---|---|---|---|
| nebbiolo1 | Linux (Ubuntu 24.04.3 LTS) | x86_64 | 4.5.1 (2025-06-13) -- "Great Square Root" | 4833 | 
| merida1 | macOS 12.7.6 Monterey | x86_64 | 4.5.1 RC (2025-06-05 r88288) -- "Great Square Root" | 4614 | 
| kjohnson1 | macOS 13.7.5 Ventura | arm64 | 4.5.1 Patched (2025-06-14 r88325) -- "Great Square Root" | 4555 | 
| kunpeng2 | Linux (openEuler 24.03 LTS) | aarch64 | R Under development (unstable) (2025-02-19 r87757) -- "Unsuffered Consequences" | 4586 | 
| Click on any hostname to see more info about the system (e.g. compilers) (*) as reported by 'uname -p', except on Windows and Mac OS X | ||||
| Package 1937/2341 | Hostname | OS / Arch | INSTALL | BUILD | CHECK | BUILD BIN | ||||||||
| ScreenR 1.10.0  (landing page) Emanuel Michele Soda 
 | nebbiolo1 | Linux (Ubuntu 24.04.3 LTS) / x86_64 | OK | OK | ERROR | |||||||||
| merida1 | macOS 12.7.6 Monterey / x86_64 | OK | OK | ERROR | OK | |||||||||
| kjohnson1 | macOS 13.7.5 Ventura / arm64 | OK | OK | ERROR | OK | |||||||||
| kunpeng2 | Linux (openEuler 24.03 LTS) / aarch64 | OK | OK | ERROR | ||||||||||
| To the developers/maintainers of the ScreenR package: - Allow up to 24 hours (and sometimes 48 hours) for your latest push to git@git.bioconductor.org:packages/ScreenR.git to reflect on this report. See Troubleshooting Build Report for more information. - Use the following Renviron settings to reproduce errors and warnings. - If 'R CMD check' started to fail recently on the Linux builder(s) over a missing dependency, add the missing dependency to 'Suggests:' in your DESCRIPTION file. See Renviron.bioc for more information. | 
| Package: ScreenR | 
| Version: 1.10.0 | 
| Command: /Library/Frameworks/R.framework/Resources/bin/R CMD check --install=check:ScreenR.install-out.txt --library=/Library/Frameworks/R.framework/Resources/library --no-vignettes --timings ScreenR_1.10.0.tar.gz | 
| StartedAt: 2025-10-14 10:06:46 -0400 (Tue, 14 Oct 2025) | 
| EndedAt: 2025-10-14 10:14:05 -0400 (Tue, 14 Oct 2025) | 
| EllapsedTime: 438.8 seconds | 
| RetCode: 1 | 
| Status: ERROR | 
| CheckDir: ScreenR.Rcheck | 
| Warnings: NA | 
##############################################################################
##############################################################################
###
### Running command:
###
###   /Library/Frameworks/R.framework/Resources/bin/R CMD check --install=check:ScreenR.install-out.txt --library=/Library/Frameworks/R.framework/Resources/library --no-vignettes --timings ScreenR_1.10.0.tar.gz
###
##############################################################################
##############################################################################
* using log directory ‘/Users/biocbuild/bbs-3.21-bioc/meat/ScreenR.Rcheck’
* using R version 4.5.1 RC (2025-06-05 r88288)
* using platform: x86_64-apple-darwin20
* R was compiled by
    Apple clang version 14.0.0 (clang-1400.0.29.202)
    GNU Fortran (GCC) 14.2.0
* running under: macOS Monterey 12.7.6
* using session charset: UTF-8
* using option ‘--no-vignettes’
* checking for file ‘ScreenR/DESCRIPTION’ ... OK
* checking extension type ... Package
* this is package ‘ScreenR’ version ‘1.10.0’
* package encoding: UTF-8
* checking package namespace information ... OK
* checking package dependencies ... OK
* checking if this is a source package ... OK
* checking if there is a namespace ... OK
* checking for hidden files and directories ... OK
* checking for portable file names ... OK
* checking for sufficient/correct file permissions ... OK
* checking whether package ‘ScreenR’ can be installed ... OK
* checking installed package size ... OK
* checking package directory ... OK
* checking ‘build’ directory ... OK
* checking DESCRIPTION meta-information ... OK
* checking top-level files ... OK
* checking for left-over files ... OK
* checking index information ... OK
* checking package subdirectories ... OK
* checking code files for non-ASCII characters ... OK
* checking R files for syntax errors ... OK
* checking whether the package can be loaded ... OK
* checking whether the package can be loaded with stated dependencies ... OK
* checking whether the package can be unloaded cleanly ... OK
* checking whether the namespace can be loaded with stated dependencies ... OK
* checking whether the namespace can be unloaded cleanly ... OK
* checking whether startup messages can be suppressed ... OK
* checking dependencies in R code ... OK
* checking S3 generic/method consistency ... OK
* checking replacement functions ... OK
* checking foreign function calls ... OK
* checking R code for possible problems ... OK
* checking Rd files ... NOTE
checkRd: (-1) annotation_table.Rd:25: Lost braces
    25 |                  \url{https://cellecta.com/}{cellecta}}
       |                                             ^
* checking Rd metadata ... OK
* checking Rd cross-references ... OK
* checking for missing documentation entries ... OK
* checking for code/documentation mismatches ... OK
* checking Rd \usage sections ... NOTE
Documented arguments not in \usage in Rd file 'compute_camera.Rd':
  ‘...’
Documented arguments not in \usage in Rd file 'select_number_barcode.Rd':
  ‘...’
Documented arguments not in \usage in Rd file 'unique_gene_symbols.Rd':
  ‘...’
Functions with \usage entries need to have the appropriate \alias
entries, and all their arguments documented.
The \usage entries must correspond to syntactically valid R code.
See chapter ‘Writing R documentation files’ in the ‘Writing R
Extensions’ manual.
* checking Rd contents ... OK
* checking for unstated dependencies in examples ... OK
* checking contents of ‘data’ directory ... OK
* checking data for non-ASCII characters ... OK
* checking data for ASCII and uncompressed saves ... OK
* checking R/sysdata.rda ... OK
* checking files in ‘vignettes’ ... OK
* checking examples ... OK
Examples with CPU (user + system) or elapsed time > 5s
                           user system elapsed
plot_barcode_trend       52.560  2.192  59.335
plot_zscore_distribution 50.140  3.710  62.211
compute_metrics          30.605  2.133  33.923
find_robust_zscore_hit   24.817  2.396  28.749
find_zscore_hit          25.015  1.326  27.069
plot_trend                3.364  2.485   6.438
* checking for unstated dependencies in ‘tests’ ... OK
* checking tests ...
  Running ‘testthat.R’
 ERROR
Running the tests in ‘tests/testthat.R’ failed.
Last 13 lines of output:
  `expected`: "gg"             
  ── Failure ('test-visualization.R:179:5'): plot_zscore_distribution ────────────
  class(p)[1] (`actual`) not equal to "gg" (`expected`).
  
  `actual`:   "ggplot2::ggplot"
  `expected`: "gg"             
  ── Failure ('test-visualization.R:263:5'): Plot common Hit ─────────────────────
  "gg" (`actual`) not equal to class(plot)[1] (`expected`).
  
  `actual`:   "gg"             
  `expected`: "ggplot2::ggplot"
  
  [ FAIL 11 | WARN 253 | SKIP 0 | PASS 53 ]
  Error: Test failures
  Execution halted
* checking for unstated dependencies in vignettes ... OK
* checking package vignettes ... OK
* checking running R code from vignettes ... SKIPPED
* checking re-building of vignette outputs ... SKIPPED
* checking PDF version of manual ... OK
* DONE
Status: 1 ERROR, 2 NOTEs
See
  ‘/Users/biocbuild/bbs-3.21-bioc/meat/ScreenR.Rcheck/00check.log’
for details.
ScreenR.Rcheck/00install.out
############################################################################## ############################################################################## ### ### Running command: ### ### /Library/Frameworks/R.framework/Resources/bin/R CMD INSTALL ScreenR ### ############################################################################## ############################################################################## * installing to library ‘/Library/Frameworks/R.framework/Versions/4.5-x86_64/Resources/library’ * installing *source* package ‘ScreenR’ ... ** this is package ‘ScreenR’ version ‘1.10.0’ ** using staged installation ** R ** data ** inst ** byte-compile and prepare package for lazy loading ** help *** installing help indices *** copying figures ** building package indices ** installing vignettes ** testing if installed package can be loaded from temporary location ** testing if installed package can be loaded from final location ** testing if installed package keeps a record of temporary installation path * DONE (ScreenR)
ScreenR.Rcheck/tests/testthat.Rout.fail
R version 4.5.1 RC (2025-06-05 r88288) -- "Great Square Root"
Copyright (C) 2025 The R Foundation for Statistical Computing
Platform: x86_64-apple-darwin20
R is free software and comes with ABSOLUTELY NO WARRANTY.
You are welcome to redistribute it under certain conditions.
Type 'license()' or 'licence()' for distribution details.
R is a collaborative project with many contributors.
Type 'contributors()' for more information and
'citation()' on how to cite R or R packages in publications.
Type 'demo()' for some demos, 'help()' for on-line help, or
'help.start()' for an HTML browser interface to help.
Type 'q()' to quit R.
> library(testthat)
> library(ScreenR)
Welcome to ScreenR
--------------------------
See ?ScreenR for a list of
available functions.
Enjoy!
> 
> test_check("ScreenR")
ScreenR count table containing:
 5320 rows
 15 columns
ScreenR annotation table containing:
 5320 rows
 5 columns
ScreenR normalized count table containing:
 5320 rows
 15 columns
ScreenR normalized data table containing:
 74480 rows
 9 columns
ScreenR annotation table containing:
 5320 rows
 5 columns
ScreenR annotation table containing:
 5320 rows
 5 columns
ScreenR count table containing:
 5320 rows
 15 columns
ScreenR count table containing:
 5320 rows
 15 columns
ScreenR normalized count table containing:
 5320 rows
 15 columns
ScreenR normalized count table containing:
 5320 rows
 15 columns
ScreenR normalized data table containing:
 74480 rows
 9 columns
ScreenR normalized data table containing:
 74480 rows
 9 columns
Using classic mode.
[ FAIL 11 | WARN 253 | SKIP 0 | PASS 53 ]
══ Failed tests ════════════════════════════════════════════════════════════════
── Failure ('test-MDS.R:52:5'): plot_mds NULL ──────────────────────────────────
class(plot)[1] (`actual`) not equal to "gg" (`expected`).
`actual`:   "ggplot2::ggplot"
`expected`: "gg"             
── Failure ('test-MDS.R:61:5'): plot_mds ───────────────────────────────────────
class(plot)[1] (`actual`) not equal to "gg" (`expected`).
`actual`:   "ggplot2::ggplot"
`expected`: "gg"             
── Failure ('test-MDS.R:70:5'): plot_explained_variance ────────────────────────
class(plot)[[1]] (`actual`) not equal to "gg" (`expected`).
`actual`:   "ggplot2::ggplot"
`expected`: "gg"             
── Failure ('test-MDS.R:81:5'): plot_explained_variance CUM ────────────────────
class(plot)[[1]] (`actual`) not equal to "gg" (`expected`).
`actual`:   "ggplot2::ggplot"
`expected`: "gg"             
── Failure ('test-visualization.R:57:5'): plot trend hit ───────────────────────
class(plot)[[1]] (`actual`) not equal to "gg" (`expected`).
`actual`:   "ggplot2::ggplot"
`expected`: "gg"             
── Failure ('test-visualization.R:71:5'): Plot Boxplot violinplot ──────────────
class(p)[1] (`actual`) not equal to "gg" (`expected`).
`actual`:   "ggplot2::ggplot"
`expected`: "gg"             
── Failure ('test-visualization.R:85:5'): Plot Boxplot boxplot ─────────────────
class(p)[1] (`actual`) not equal to "gg" (`expected`).
`actual`:   "ggplot2::ggplot"
`expected`: "gg"             
── Failure ('test-visualization.R:102:5'): plot_barcode_lost_for_gene ──────────
class(p)[1] (`actual`) not equal to "gg" (`expected`).
`actual`:   "ggplot2::ggplot"
`expected`: "gg"             
── Failure ('test-visualization.R:108:5'): plot_barcode_lost_for_gene ──────────
class(p)[1] (`actual`) not equal to "gg" (`expected`).
`actual`:   "ggplot2::ggplot"
`expected`: "gg"             
── Failure ('test-visualization.R:179:5'): plot_zscore_distribution ────────────
class(p)[1] (`actual`) not equal to "gg" (`expected`).
`actual`:   "ggplot2::ggplot"
`expected`: "gg"             
── Failure ('test-visualization.R:263:5'): Plot common Hit ─────────────────────
"gg" (`actual`) not equal to class(plot)[1] (`expected`).
`actual`:   "gg"             
`expected`: "ggplot2::ggplot"
[ FAIL 11 | WARN 253 | SKIP 0 | PASS 53 ]
Error: Test failures
Execution halted
ScreenR.Rcheck/ScreenR-Ex.timings
| name | user | system | elapsed | |
| barcode_lost | 0.295 | 0.027 | 0.322 | |
| compute_data_table | 0.530 | 0.018 | 0.548 | |
| compute_explained_variance | 0.026 | 0.005 | 0.031 | |
| compute_metrics | 30.605 | 2.133 | 33.923 | |
| compute_slope | 0.090 | 0.001 | 0.091 | |
| count_mapped_reads | 0.066 | 0.002 | 0.069 | |
| create_edger_obj | 0.045 | 0.003 | 0.048 | |
| create_screenr_object | 0.094 | 0.003 | 0.097 | |
| filter_by_slope | 0.251 | 0.008 | 0.262 | |
| filter_by_variance | 2.277 | 0.042 | 2.339 | |
| find_camera_hit | 2.378 | 0.037 | 2.499 | |
| find_common_hit | 0.065 | 0.000 | 0.068 | |
| find_roast_hit | 3.765 | 0.078 | 4.003 | |
| find_robust_zscore_hit | 24.817 | 2.396 | 28.749 | |
| find_zscore_hit | 25.015 | 1.326 | 27.069 | |
| get_annotation_table | 0.033 | 0.001 | 0.035 | |
| get_count_table | 0.157 | 0.004 | 0.160 | |
| get_data_table | 0.062 | 0.001 | 0.064 | |
| get_groups | 0.001 | 0.001 | 0.002 | |
| get_normalized_count_table | 0.101 | 0.001 | 0.101 | |
| get_replicates | 0.000 | 0.001 | 0.001 | |
| mapped_reads | 0.090 | 0.001 | 0.092 | |
| normalize_data | 0.095 | 0.001 | 0.096 | |
| plot_barcode_hit | 2.146 | 0.014 | 2.163 | |
| plot_barcode_lost | 0.875 | 0.012 | 0.887 | |
| plot_barcode_lost_for_gene | 4.094 | 0.014 | 4.122 | |
| plot_barcode_trend | 52.560 | 2.192 | 59.335 | |
| plot_boxplot | 1.006 | 0.010 | 1.325 | |
| plot_common_hit | 0.539 | 0.007 | 0.688 | |
| plot_explained_variance | 1.045 | 0.011 | 1.245 | |
| plot_mapped_reads | 0.469 | 0.003 | 0.513 | |
| plot_mapped_reads_distribution | 3.706 | 0.038 | 3.985 | |
| plot_mds | 0.791 | 0.004 | 0.797 | |
| plot_trend | 3.364 | 2.485 | 6.438 | |
| plot_zscore_distribution | 50.140 | 3.710 | 62.211 | |
| remove_all_zero_row | 0.021 | 0.001 | 0.022 | |
| set_annotation_table | 0.287 | 0.003 | 0.298 | |
| set_count_table | 0.300 | 0.002 | 0.318 | |
| set_data_table | 0.312 | 0.009 | 0.333 | |
| set_groups | 0.300 | 0.003 | 0.321 | |
| set_normalized_count_table | 0.375 | 0.003 | 0.391 | |
| set_replicates | 0.300 | 0.002 | 0.322 | |