Back to Multiple platform build/check report for BioC 3.21: simplified long |
|
This page was generated on 2025-10-06 11:42 -0400 (Mon, 06 Oct 2025).
Hostname | OS | Arch (*) | R version | Installed pkgs |
---|---|---|---|---|
nebbiolo1 | Linux (Ubuntu 24.04.3 LTS) | x86_64 | 4.5.1 (2025-06-13) -- "Great Square Root" | 4832 |
merida1 | macOS 12.7.5 Monterey | x86_64 | 4.5.1 RC (2025-06-05 r88288) -- "Great Square Root" | 4613 |
kjohnson1 | macOS 13.6.6 Ventura | arm64 | 4.5.1 Patched (2025-06-14 r88325) -- "Great Square Root" | 4554 |
kunpeng2 | Linux (openEuler 24.03 LTS) | aarch64 | R Under development (unstable) (2025-02-19 r87757) -- "Unsuffered Consequences" | 4585 |
Click on any hostname to see more info about the system (e.g. compilers) (*) as reported by 'uname -p', except on Windows and Mac OS X |
Package 2074/2341 | Hostname | OS / Arch | INSTALL | BUILD | CHECK | BUILD BIN | ||||||||
SPIAT 1.10.0 (landing page) Yuzhou Feng
| nebbiolo1 | Linux (Ubuntu 24.04.3 LTS) / x86_64 | OK | OK | OK | ![]() | ||||||||
merida1 | macOS 12.7.5 Monterey / x86_64 | OK | OK | OK | OK | ![]() | ||||||||
kjohnson1 | macOS 13.6.6 Ventura / arm64 | OK | OK | OK | OK | ![]() | ||||||||
kunpeng2 | Linux (openEuler 24.03 LTS) / aarch64 | OK | OK | OK | ||||||||||
To the developers/maintainers of the SPIAT package: - Allow up to 24 hours (and sometimes 48 hours) for your latest push to git@git.bioconductor.org:packages/SPIAT.git to reflect on this report. See Troubleshooting Build Report for more information. - Use the following Renviron settings to reproduce errors and warnings. - If 'R CMD check' started to fail recently on the Linux builder(s) over a missing dependency, add the missing dependency to 'Suggests:' in your DESCRIPTION file. See Renviron.bioc for more information. - See Martin Grigorov's blog post for how to debug Linux ARM64 related issues on a x86_64 host. |
Package: SPIAT |
Version: 1.10.0 |
Command: /home/biocbuild/R/R/bin/R CMD check --install=check:SPIAT.install-out.txt --library=/home/biocbuild/R/R/site-library --no-vignettes --timings SPIAT_1.10.0.tar.gz |
StartedAt: 2025-10-03 14:49:20 -0000 (Fri, 03 Oct 2025) |
EndedAt: 2025-10-03 14:57:48 -0000 (Fri, 03 Oct 2025) |
EllapsedTime: 507.6 seconds |
RetCode: 0 |
Status: OK |
CheckDir: SPIAT.Rcheck |
Warnings: 0 |
############################################################################## ############################################################################## ### ### Running command: ### ### /home/biocbuild/R/R/bin/R CMD check --install=check:SPIAT.install-out.txt --library=/home/biocbuild/R/R/site-library --no-vignettes --timings SPIAT_1.10.0.tar.gz ### ############################################################################## ############################################################################## * using log directory ‘/home/biocbuild/bbs-3.21-bioc/meat/SPIAT.Rcheck’ * using R Under development (unstable) (2025-02-19 r87757) * using platform: aarch64-unknown-linux-gnu * R was compiled by aarch64-unknown-linux-gnu-gcc (GCC) 14.2.0 GNU Fortran (GCC) 14.2.0 * running under: openEuler 24.03 (LTS-SP1) * using session charset: UTF-8 * using option ‘--no-vignettes’ * checking for file ‘SPIAT/DESCRIPTION’ ... OK * checking extension type ... Package * this is package ‘SPIAT’ version ‘1.10.0’ * package encoding: UTF-8 * checking package namespace information ... OK * checking package dependencies ... OK * checking if this is a source package ... OK * checking if there is a namespace ... OK * checking for hidden files and directories ... OK * checking for portable file names ... OK * checking for sufficient/correct file permissions ... OK * checking whether package ‘SPIAT’ can be installed ... OK * checking installed package size ... OK * checking package directory ... OK * checking ‘build’ directory ... OK * checking DESCRIPTION meta-information ... NOTE License components with restrictions not permitted: Artistic-2.0 + file LICENSE * checking top-level files ... OK * checking for left-over files ... OK * checking index information ... OK * checking package subdirectories ... OK * checking code files for non-ASCII characters ... OK * checking R files for syntax errors ... OK * checking whether the package can be loaded ... OK * checking whether the package can be loaded with stated dependencies ... OK * checking whether the package can be unloaded cleanly ... OK * checking whether the namespace can be loaded with stated dependencies ... OK * checking whether the namespace can be unloaded cleanly ... OK * checking loading without being on the library search path ... OK * checking dependencies in R code ... OK * checking S3 generic/method consistency ... OK * checking replacement functions ... OK * checking foreign function calls ... OK * checking R code for possible problems ... OK * checking Rd files ... OK * checking Rd metadata ... OK * checking Rd cross-references ... OK * checking for missing documentation entries ... OK * checking for code/documentation mismatches ... OK * checking Rd \usage sections ... OK * checking Rd contents ... OK * checking for unstated dependencies in examples ... OK * checking contents of ‘data’ directory ... OK * checking data for non-ASCII characters ... OK * checking LazyData ... OK * checking data for ASCII and uncompressed saves ... OK * checking files in ‘vignettes’ ... OK * checking examples ... OK Examples with CPU (user + system) or elapsed time > 5s user system elapsed dimensionality_reduction_plot 36.966 0.115 38.927 calculate_percentage_of_grids 10.900 0.075 11.946 calculate_pairwise_distances_between_celltypes 6.353 0.240 7.324 plot_composition_heatmap 6.139 0.176 6.887 calculate_summary_distances_between_celltypes 4.499 0.104 5.495 * checking for unstated dependencies in ‘tests’ ... OK * checking tests ... Running ‘testthat.R’ OK * checking for unstated dependencies in vignettes ... OK * checking package vignettes ... OK * checking running R code from vignettes ... SKIPPED * checking re-building of vignette outputs ... SKIPPED * checking PDF version of manual ... OK * DONE Status: 1 NOTE See ‘/home/biocbuild/bbs-3.21-bioc/meat/SPIAT.Rcheck/00check.log’ for details.
SPIAT.Rcheck/00install.out
############################################################################## ############################################################################## ### ### Running command: ### ### /home/biocbuild/R/R/bin/R CMD INSTALL SPIAT ### ############################################################################## ############################################################################## * installing to library ‘/home/biocbuild/R/R-devel_2025-02-19/site-library’ * installing *source* package ‘SPIAT’ ... ** this is package ‘SPIAT’ version ‘1.10.0’ ** using staged installation ** R ** data *** moving datasets to lazyload DB ** inst ** byte-compile and prepare package for lazy loading ** help *** installing help indices ** building package indices ** installing vignettes ** testing if installed package can be loaded from temporary location ** testing if installed package can be loaded from final location ** testing if installed package keeps a record of temporary installation path * DONE (SPIAT)
SPIAT.Rcheck/tests/testthat.Rout
R Under development (unstable) (2025-02-19 r87757) -- "Unsuffered Consequences" Copyright (C) 2025 The R Foundation for Statistical Computing Platform: aarch64-unknown-linux-gnu R is free software and comes with ABSOLUTELY NO WARRANTY. You are welcome to redistribute it under certain conditions. Type 'license()' or 'licence()' for distribution details. R is a collaborative project with many contributors. Type 'contributors()' for more information and 'citation()' on how to cite R or R packages in publications. Type 'demo()' for some demos, 'help()' for on-line help, or 'help.start()' for an HTML browser interface to help. Type 'q()' to quit R. > library(testthat) > library(SPIAT) Loading required package: SpatialExperiment Loading required package: SingleCellExperiment Loading required package: SummarizedExperiment Loading required package: MatrixGenerics Loading required package: matrixStats Attaching package: 'MatrixGenerics' The following objects are masked from 'package:matrixStats': colAlls, colAnyNAs, colAnys, colAvgsPerRowSet, colCollapse, colCounts, colCummaxs, colCummins, colCumprods, colCumsums, colDiffs, colIQRDiffs, colIQRs, colLogSumExps, colMadDiffs, colMads, colMaxs, colMeans2, colMedians, colMins, colOrderStats, colProds, colQuantiles, colRanges, colRanks, colSdDiffs, colSds, colSums2, colTabulates, colVarDiffs, colVars, colWeightedMads, colWeightedMeans, colWeightedMedians, colWeightedSds, colWeightedVars, rowAlls, rowAnyNAs, rowAnys, rowAvgsPerColSet, rowCollapse, rowCounts, rowCummaxs, rowCummins, rowCumprods, rowCumsums, rowDiffs, rowIQRDiffs, rowIQRs, rowLogSumExps, rowMadDiffs, rowMads, rowMaxs, rowMeans2, rowMedians, rowMins, rowOrderStats, rowProds, rowQuantiles, rowRanges, rowRanks, rowSdDiffs, rowSds, rowSums2, rowTabulates, rowVarDiffs, rowVars, rowWeightedMads, rowWeightedMeans, rowWeightedMedians, rowWeightedSds, rowWeightedVars Loading required package: GenomicRanges Loading required package: stats4 Loading required package: BiocGenerics Loading required package: generics Attaching package: 'generics' The following objects are masked from 'package:base': as.difftime, as.factor, as.ordered, intersect, is.element, setdiff, setequal, union Attaching package: 'BiocGenerics' The following objects are masked from 'package:stats': IQR, mad, sd, var, xtabs The following objects are masked from 'package:base': Filter, Find, Map, Position, Reduce, anyDuplicated, aperm, append, as.data.frame, basename, cbind, colnames, dirname, do.call, duplicated, eval, evalq, get, grep, grepl, is.unsorted, lapply, mapply, match, mget, order, paste, pmax, pmax.int, pmin, pmin.int, rank, rbind, rownames, sapply, saveRDS, table, tapply, unique, unsplit, which.max, which.min Loading required package: S4Vectors Attaching package: 'S4Vectors' The following object is masked from 'package:utils': findMatches The following objects are masked from 'package:base': I, expand.grid, unname Loading required package: IRanges Loading required package: GenomeInfoDb Loading required package: Biobase Welcome to Bioconductor Vignettes contain introductory material; view with 'browseVignettes()'. To cite Bioconductor, see 'citation("Biobase")', and for packages 'citation("pkgname")'. Attaching package: 'Biobase' The following object is masked from 'package:MatrixGenerics': rowMedians The following objects are masked from 'package:matrixStats': anyMissing, rowMedians > > test_check("SPIAT") [1] "Markers had been selected in minimum distance calculation: " [1] "Immune1" "Tumour" [1] "Crossing of cross K function is detected for this image, indicating a potential immune ring." [1] "The crossing happens at the 50% of the specified distance." [1] "The alpha of Polygon is: 63.24375" [1] "Markers had been selected in minimum distance calculation: " [1] "Non-border" "Border" [1] "Tumour_marker" [1] "Immune_marker1" [1] "Immune_marker2" [1] "Immune_marker3" [1] "Immune_marker4" [1] "Tumour_marker" [1] "Immune_marker1" [1] "Immune_marker2" [1] "Immune_marker3" [1] "Immune_marker4" [1] "Tumour_marker threshold intensity: 0.445450443784465" [1] "Immune_marker1 threshold intensity: 0.116980867970434" [1] "Immune_marker2 threshold intensity: 0.124283809517202" [1] "Immune_marker3 threshold intensity: 0.0166413130263845" [1] "Immune_marker4 threshold intensity: 0.00989731350898589" [ FAIL 0 | WARN 0 | SKIP 0 | PASS 80 ] > > proc.time() user system elapsed 96.488 1.547 106.999
SPIAT.Rcheck/SPIAT-Ex.timings
name | user | system | elapsed | |
AUC_of_cross_function | 0.220 | 0.016 | 0.449 | |
R_BC | 1.727 | 0.040 | 1.924 | |
average_marker_intensity_within_radius | 0.796 | 0.036 | 1.075 | |
average_minimum_distance | 0.027 | 0.000 | 0.051 | |
average_nearest_neighbor_index | 0.321 | 0.000 | 0.462 | |
average_percentage_of_cells_within_radius | 1.470 | 0.032 | 1.717 | |
calculate_cell_proportions | 0.018 | 0.000 | 0.038 | |
calculate_cross_functions | 0.237 | 0.000 | 0.478 | |
calculate_distance_to_margin | 1.686 | 0.048 | 1.992 | |
calculate_entropy | 0.014 | 0.000 | 0.014 | |
calculate_minimum_distances_between_celltypes | 0.023 | 0.000 | 0.023 | |
calculate_pairwise_distances_between_celltypes | 6.353 | 0.240 | 7.324 | |
calculate_percentage_of_grids | 10.900 | 0.075 | 11.946 | |
calculate_proportions_of_cells_in_structure | 1.789 | 0.048 | 2.093 | |
calculate_spatial_autocorrelation | 4.268 | 0.020 | 4.358 | |
calculate_summary_distances_between_celltypes | 4.499 | 0.104 | 5.495 | |
calculate_summary_distances_of_cells_to_borders | 1.619 | 0.008 | 1.886 | |
composition_of_neighborhoods | 1.922 | 0.060 | 2.952 | |
compute_gradient | 0.076 | 0.000 | 0.076 | |
crossing_of_crossK | 0.158 | 0.000 | 0.158 | |
define_celltypes | 0.859 | 0.020 | 0.881 | |
define_structure | 1.974 | 0.004 | 2.032 | |
dimensionality_reduction_plot | 36.966 | 0.115 | 38.927 | |
entropy_gradient_aggregated | 0.662 | 0.036 | 0.702 | |
format_cellprofiler_to_spe | 0.159 | 0.008 | 0.267 | |
format_codex_to_spe | 0.134 | 0.008 | 0.280 | |
format_colData_to_spe | 0.141 | 0.008 | 0.182 | |
format_halo_to_spe | 0.619 | 0.029 | 1.326 | |
format_image_to_spe | 0.135 | 0.000 | 0.136 | |
format_inform_to_spe | 0.264 | 0.000 | 0.642 | |
format_spe_to_ppp | 0.025 | 0.000 | 0.025 | |
grid_metrics | 3.788 | 0.080 | 3.917 | |
identify_bordering_cells | 0.915 | 0.023 | 1.175 | |
identify_neighborhoods | 2.807 | 0.123 | 3.039 | |
image_splitter | 1.130 | 0.003 | 1.180 | |
marker_intensity_boxplot | 0.358 | 0.012 | 0.443 | |
marker_prediction_plot | 1.808 | 0.015 | 1.885 | |
marker_surface_plot | 0.287 | 0.008 | 0.296 | |
marker_surface_plot_stack | 0.281 | 0.008 | 0.290 | |
measure_association_to_cell_properties | 0.532 | 0.020 | 0.599 | |
mixing_score_summary | 0.025 | 0.000 | 0.049 | |
number_of_cells_within_radius | 0.016 | 0.000 | 0.032 | |
plot_average_intensity | 0.370 | 0.000 | 0.383 | |
plot_cell_categories | 0.281 | 0.000 | 0.282 | |
plot_cell_distances_violin | 1.606 | 0.012 | 1.624 | |
plot_cell_marker_levels | 0.269 | 0.008 | 0.289 | |
plot_cell_percentages | 0.564 | 0.016 | 0.581 | |
plot_composition_heatmap | 6.139 | 0.176 | 6.887 | |
plot_distance_heatmap | 2.561 | 0.048 | 2.729 | |
plot_marker_level_heatmap | 0.551 | 0.000 | 0.589 | |
predict_phenotypes | 2.381 | 0.032 | 2.547 | |
select_celltypes | 0.068 | 0.000 | 0.068 | |