Back to Multiple platform build/check report for BioC 3.21: simplified long |
|
This page was generated on 2025-02-11 11:44 -0500 (Tue, 11 Feb 2025).
Hostname | OS | Arch (*) | R version | Installed pkgs |
---|---|---|---|---|
nebbiolo1 | Linux (Ubuntu 24.04.1 LTS) | x86_64 | R Under development (unstable) (2025-01-20 r87609) -- "Unsuffered Consequences" | 4719 |
palomino7 | Windows Server 2022 Datacenter | x64 | R Under development (unstable) (2025-01-21 r87610 ucrt) -- "Unsuffered Consequences" | 4480 |
lconway | macOS 12.7.1 Monterey | x86_64 | R Under development (unstable) (2025-01-22 r87618) -- "Unsuffered Consequences" | 4491 |
kjohnson3 | macOS 13.7.1 Ventura | arm64 | R Under development (unstable) (2025-01-20 r87609) -- "Unsuffered Consequences" | 4444 |
Click on any hostname to see more info about the system (e.g. compilers) (*) as reported by 'uname -p', except on Windows and Mac OS X |
Package 1999/2295 | Hostname | OS / Arch | INSTALL | BUILD | CHECK | BUILD BIN | ||||||||
SNPhood 1.37.0 (landing page) Christian Arnold
| nebbiolo1 | Linux (Ubuntu 24.04.1 LTS) / x86_64 | OK | OK | OK | ![]() | ||||||||
palomino7 | Windows Server 2022 Datacenter / x64 | OK | OK | OK | OK | ![]() | ||||||||
lconway | macOS 12.7.1 Monterey / x86_64 | OK | OK | OK | OK | ![]() | ||||||||
kjohnson3 | macOS 13.7.1 Ventura / arm64 | OK | OK | OK | OK | ![]() | ||||||||
To the developers/maintainers of the SNPhood package: - Allow up to 24 hours (and sometimes 48 hours) for your latest push to git@git.bioconductor.org:packages/SNPhood.git to reflect on this report. See Troubleshooting Build Report for more information. - Use the following Renviron settings to reproduce errors and warnings. - If 'R CMD check' started to fail recently on the Linux builder(s) over a missing dependency, add the missing dependency to 'Suggests:' in your DESCRIPTION file. See Renviron.bioc for more information. |
Package: SNPhood |
Version: 1.37.0 |
Command: /Library/Frameworks/R.framework/Resources/bin/R CMD check --install=check:SNPhood.install-out.txt --library=/Library/Frameworks/R.framework/Resources/library --no-vignettes --timings SNPhood_1.37.0.tar.gz |
StartedAt: 2025-02-10 21:28:58 -0500 (Mon, 10 Feb 2025) |
EndedAt: 2025-02-10 21:32:46 -0500 (Mon, 10 Feb 2025) |
EllapsedTime: 227.5 seconds |
RetCode: 0 |
Status: OK |
CheckDir: SNPhood.Rcheck |
Warnings: 0 |
############################################################################## ############################################################################## ### ### Running command: ### ### /Library/Frameworks/R.framework/Resources/bin/R CMD check --install=check:SNPhood.install-out.txt --library=/Library/Frameworks/R.framework/Resources/library --no-vignettes --timings SNPhood_1.37.0.tar.gz ### ############################################################################## ############################################################################## * using log directory ‘/Users/biocbuild/bbs-3.21-bioc/meat/SNPhood.Rcheck’ * using R Under development (unstable) (2025-01-20 r87609) * using platform: aarch64-apple-darwin20 * R was compiled by Apple clang version 14.0.0 (clang-1400.0.29.202) GNU Fortran (GCC) 14.2.0 * running under: macOS Ventura 13.7.1 * using session charset: UTF-8 * using option ‘--no-vignettes’ * checking for file ‘SNPhood/DESCRIPTION’ ... OK * this is package ‘SNPhood’ version ‘1.37.0’ * checking package namespace information ... OK * checking package dependencies ... OK * checking if this is a source package ... OK * checking if there is a namespace ... OK * checking for hidden files and directories ... OK * checking for portable file names ... OK * checking for sufficient/correct file permissions ... OK * checking whether package ‘SNPhood’ can be installed ... OK * checking installed package size ... OK * checking package directory ... OK * checking ‘build’ directory ... OK * checking DESCRIPTION meta-information ... NOTE BugReports field is not a suitable URL but contains an email address: use the Contact field instead * checking top-level files ... OK * checking for left-over files ... OK * checking index information ... OK * checking package subdirectories ... OK * checking code files for non-ASCII characters ... OK * checking R files for syntax errors ... OK * checking whether the package can be loaded ... OK * checking whether the package can be loaded with stated dependencies ... OK * checking whether the package can be unloaded cleanly ... OK * checking whether the namespace can be loaded with stated dependencies ... OK * checking whether the namespace can be unloaded cleanly ... OK * checking whether startup messages can be suppressed ... OK * checking dependencies in R code ... OK * checking S3 generic/method consistency ... OK * checking replacement functions ... OK * checking foreign function calls ... OK * checking R code for possible problems ... NOTE .calcBinomTestVector: no visible binding for global variable ‘pp’ Undefined global functions or variables: pp * checking Rd files ... OK * checking Rd metadata ... OK * checking Rd cross-references ... NOTE Found the following Rd file(s) with Rd \link{} targets missing package anchors: analyzeSNPhood.Rd: BamFile-class, BamFileList-class collectFiles.Rd: BamFile-class, BamFileList-class Please provide package anchors for all Rd \link{} targets not in the package itself and the base packages. * checking for missing documentation entries ... OK * checking for code/documentation mismatches ... OK * checking Rd \usage sections ... OK * checking Rd contents ... OK * checking for unstated dependencies in examples ... OK * checking contents of ‘data’ directory ... OK * checking data for non-ASCII characters ... OK * checking LazyData ... OK * checking data for ASCII and uncompressed saves ... OK * checking files in ‘vignettes’ ... OK * checking examples ... OK Examples with CPU (user + system) or elapsed time > 5s user system elapsed analyzeSNPhood 38.821 0.803 40.334 plotAllelicBiasResults 14.248 0.575 10.960 plotAndSummarizeAllelicBiasTest 13.665 0.556 10.495 plotFDRResults 13.558 0.486 10.538 testForAllelicBiases 12.582 0.814 10.404 * checking for unstated dependencies in vignettes ... OK * checking package vignettes ... OK * checking running R code from vignettes ... SKIPPED * checking re-building of vignette outputs ... SKIPPED * checking PDF version of manual ... OK * DONE Status: 3 NOTEs See ‘/Users/biocbuild/bbs-3.21-bioc/meat/SNPhood.Rcheck/00check.log’ for details.
SNPhood.Rcheck/00install.out
############################################################################## ############################################################################## ### ### Running command: ### ### /Library/Frameworks/R.framework/Resources/bin/R CMD INSTALL SNPhood ### ############################################################################## ############################################################################## * installing to library ‘/Library/Frameworks/R.framework/Versions/4.5-arm64/Resources/library’ * installing *source* package ‘SNPhood’ ... ** this is package ‘SNPhood’ version ‘1.37.0’ ** using staged installation ** R ** data *** moving datasets to lazyload DB ** byte-compile and prepare package for lazy loading ** help *** installing help indices ** building package indices ** installing vignettes ** testing if installed package can be loaded from temporary location ** testing if installed package can be loaded from final location ** testing if installed package keeps a record of temporary installation path * DONE (SNPhood)
SNPhood.Rcheck/SNPhood-Ex.timings
name | user | system | elapsed | |
analyzeSNPhood | 38.821 | 0.803 | 40.334 | |
annotation-methods | 0.074 | 0.020 | 0.094 | |
annotationBins | 0.046 | 0.012 | 0.058 | |
annotationBins2 | 4.295 | 0.010 | 4.305 | |
annotationDatasets | 0.046 | 0.008 | 0.054 | |
annotationReadGroups | 0.049 | 0.010 | 0.059 | |
annotationRegions | 0.050 | 0.018 | 0.068 | |
associateGenotypes | 1.805 | 0.074 | 1.883 | |
bins-methods | 0.046 | 0.006 | 0.052 | |
changeObjectIntegrityChecking | 0.057 | 0.007 | 0.064 | |
collectFiles | 0.009 | 0.001 | 0.010 | |
convertToAllelicFractions | 0.072 | 0.012 | 0.085 | |
counts-method | 0.077 | 0.013 | 0.090 | |
datasets-methods | 0.053 | 0.011 | 0.063 | |
deleteDatasets | 0.468 | 0.010 | 0.480 | |
deleteReadGroups | 0.056 | 0.007 | 0.063 | |
deleteRegions | 0.484 | 0.007 | 0.492 | |
enrichment-methods | 0.053 | 0.005 | 0.059 | |
getDefaultParameterList | 0 | 0 | 0 | |
mergeReadGroups | 0.066 | 0.013 | 0.079 | |
parameters-methods | 0.049 | 0.008 | 0.058 | |
plotAllelicBiasResults | 14.248 | 0.575 | 10.960 | |
plotAllelicBiasResultsOverview | 0.271 | 0.009 | 0.281 | |
plotAndCalculateCorrelationDatasets | 0.539 | 0.012 | 0.551 | |
plotAndCalculateWeakAndStrongGenotype | 0.251 | 0.034 | 0.285 | |
plotAndClusterMatrix | 0.656 | 0.019 | 0.679 | |
plotAndSummarizeAllelicBiasTest | 13.665 | 0.556 | 10.495 | |
plotBinCounts | 0.370 | 0.013 | 0.384 | |
plotClusterAverage | 0.641 | 0.025 | 0.673 | |
plotFDRResults | 13.558 | 0.486 | 10.538 | |
plotGenotypesPerCluster | 0.180 | 0.029 | 0.160 | |
plotGenotypesPerSNP | 0.118 | 0.013 | 0.131 | |
plotRegionCounts | 0.542 | 0.035 | 0.577 | |
readGroups-methods | 0.049 | 0.010 | 0.060 | |
regions-methods | 0.507 | 0.020 | 0.532 | |
renameBins | 0.048 | 0.006 | 0.055 | |
renameDatasets | 0.051 | 0.009 | 0.060 | |
renameReadGroups | 0.051 | 0.007 | 0.058 | |
renameRegions | 0.621 | 0.038 | 0.659 | |
results | 0.671 | 2.267 | 2.963 | |
testForAllelicBiases | 12.582 | 0.814 | 10.404 | |