Back to Multiple platform build/check report for BioC 3.21:   simplified   long
ABCDEFGHIJKLMNOPQR[S]TUVWXYZ

This page was generated on 2025-02-18 11:41 -0500 (Tue, 18 Feb 2025).

HostnameOSArch (*)R versionInstalled pkgs
nebbiolo1Linux (Ubuntu 24.04.1 LTS)x86_64R Under development (unstable) (2025-01-20 r87609) -- "Unsuffered Consequences" 4720
palomino7Windows Server 2022 Datacenterx64R Under development (unstable) (2025-01-21 r87610 ucrt) -- "Unsuffered Consequences" 4482
lconwaymacOS 12.7.1 Montereyx86_64R Under development (unstable) (2025-01-22 r87618) -- "Unsuffered Consequences" 4493
kjohnson3macOS 13.7.1 Venturaarm64R Under development (unstable) (2025-01-20 r87609) -- "Unsuffered Consequences" 4446
Click on any hostname to see more info about the system (e.g. compilers)      (*) as reported by 'uname -p', except on Windows and Mac OS X

Package 1949/2295HostnameOS / ArchINSTALLBUILDCHECKBUILD BIN
SIAMCAT 2.11.0  (landing page)
Jakob Wirbel
Snapshot Date: 2025-02-17 13:40 -0500 (Mon, 17 Feb 2025)
git_url: https://git.bioconductor.org/packages/SIAMCAT
git_branch: devel
git_last_commit: 56df787
git_last_commit_date: 2024-10-29 10:28:40 -0500 (Tue, 29 Oct 2024)
nebbiolo1Linux (Ubuntu 24.04.1 LTS) / x86_64  OK    OK    OK  UNNEEDED, same version is already published
palomino7Windows Server 2022 Datacenter / x64  OK    OK    OK    OK  UNNEEDED, same version is already published
lconwaymacOS 12.7.1 Monterey / x86_64  OK    OK    OK    OK  UNNEEDED, same version is already published
kjohnson3macOS 13.7.1 Ventura / arm64  OK    OK    OK    OK  UNNEEDED, same version is already published


CHECK results for SIAMCAT on palomino7

To the developers/maintainers of the SIAMCAT package:
- Allow up to 24 hours (and sometimes 48 hours) for your latest push to git@git.bioconductor.org:packages/SIAMCAT.git to reflect on this report. See Troubleshooting Build Report for more information.
- Use the following Renviron settings to reproduce errors and warnings.
- If 'R CMD check' started to fail recently on the Linux builder(s) over a missing dependency, add the missing dependency to 'Suggests:' in your DESCRIPTION file. See Renviron.bioc for more information.

raw results


Summary

Package: SIAMCAT
Version: 2.11.0
Command: E:\biocbuild\bbs-3.21-bioc\R\bin\R.exe CMD check --no-multiarch --install=check:SIAMCAT.install-out.txt --library=E:\biocbuild\bbs-3.21-bioc\R\library --no-vignettes --timings SIAMCAT_2.11.0.tar.gz
StartedAt: 2025-02-18 05:12:03 -0500 (Tue, 18 Feb 2025)
EndedAt: 2025-02-18 05:18:05 -0500 (Tue, 18 Feb 2025)
EllapsedTime: 362.0 seconds
RetCode: 0
Status:   OK  
CheckDir: SIAMCAT.Rcheck
Warnings: 0

Command output

##############################################################################
##############################################################################
###
### Running command:
###
###   E:\biocbuild\bbs-3.21-bioc\R\bin\R.exe CMD check --no-multiarch --install=check:SIAMCAT.install-out.txt --library=E:\biocbuild\bbs-3.21-bioc\R\library --no-vignettes --timings SIAMCAT_2.11.0.tar.gz
###
##############################################################################
##############################################################################


* using log directory 'E:/biocbuild/bbs-3.21-bioc/meat/SIAMCAT.Rcheck'
* using R Under development (unstable) (2025-01-21 r87610 ucrt)
* using platform: x86_64-w64-mingw32
* R was compiled by
    gcc.exe (GCC) 13.3.0
    GNU Fortran (GCC) 13.3.0
* running under: Windows Server 2022 x64 (build 20348)
* using session charset: UTF-8
* using option '--no-vignettes'
* checking for file 'SIAMCAT/DESCRIPTION' ... OK
* checking extension type ... Package
* this is package 'SIAMCAT' version '2.11.0'
* package encoding: UTF-8
* checking package namespace information ... OK
* checking package dependencies ... OK
* checking if this is a source package ... OK
* checking if there is a namespace ... OK
* checking for hidden files and directories ... NOTE
Found the following hidden files and directories:
  .travis.yml
These were most likely included in error. See section 'Package
structure' in the 'Writing R Extensions' manual.
* checking for portable file names ... OK
* checking whether package 'SIAMCAT' can be installed ... OK
* checking installed package size ... INFO
  installed size is  5.1Mb
  sub-directories of 1Mb or more:
    extdata   2.1Mb
    help      1.9Mb
* checking package directory ... OK
* checking 'build' directory ... OK
* checking DESCRIPTION meta-information ... OK
* checking top-level files ... OK
* checking for left-over files ... OK
* checking index information ... OK
* checking package subdirectories ... OK
* checking code files for non-ASCII characters ... OK
* checking R files for syntax errors ... OK
* checking whether the package can be loaded ... OK
* checking whether the package can be loaded with stated dependencies ... OK
* checking whether the package can be unloaded cleanly ... OK
* checking whether the namespace can be loaded with stated dependencies ... OK
* checking whether the namespace can be unloaded cleanly ... OK
* checking dependencies in R code ... OK
* checking S3 generic/method consistency ... OK
* checking replacement functions ... OK
* checking foreign function calls ... OK
* checking R code for possible problems ... OK
* checking Rd files ... OK
* checking Rd metadata ... OK
* checking Rd cross-references ... NOTE
Found the following Rd file(s) with Rd \link{} targets missing package
anchors:
  check.associations.Rd: lmerTest
  summarize.features.Rd: phyloseq
  train.model.Rd: mlr3learners, glmnet, LiblineaR
Please provide package anchors for all Rd \link{} targets not in the
package itself and the base packages.
* checking for missing documentation entries ... OK
* checking for code/documentation mismatches ... OK
* checking Rd \usage sections ... OK
* checking Rd contents ... OK
* checking for unstated dependencies in examples ... OK
* checking contents of 'data' directory ... OK
* checking data for non-ASCII characters ... OK
* checking LazyData ... OK
* checking data for ASCII and uncompressed saves ... OK
* checking files in 'vignettes' ... OK
* checking examples ... OK
Examples with CPU (user + system) or elapsed time > 5s
                           user system elapsed
train.model               30.39   0.72   31.13
assign-model_list         27.12   0.89   28.07
model.interpretation.plot 27.14   0.85   27.97
make.predictions          26.66   0.67   27.33
* checking for unstated dependencies in vignettes ... OK
* checking package vignettes ... OK
* checking running R code from vignettes ... SKIPPED
* checking re-building of vignette outputs ... SKIPPED
* checking PDF version of manual ... OK
* DONE

Status: 2 NOTEs
See
  'E:/biocbuild/bbs-3.21-bioc/meat/SIAMCAT.Rcheck/00check.log'
for details.


Installation output

SIAMCAT.Rcheck/00install.out

##############################################################################
##############################################################################
###
### Running command:
###
###   E:\biocbuild\bbs-3.21-bioc\R\bin\R.exe CMD INSTALL SIAMCAT
###
##############################################################################
##############################################################################


* installing to library 'E:/biocbuild/bbs-3.21-bioc/R/library'
* installing *source* package 'SIAMCAT' ...
** this is package 'SIAMCAT' version '2.11.0'
** using staged installation
** R
** data
*** moving datasets to lazyload DB
** inst
** byte-compile and prepare package for lazy loading
** help
*** installing help indices
*** copying figures
** building package indices
** installing vignettes
** testing if installed package can be loaded from temporary location
** testing if installed package can be loaded from final location
** testing if installed package keeps a record of temporary installation path
* DONE (SIAMCAT)

Tests output


Example timings

SIAMCAT.Rcheck/SIAMCAT-Ex.timings

nameusersystemelapsed
accessSlot0.020.000.01
add.meta.pred0.030.000.03
assign-associations0.000.020.02
assign-data_split0.480.010.50
assign-eval_data000
assign-filt_feat0.010.000.02
assign-label0.020.000.01
assign-meta0.030.000.04
assign-model_list27.12 0.8928.07
assign-norm_feat000
assign-orig_feat0.020.020.04
assign-physeq000
assign-pred_matrix0.010.010.03
assoc_param-methods000
association.plot0.250.000.25
associations-methods000
check.associations000
check.confounders0.450.020.47
create.data.split0.050.000.04
create.label000
data_split-methods0.010.000.02
eval_data-methods0.020.000.01
evaluate.predictions2.110.092.21
feature_type-methods000
feature_weights-methods0.000.020.01
filt_feat-methods0.010.000.02
filt_params-methods0.020.000.01
filter.features0.010.000.02
filter.label0.000.010.02
get.filt_feat.matrix0.020.000.01
get.norm_feat.matrix0.010.000.02
get.orig_feat.matrix000
label-methods0.000.020.01
make.predictions26.66 0.6727.33
meta-methods0.020.020.03
model.evaluation.plot0.040.010.06
model.interpretation.plot27.14 0.8527.97
model_list-methods000
model_type-methods0.000.010.02
models-methods0.020.000.01
norm_feat-methods000
norm_params-methods0.020.000.02
normalize.features0.010.000.02
orig_feat-methods000
physeq-methods0.000.020.01
pred_matrix-methods0.020.000.02
read.label000
read.lefse0.820.010.86
select.samples0.080.000.07
siamcat0.390.020.41
siamcat.to.lefse0.080.000.08
siamcat.to.maaslin0.050.000.05
summarize.features2.870.143.07
train.model30.39 0.7231.13
validate.data0.020.010.03
volcano.plot0.050.000.05
weight_matrix-methods0.000.020.01