| Back to Multiple platform build/check report for BioC 3.21: simplified long |
|
This page was generated on 2025-04-22 13:17 -0400 (Tue, 22 Apr 2025).
| Hostname | OS | Arch (*) | R version | Installed pkgs |
|---|---|---|---|---|
| nebbiolo1 | Linux (Ubuntu 24.04.1 LTS) | x86_64 | 4.5.0 RC (2025-04-04 r88126) -- "How About a Twenty-Six" | 4831 |
| palomino7 | Windows Server 2022 Datacenter | x64 | 4.5.0 RC (2025-04-04 r88126 ucrt) -- "How About a Twenty-Six" | 4573 |
| lconway | macOS 12.7.1 Monterey | x86_64 | 4.5.0 RC (2025-04-04 r88126) -- "How About a Twenty-Six" | 4599 |
| kjohnson3 | macOS 13.7.1 Ventura | arm64 | 4.5.0 RC (2025-04-04 r88126) -- "How About a Twenty-Six" | 4553 |
| kunpeng2 | Linux (openEuler 24.03 LTS) | aarch64 | R Under development (unstable) (2025-02-19 r87757) -- "Unsuffered Consequences" | 4570 |
| Click on any hostname to see more info about the system (e.g. compilers) (*) as reported by 'uname -p', except on Windows and Mac OS X | ||||
| Package 1955/2341 | Hostname | OS / Arch | INSTALL | BUILD | CHECK | BUILD BIN | ||||||||
| SELEX 1.40.0 (landing page) Harmen J. Bussemaker
| nebbiolo1 | Linux (Ubuntu 24.04.1 LTS) / x86_64 | OK | OK | OK | |||||||||
| palomino7 | Windows Server 2022 Datacenter / x64 | OK | OK | OK | OK | |||||||||
| lconway | macOS 12.7.1 Monterey / x86_64 | OK | OK | OK | OK | |||||||||
| kjohnson3 | macOS 13.7.1 Ventura / arm64 | OK | OK | OK | OK | |||||||||
| kunpeng2 | Linux (openEuler 24.03 LTS) / aarch64 | OK | OK | OK | ||||||||||
|
To the developers/maintainers of the SELEX package: - Allow up to 24 hours (and sometimes 48 hours) for your latest push to git@git.bioconductor.org:packages/SELEX.git to reflect on this report. See Troubleshooting Build Report for more information. - Use the following Renviron settings to reproduce errors and warnings. - If 'R CMD check' started to fail recently on the Linux builder(s) over a missing dependency, add the missing dependency to 'Suggests:' in your DESCRIPTION file. See Renviron.bioc for more information. |
| Package: SELEX |
| Version: 1.40.0 |
| Command: /Library/Frameworks/R.framework/Resources/bin/R CMD check --install=check:SELEX.install-out.txt --library=/Library/Frameworks/R.framework/Resources/library --no-vignettes --timings SELEX_1.40.0.tar.gz |
| StartedAt: 2025-04-21 23:29:11 -0400 (Mon, 21 Apr 2025) |
| EndedAt: 2025-04-21 23:31:04 -0400 (Mon, 21 Apr 2025) |
| EllapsedTime: 113.5 seconds |
| RetCode: 0 |
| Status: OK |
| CheckDir: SELEX.Rcheck |
| Warnings: 0 |
##############################################################################
##############################################################################
###
### Running command:
###
### /Library/Frameworks/R.framework/Resources/bin/R CMD check --install=check:SELEX.install-out.txt --library=/Library/Frameworks/R.framework/Resources/library --no-vignettes --timings SELEX_1.40.0.tar.gz
###
##############################################################################
##############################################################################
* using log directory ‘/Users/biocbuild/bbs-3.21-bioc/meat/SELEX.Rcheck’
* using R version 4.5.0 RC (2025-04-04 r88126)
* using platform: x86_64-apple-darwin20
* R was compiled by
Apple clang version 14.0.0 (clang-1400.0.29.202)
GNU Fortran (GCC) 14.2.0
* running under: macOS Monterey 12.7.6
* using session charset: UTF-8
* using option ‘--no-vignettes’
* checking for file ‘SELEX/DESCRIPTION’ ... OK
* this is package ‘SELEX’ version ‘1.40.0’
* checking package namespace information ... OK
* checking package dependencies ... OK
* checking if this is a source package ... OK
* checking if there is a namespace ... OK
* checking for hidden files and directories ... OK
* checking for portable file names ... OK
* checking for sufficient/correct file permissions ... OK
* checking whether package ‘SELEX’ can be installed ... OK
* checking installed package size ... OK
* checking package directory ... OK
* checking ‘build’ directory ... OK
* checking DESCRIPTION meta-information ... OK
* checking top-level files ... OK
* checking for left-over files ... OK
* checking index information ... OK
* checking package subdirectories ... OK
* checking code files for non-ASCII characters ... OK
* checking R files for syntax errors ... OK
* checking whether the package can be loaded ... OK
* checking whether the package can be loaded with stated dependencies ... OK
* checking whether the package can be unloaded cleanly ... OK
* checking whether the namespace can be loaded with stated dependencies ... OK
* checking whether the namespace can be unloaded cleanly ... OK
* checking whether startup messages can be suppressed ... OK
* checking dependencies in R code ... OK
* checking S3 generic/method consistency ... OK
* checking replacement functions ... OK
* checking foreign function calls ... OK
* checking R code for possible problems ... OK
* checking Rd files ... NOTE
checkRd: (-1) SELEX.Rd:114: Lost braces
114 | \href{http://www.ncbi.nlm.nih.gov/pubmed/22153072}{{C}ofactor binding evokes latent differences in {D}{N}{A} binding specificity between {H}ox proteins.}
| ^
checkRd: (-1) SELEX.Rd:114: Lost braces
114 | \href{http://www.ncbi.nlm.nih.gov/pubmed/22153072}{{C}ofactor binding evokes latent differences in {D}{N}{A} binding specificity between {H}ox proteins.}
| ^
checkRd: (-1) SELEX.Rd:118: Lost braces
118 | \href{http://www.ncbi.nlm.nih.gov/pubmed/25151169}{{S}{E}{L}{E}{X}-seq: a method for characterizing the complete repertoire of binding site preferences for transcription factor complexes.}
| ^
checkRd: (-1) SELEX.Rd:118: Lost braces
118 | \href{http://www.ncbi.nlm.nih.gov/pubmed/25151169}{{S}{E}{L}{E}{X}-seq: a method for characterizing the complete repertoire of binding site preferences for transcription factor complexes.}
| ^
checkRd: (-1) SELEX.Rd:118: Lost braces
118 | \href{http://www.ncbi.nlm.nih.gov/pubmed/25151169}{{S}{E}{L}{E}{X}-seq: a method for characterizing the complete repertoire of binding site preferences for transcription factor complexes.}
| ^
checkRd: (-1) SELEX.Rd:118: Lost braces
118 | \href{http://www.ncbi.nlm.nih.gov/pubmed/25151169}{{S}{E}{L}{E}{X}-seq: a method for characterizing the complete repertoire of binding site preferences for transcription factor complexes.}
| ^
checkRd: (-1) selex.affinities.Rd:33: Lost braces
33 | \href{http://www.ncbi.nlm.nih.gov/pubmed/22153072}{{C}ofactor binding evokes latent differences in {D}{N}{A} binding specificity between {H}ox proteins.}
| ^
checkRd: (-1) selex.affinities.Rd:33: Lost braces
33 | \href{http://www.ncbi.nlm.nih.gov/pubmed/22153072}{{C}ofactor binding evokes latent differences in {D}{N}{A} binding specificity between {H}ox proteins.}
| ^
checkRd: (-1) selex.affinities.Rd:37: Lost braces
37 | \href{http://www.ncbi.nlm.nih.gov/pubmed/25151169}{{S}{E}{L}{E}{X}-seq: a method for characterizing the complete repertoire of binding site preferences for transcription factor complexes.}
| ^
checkRd: (-1) selex.affinities.Rd:37: Lost braces
37 | \href{http://www.ncbi.nlm.nih.gov/pubmed/25151169}{{S}{E}{L}{E}{X}-seq: a method for characterizing the complete repertoire of binding site preferences for transcription factor complexes.}
| ^
checkRd: (-1) selex.affinities.Rd:37: Lost braces
37 | \href{http://www.ncbi.nlm.nih.gov/pubmed/25151169}{{S}{E}{L}{E}{X}-seq: a method for characterizing the complete repertoire of binding site preferences for transcription factor complexes.}
| ^
checkRd: (-1) selex.affinities.Rd:37: Lost braces
37 | \href{http://www.ncbi.nlm.nih.gov/pubmed/25151169}{{S}{E}{L}{E}{X}-seq: a method for characterizing the complete repertoire of binding site preferences for transcription factor complexes.}
| ^
checkRd: (-1) selex.counts.Rd:38: Lost braces
38 | \href{http://www.ncbi.nlm.nih.gov/pubmed/22153072}{{C}ofactor binding evokes latent differences in {D}{N}{A} binding specificity between {H}ox proteins.}
| ^
checkRd: (-1) selex.counts.Rd:38: Lost braces
38 | \href{http://www.ncbi.nlm.nih.gov/pubmed/22153072}{{C}ofactor binding evokes latent differences in {D}{N}{A} binding specificity between {H}ox proteins.}
| ^
checkRd: (-1) selex.counts.Rd:42: Lost braces
42 | \href{http://www.ncbi.nlm.nih.gov/pubmed/25151169}{{S}{E}{L}{E}{X}-seq: a method for characterizing the complete repertoire of binding site preferences for transcription factor complexes.}
| ^
checkRd: (-1) selex.counts.Rd:42: Lost braces
42 | \href{http://www.ncbi.nlm.nih.gov/pubmed/25151169}{{S}{E}{L}{E}{X}-seq: a method for characterizing the complete repertoire of binding site preferences for transcription factor complexes.}
| ^
checkRd: (-1) selex.counts.Rd:42: Lost braces
42 | \href{http://www.ncbi.nlm.nih.gov/pubmed/25151169}{{S}{E}{L}{E}{X}-seq: a method for characterizing the complete repertoire of binding site preferences for transcription factor complexes.}
| ^
checkRd: (-1) selex.counts.Rd:42: Lost braces
42 | \href{http://www.ncbi.nlm.nih.gov/pubmed/25151169}{{S}{E}{L}{E}{X}-seq: a method for characterizing the complete repertoire of binding site preferences for transcription factor complexes.}
| ^
checkRd: (-1) selex.infogain.Rd:27: Lost braces
27 | \href{http://www.ncbi.nlm.nih.gov/pubmed/22153072}{{C}ofactor binding evokes latent differences in {D}{N}{A} binding specificity between {H}ox proteins.}
| ^
checkRd: (-1) selex.infogain.Rd:27: Lost braces
27 | \href{http://www.ncbi.nlm.nih.gov/pubmed/22153072}{{C}ofactor binding evokes latent differences in {D}{N}{A} binding specificity between {H}ox proteins.}
| ^
checkRd: (-1) selex.infogain.Rd:31: Lost braces
31 | \href{http://www.ncbi.nlm.nih.gov/pubmed/25151169}{{S}{E}{L}{E}{X}-seq: a method for characterizing the complete repertoire of binding site preferences for transcription factor complexes.}
| ^
checkRd: (-1) selex.infogain.Rd:31: Lost braces
31 | \href{http://www.ncbi.nlm.nih.gov/pubmed/25151169}{{S}{E}{L}{E}{X}-seq: a method for characterizing the complete repertoire of binding site preferences for transcription factor complexes.}
| ^
checkRd: (-1) selex.infogain.Rd:31: Lost braces
31 | \href{http://www.ncbi.nlm.nih.gov/pubmed/25151169}{{S}{E}{L}{E}{X}-seq: a method for characterizing the complete repertoire of binding site preferences for transcription factor complexes.}
| ^
checkRd: (-1) selex.infogain.Rd:31: Lost braces
31 | \href{http://www.ncbi.nlm.nih.gov/pubmed/25151169}{{S}{E}{L}{E}{X}-seq: a method for characterizing the complete repertoire of binding site preferences for transcription factor complexes.}
| ^
checkRd: (-1) selex.mm.Rd:60: Lost braces
60 | \href{http://www.ncbi.nlm.nih.gov/pubmed/22153072}{{C}ofactor binding evokes latent differences in {D}{N}{A} binding specificity between {H}ox proteins.}
| ^
checkRd: (-1) selex.mm.Rd:60: Lost braces
60 | \href{http://www.ncbi.nlm.nih.gov/pubmed/22153072}{{C}ofactor binding evokes latent differences in {D}{N}{A} binding specificity between {H}ox proteins.}
| ^
checkRd: (-1) selex.mm.Rd:64: Lost braces
64 | \href{http://www.ncbi.nlm.nih.gov/pubmed/25151169}{{S}{E}{L}{E}{X}-seq: a method for characterizing the complete repertoire of binding site preferences for transcription factor complexes.}
| ^
checkRd: (-1) selex.mm.Rd:64: Lost braces
64 | \href{http://www.ncbi.nlm.nih.gov/pubmed/25151169}{{S}{E}{L}{E}{X}-seq: a method for characterizing the complete repertoire of binding site preferences for transcription factor complexes.}
| ^
checkRd: (-1) selex.mm.Rd:64: Lost braces
64 | \href{http://www.ncbi.nlm.nih.gov/pubmed/25151169}{{S}{E}{L}{E}{X}-seq: a method for characterizing the complete repertoire of binding site preferences for transcription factor complexes.}
| ^
checkRd: (-1) selex.mm.Rd:64: Lost braces
64 | \href{http://www.ncbi.nlm.nih.gov/pubmed/25151169}{{S}{E}{L}{E}{X}-seq: a method for characterizing the complete repertoire of binding site preferences for transcription factor complexes.}
| ^
checkRd: (-1) selex.mmProb.Rd:39: Lost braces
39 | \href{http://www.ncbi.nlm.nih.gov/pubmed/22153072}{{C}ofactor binding evokes latent differences in {D}{N}{A} binding specificity between {H}ox proteins.}
| ^
checkRd: (-1) selex.mmProb.Rd:39: Lost braces
39 | \href{http://www.ncbi.nlm.nih.gov/pubmed/22153072}{{C}ofactor binding evokes latent differences in {D}{N}{A} binding specificity between {H}ox proteins.}
| ^
checkRd: (-1) selex.mmProb.Rd:43: Lost braces
43 | \href{http://www.ncbi.nlm.nih.gov/pubmed/25151169}{{S}{E}{L}{E}{X}-seq: a method for characterizing the complete repertoire of binding site preferences for transcription factor complexes.}
| ^
checkRd: (-1) selex.mmProb.Rd:43: Lost braces
43 | \href{http://www.ncbi.nlm.nih.gov/pubmed/25151169}{{S}{E}{L}{E}{X}-seq: a method for characterizing the complete repertoire of binding site preferences for transcription factor complexes.}
| ^
checkRd: (-1) selex.mmProb.Rd:43: Lost braces
43 | \href{http://www.ncbi.nlm.nih.gov/pubmed/25151169}{{S}{E}{L}{E}{X}-seq: a method for characterizing the complete repertoire of binding site preferences for transcription factor complexes.}
| ^
checkRd: (-1) selex.mmProb.Rd:43: Lost braces
43 | \href{http://www.ncbi.nlm.nih.gov/pubmed/25151169}{{S}{E}{L}{E}{X}-seq: a method for characterizing the complete repertoire of binding site preferences for transcription factor complexes.}
| ^
checkRd: (-1) selex.run.Rd:34: Lost braces
34 | \href{http://www.ncbi.nlm.nih.gov/pubmed/22153072}{{C}ofactor binding evokes latent differences in {D}{N}{A} binding specificity between {H}ox proteins.}
| ^
checkRd: (-1) selex.run.Rd:34: Lost braces
34 | \href{http://www.ncbi.nlm.nih.gov/pubmed/22153072}{{C}ofactor binding evokes latent differences in {D}{N}{A} binding specificity between {H}ox proteins.}
| ^
checkRd: (-1) selex.run.Rd:38: Lost braces
38 | \href{http://www.ncbi.nlm.nih.gov/pubmed/25151169}{{S}{E}{L}{E}{X}-seq: a method for characterizing the complete repertoire of binding site preferences for transcription factor complexes.}
| ^
checkRd: (-1) selex.run.Rd:38: Lost braces
38 | \href{http://www.ncbi.nlm.nih.gov/pubmed/25151169}{{S}{E}{L}{E}{X}-seq: a method for characterizing the complete repertoire of binding site preferences for transcription factor complexes.}
| ^
checkRd: (-1) selex.run.Rd:38: Lost braces
38 | \href{http://www.ncbi.nlm.nih.gov/pubmed/25151169}{{S}{E}{L}{E}{X}-seq: a method for characterizing the complete repertoire of binding site preferences for transcription factor complexes.}
| ^
checkRd: (-1) selex.run.Rd:38: Lost braces
38 | \href{http://www.ncbi.nlm.nih.gov/pubmed/25151169}{{S}{E}{L}{E}{X}-seq: a method for characterizing the complete repertoire of binding site preferences for transcription factor complexes.}
| ^
* checking Rd metadata ... OK
* checking Rd cross-references ... OK
* checking for missing documentation entries ... OK
* checking for code/documentation mismatches ... OK
* checking Rd \usage sections ... OK
* checking Rd contents ... OK
* checking for unstated dependencies in examples ... OK
* checking line endings in Makefiles ... OK
* checking for GNU extensions in Makefiles ... OK
* checking include directives in Makefiles ... OK
* checking sizes of PDF files under ‘inst/doc’ ... OK
* checking files in ‘vignettes’ ... OK
* checking examples ... OK
Examples with CPU (user + system) or elapsed time > 5s
user system elapsed
SELEX 18.771 2.501 7.043
selex.seqfilter 9.677 0.988 2.734
* checking for unstated dependencies in vignettes ... OK
* checking package vignettes ... OK
* checking running R code from vignettes ... SKIPPED
* checking re-building of vignette outputs ... SKIPPED
* checking PDF version of manual ... OK
* DONE
Status: 1 NOTE
See
‘/Users/biocbuild/bbs-3.21-bioc/meat/SELEX.Rcheck/00check.log’
for details.
SELEX.Rcheck/00install.out
############################################################################## ############################################################################## ### ### Running command: ### ### /Library/Frameworks/R.framework/Resources/bin/R CMD INSTALL SELEX ### ############################################################################## ############################################################################## * installing to library ‘/Library/Frameworks/R.framework/Versions/4.5-x86_64/Resources/library’ * installing *source* package ‘SELEX’ ... ** this is package ‘SELEX’ version ‘1.40.0’ ** using staged installation ** R ** inst ** byte-compile and prepare package for lazy loading ** help *** installing help indices ** building package indices ** installing vignettes ** testing if installed package can be loaded from temporary location ** testing if installed package can be loaded from final location ** testing if installed package keeps a record of temporary installation path * DONE (SELEX)
SELEX.Rcheck/SELEX-Ex.timings
| name | user | system | elapsed | |
| SELEX | 18.771 | 2.501 | 7.043 | |
| selex.affinities | 0.849 | 0.050 | 0.325 | |
| selex.config | 0.111 | 0.012 | 0.037 | |
| selex.countSummary | 0.826 | 0.050 | 0.331 | |
| selex.counts | 1.445 | 0.063 | 0.509 | |
| selex.defineSample | 0.167 | 0.016 | 0.048 | |
| selex.exampledata | 0.120 | 0.011 | 0.029 | |
| selex.fastqPSFM | 0.929 | 0.050 | 0.283 | |
| selex.getAttributes | 0.230 | 0.016 | 0.057 | |
| selex.getRound0 | 0.257 | 0.021 | 0.101 | |
| selex.getSeqfilter | 0.094 | 0.007 | 0.027 | |
| selex.infogain | 1.866 | 0.099 | 0.451 | |
| selex.infogainSummary | 0.785 | 0.043 | 0.232 | |
| selex.jvmStatus | 0.074 | 0.005 | 0.030 | |
| selex.kmax | 0.667 | 0.259 | 0.690 | |
| selex.kmerPSFM | 0.277 | 0.061 | 0.216 | |
| selex.loadAnnotation | 0.243 | 0.015 | 0.087 | |
| selex.mm | 0.539 | 0.025 | 0.201 | |
| selex.mmProb | 0.564 | 0.034 | 0.188 | |
| selex.mmSummary | 0.556 | 0.032 | 0.220 | |
| selex.revcomp | 0.904 | 0.042 | 0.346 | |
| selex.run | 1.950 | 0.107 | 0.489 | |
| selex.sample | 0.319 | 0.012 | 0.075 | |
| selex.samplePSFM | 0.910 | 0.037 | 0.200 | |
| selex.sampleSummary | 0.333 | 0.016 | 0.073 | |
| selex.saveAnnotation | 0.168 | 0.014 | 0.042 | |
| selex.seqfilter | 9.677 | 0.988 | 2.734 | |
| selex.setwd | 0.070 | 0.003 | 0.020 | |
| selex.split | 0.333 | 0.034 | 0.160 | |
| selex.summary | 0.541 | 0.065 | 0.469 | |