| Back to Multiple platform build/check report for BioC 3.21: simplified long |
|
This page was generated on 2025-04-22 13:16 -0400 (Tue, 22 Apr 2025).
| Hostname | OS | Arch (*) | R version | Installed pkgs |
|---|---|---|---|---|
| nebbiolo1 | Linux (Ubuntu 24.04.1 LTS) | x86_64 | 4.5.0 RC (2025-04-04 r88126) -- "How About a Twenty-Six" | 4831 |
| palomino7 | Windows Server 2022 Datacenter | x64 | 4.5.0 RC (2025-04-04 r88126 ucrt) -- "How About a Twenty-Six" | 4573 |
| lconway | macOS 12.7.1 Monterey | x86_64 | 4.5.0 RC (2025-04-04 r88126) -- "How About a Twenty-Six" | 4599 |
| kjohnson3 | macOS 13.7.1 Ventura | arm64 | 4.5.0 RC (2025-04-04 r88126) -- "How About a Twenty-Six" | 4553 |
| kunpeng2 | Linux (openEuler 24.03 LTS) | aarch64 | R Under development (unstable) (2025-02-19 r87757) -- "Unsuffered Consequences" | 4570 |
| Click on any hostname to see more info about the system (e.g. compilers) (*) as reported by 'uname -p', except on Windows and Mac OS X | ||||
| Package 1714/2341 | Hostname | OS / Arch | INSTALL | BUILD | CHECK | BUILD BIN | ||||||||
| RcisTarget 1.28.0 (landing page) Gert Hulselmans
| nebbiolo1 | Linux (Ubuntu 24.04.1 LTS) / x86_64 | OK | OK | OK | |||||||||
| palomino7 | Windows Server 2022 Datacenter / x64 | OK | OK | OK | OK | |||||||||
| lconway | macOS 12.7.1 Monterey / x86_64 | OK | OK | OK | OK | |||||||||
| kjohnson3 | macOS 13.7.1 Ventura / arm64 | OK | OK | OK | OK | |||||||||
| kunpeng2 | Linux (openEuler 24.03 LTS) / aarch64 | OK | OK | OK | ||||||||||
|
To the developers/maintainers of the RcisTarget package: - Allow up to 24 hours (and sometimes 48 hours) for your latest push to git@git.bioconductor.org:packages/RcisTarget.git to reflect on this report. See Troubleshooting Build Report for more information. - Use the following Renviron settings to reproduce errors and warnings. - If 'R CMD check' started to fail recently on the Linux builder(s) over a missing dependency, add the missing dependency to 'Suggests:' in your DESCRIPTION file. See Renviron.bioc for more information. |
| Package: RcisTarget |
| Version: 1.28.0 |
| Command: /Library/Frameworks/R.framework/Resources/bin/R CMD check --install=check:RcisTarget.install-out.txt --library=/Library/Frameworks/R.framework/Resources/library --no-vignettes --timings RcisTarget_1.28.0.tar.gz |
| StartedAt: 2025-04-21 22:56:10 -0400 (Mon, 21 Apr 2025) |
| EndedAt: 2025-04-21 23:02:39 -0400 (Mon, 21 Apr 2025) |
| EllapsedTime: 388.8 seconds |
| RetCode: 0 |
| Status: OK |
| CheckDir: RcisTarget.Rcheck |
| Warnings: 0 |
##############################################################################
##############################################################################
###
### Running command:
###
### /Library/Frameworks/R.framework/Resources/bin/R CMD check --install=check:RcisTarget.install-out.txt --library=/Library/Frameworks/R.framework/Resources/library --no-vignettes --timings RcisTarget_1.28.0.tar.gz
###
##############################################################################
##############################################################################
* using log directory ‘/Users/biocbuild/bbs-3.21-bioc/meat/RcisTarget.Rcheck’
* using R version 4.5.0 RC (2025-04-04 r88126)
* using platform: x86_64-apple-darwin20
* R was compiled by
Apple clang version 14.0.0 (clang-1400.0.29.202)
GNU Fortran (GCC) 14.2.0
* running under: macOS Monterey 12.7.6
* using session charset: UTF-8
* using option ‘--no-vignettes’
* checking for file ‘RcisTarget/DESCRIPTION’ ... OK
* checking extension type ... Package
* this is package ‘RcisTarget’ version ‘1.28.0’
* checking package namespace information ... OK
* checking package dependencies ... OK
* checking if this is a source package ... OK
* checking if there is a namespace ... OK
* checking for hidden files and directories ... OK
* checking for portable file names ... OK
* checking for sufficient/correct file permissions ... OK
* checking whether package ‘RcisTarget’ can be installed ... OK
* checking installed package size ... INFO
installed size is 12.0Mb
sub-directories of 1Mb or more:
data 11.4Mb
* checking package directory ... OK
* checking ‘build’ directory ... OK
* checking DESCRIPTION meta-information ... OK
* checking top-level files ... OK
* checking for left-over files ... OK
* checking index information ... OK
* checking package subdirectories ... OK
* checking code files for non-ASCII characters ... OK
* checking R files for syntax errors ... OK
* checking whether the package can be loaded ... OK
* checking whether the package can be loaded with stated dependencies ... OK
* checking whether the package can be unloaded cleanly ... OK
* checking whether the namespace can be loaded with stated dependencies ... OK
* checking whether the namespace can be unloaded cleanly ... OK
* checking dependencies in R code ... OK
* checking S3 generic/method consistency ... OK
* checking replacement functions ... OK
* checking foreign function calls ... OK
* checking R code for possible problems ... OK
* checking Rd files ... NOTE
checkRd: (-1) dbRegionsLoc.Rd:11-14: Lost braces in \itemize; meant \describe ?
checkRd: (-1) dbRegionsLoc.Rd:16-19: Lost braces in \itemize; meant \describe ?
checkRd: (-1) importAnnotations.Rd:44: Lost braces in \itemize; meant \describe ?
checkRd: (-1) importAnnotations.Rd:45: Lost braces in \itemize; meant \describe ?
checkRd: (-1) importAnnotations.Rd:46: Lost braces in \itemize; meant \describe ?
checkRd: (-1) importAnnotations.Rd:48-51: Lost braces in \itemize; meant \describe ?
checkRd: (-1) importAnnotations.Rd:24: Lost braces in \itemize; \value handles \item{}{} directly
checkRd: (-1) importAnnotations.Rd:25: Lost braces in \itemize; \value handles \item{}{} directly
checkRd: (-1) importAnnotations.Rd:27-31: Lost braces in \itemize; \value handles \item{}{} directly
checkRd: (-1) importAnnotations.Rd:32: Lost braces in \itemize; \value handles \item{}{} directly
checkRd: (-1) importAnnotations.Rd:33-36: Lost braces in \itemize; \value handles \item{}{} directly
checkRd: (-1) motifAnnotations.Rd:18-20: Lost braces in \itemize; meant \describe ?
checkRd: (-1) motifAnnotations.Rd:22-24: Lost braces in \itemize; meant \describe ?
checkRd: (-1) motifAnnotations.Rd:26-28: Lost braces in \itemize; meant \describe ?
checkRd: (-1) motifAnnotations.Rd:54: Lost braces in \itemize; meant \describe ?
checkRd: (-1) motifAnnotations.Rd:55: Lost braces in \itemize; meant \describe ?
checkRd: (-1) motifAnnotations.Rd:58-61: Lost braces in \itemize; meant \describe ?
checkRd: (-1) motifAnnotations.Rd:62: Lost braces in \itemize; meant \describe ?
checkRd: (-1) motifAnnotations.Rd:63-66: Lost braces in \itemize; meant \describe ?
* checking Rd metadata ... OK
* checking Rd cross-references ... NOTE
Found the following Rd file(s) with Rd \link{} targets missing package
anchors:
RcisTarget.Rd: GeneSet, GeneSetCollection
calcAUC.Rd: GeneSet, GeneSetCollection
Please provide package anchors for all Rd \link{} targets not in the
package itself and the base packages.
* checking for missing documentation entries ... OK
* checking for code/documentation mismatches ... OK
* checking Rd \usage sections ... OK
* checking Rd contents ... OK
* checking for unstated dependencies in examples ... OK
* checking contents of ‘data’ directory ... OK
* checking data for non-ASCII characters ... OK
* checking data for ASCII and uncompressed saves ... OK
* checking files in ‘vignettes’ ... OK
* checking examples ... OK
Examples with CPU (user + system) or elapsed time > 5s
user system elapsed
addMotifAnnotation 17.743 0.639 18.530
addSignificantGenes 14.606 1.774 16.551
getMotifAnnotation 7.568 0.776 8.436
aucScores-class 6.700 0.422 7.190
reRank 6.221 0.428 6.733
rankingRcisTarget-class 5.590 0.155 5.801
* checking for unstated dependencies in ‘tests’ ... OK
* checking tests ...
Running ‘testthat.R’
OK
* checking for unstated dependencies in vignettes ... OK
* checking package vignettes ... OK
* checking running R code from vignettes ... SKIPPED
* checking re-building of vignette outputs ... SKIPPED
* checking PDF version of manual ... OK
* DONE
Status: 2 NOTEs
See
‘/Users/biocbuild/bbs-3.21-bioc/meat/RcisTarget.Rcheck/00check.log’
for details.
RcisTarget.Rcheck/00install.out
############################################################################## ############################################################################## ### ### Running command: ### ### /Library/Frameworks/R.framework/Resources/bin/R CMD INSTALL RcisTarget ### ############################################################################## ############################################################################## * installing to library ‘/Library/Frameworks/R.framework/Versions/4.5-x86_64/Resources/library’ * installing *source* package ‘RcisTarget’ ... ** this is package ‘RcisTarget’ version ‘1.28.0’ ** using staged installation ** R ** data ** inst ** byte-compile and prepare package for lazy loading ** help *** installing help indices ** building package indices ** installing vignettes ** testing if installed package can be loaded from temporary location ** testing if installed package can be loaded from final location ** testing if installed package keeps a record of temporary installation path * DONE (RcisTarget)
RcisTarget.Rcheck/tests/testthat.Rout
R version 4.5.0 RC (2025-04-04 r88126) -- "How About a Twenty-Six"
Copyright (C) 2025 The R Foundation for Statistical Computing
Platform: x86_64-apple-darwin20
R is free software and comes with ABSOLUTELY NO WARRANTY.
You are welcome to redistribute it under certain conditions.
Type 'license()' or 'licence()' for distribution details.
R is a collaborative project with many contributors.
Type 'contributors()' for more information and
'citation()' on how to cite R or R packages in publications.
Type 'demo()' for some demos, 'help()' for on-line help, or
'help.start()' for an HTML browser interface to help.
Type 'q()' to quit R.
> library(testthat)
> library(RcisTarget)
>
> test_check("RcisTarget")
[ FAIL 0 | WARN 0 | SKIP 0 | PASS 58 ]
>
> proc.time()
user system elapsed
41.975 3.938 45.530
RcisTarget.Rcheck/RcisTarget-Ex.timings
| name | user | system | elapsed | |
| RcisTarget | 0.155 | 0.047 | 0.209 | |
| addLogo | 0.127 | 0.037 | 0.165 | |
| addMotifAnnotation | 17.743 | 0.639 | 18.530 | |
| addSignificantGenes | 14.606 | 1.774 | 16.551 | |
| aucScores-class | 6.700 | 0.422 | 7.190 | |
| calcAUC | 0.000 | 0.000 | 0.001 | |
| convertToTargetRegions | 0.000 | 0.000 | 0.001 | |
| getDbRegionsLoc | 0.000 | 0.001 | 0.000 | |
| getMotifAnnotation | 7.568 | 0.776 | 8.436 | |
| importAnnotations | 0.751 | 0.016 | 0.774 | |
| importRankings | 0.649 | 0.009 | 0.664 | |
| rankingRcisTarget-class | 5.590 | 0.155 | 5.801 | |
| reRank | 6.221 | 0.428 | 6.733 | |
| showLogo | 0.041 | 0.020 | 0.061 | |