Back to Multiple platform build/check report for BioC 3.21: simplified long |
|
This page was generated on 2025-02-15 11:43 -0500 (Sat, 15 Feb 2025).
Hostname | OS | Arch (*) | R version | Installed pkgs |
---|---|---|---|---|
nebbiolo1 | Linux (Ubuntu 24.04.1 LTS) | x86_64 | R Under development (unstable) (2025-01-20 r87609) -- "Unsuffered Consequences" | 4720 |
palomino7 | Windows Server 2022 Datacenter | x64 | R Under development (unstable) (2025-01-21 r87610 ucrt) -- "Unsuffered Consequences" | 4482 |
lconway | macOS 12.7.1 Monterey | x86_64 | R Under development (unstable) (2025-01-22 r87618) -- "Unsuffered Consequences" | 4493 |
kjohnson3 | macOS 13.7.1 Ventura | arm64 | R Under development (unstable) (2025-01-20 r87609) -- "Unsuffered Consequences" | 4446 |
Click on any hostname to see more info about the system (e.g. compilers) (*) as reported by 'uname -p', except on Windows and Mac OS X |
Package 1653/2295 | Hostname | OS / Arch | INSTALL | BUILD | CHECK | BUILD BIN | ||||||||
RadioGx 2.11.0 (landing page) Benjamin Haibe-Kains
| nebbiolo1 | Linux (Ubuntu 24.04.1 LTS) / x86_64 | OK | OK | OK | ![]() | ||||||||
palomino7 | Windows Server 2022 Datacenter / x64 | OK | OK | OK | OK | ![]() | ||||||||
lconway | macOS 12.7.1 Monterey / x86_64 | OK | OK | OK | OK | ![]() | ||||||||
kjohnson3 | macOS 13.7.1 Ventura / arm64 | OK | OK | OK | OK | ![]() | ||||||||
To the developers/maintainers of the RadioGx package: - Allow up to 24 hours (and sometimes 48 hours) for your latest push to git@git.bioconductor.org:packages/RadioGx.git to reflect on this report. See Troubleshooting Build Report for more information. - Use the following Renviron settings to reproduce errors and warnings. - If 'R CMD check' started to fail recently on the Linux builder(s) over a missing dependency, add the missing dependency to 'Suggests:' in your DESCRIPTION file. See Renviron.bioc for more information. |
Package: RadioGx |
Version: 2.11.0 |
Command: /Library/Frameworks/R.framework/Resources/bin/R CMD check --install=check:RadioGx.install-out.txt --library=/Library/Frameworks/R.framework/Resources/library --no-vignettes --timings RadioGx_2.11.0.tar.gz |
StartedAt: 2025-02-14 22:30:08 -0500 (Fri, 14 Feb 2025) |
EndedAt: 2025-02-14 22:34:53 -0500 (Fri, 14 Feb 2025) |
EllapsedTime: 285.2 seconds |
RetCode: 0 |
Status: OK |
CheckDir: RadioGx.Rcheck |
Warnings: 0 |
############################################################################## ############################################################################## ### ### Running command: ### ### /Library/Frameworks/R.framework/Resources/bin/R CMD check --install=check:RadioGx.install-out.txt --library=/Library/Frameworks/R.framework/Resources/library --no-vignettes --timings RadioGx_2.11.0.tar.gz ### ############################################################################## ############################################################################## * using log directory ‘/Users/biocbuild/bbs-3.21-bioc/meat/RadioGx.Rcheck’ * using R Under development (unstable) (2025-01-22 r87618) * using platform: x86_64-apple-darwin20 * R was compiled by Apple clang version 14.0.0 (clang-1400.0.29.202) GNU Fortran (GCC) 14.2.0 * running under: macOS Monterey 12.7.6 * using session charset: UTF-8 * using option ‘--no-vignettes’ * checking for file ‘RadioGx/DESCRIPTION’ ... OK * checking extension type ... Package * this is package ‘RadioGx’ version ‘2.11.0’ * package encoding: UTF-8 * checking package namespace information ... OK * checking package dependencies ... OK * checking if this is a source package ... OK * checking if there is a namespace ... OK * checking for hidden files and directories ... OK * checking for portable file names ... OK * checking for sufficient/correct file permissions ... OK * checking whether package ‘RadioGx’ can be installed ... OK * checking installed package size ... OK * checking package directory ... OK * checking ‘build’ directory ... OK * checking DESCRIPTION meta-information ... OK * checking top-level files ... OK * checking for left-over files ... OK * checking index information ... OK * checking package subdirectories ... OK * checking code files for non-ASCII characters ... OK * checking R files for syntax errors ... OK * checking whether the package can be loaded ... OK * checking whether the package can be loaded with stated dependencies ... OK * checking whether the package can be unloaded cleanly ... OK * checking whether the namespace can be loaded with stated dependencies ... OK * checking whether the namespace can be unloaded cleanly ... OK * checking whether startup messages can be suppressed ... OK * checking dependencies in R code ... OK * checking S3 generic/method consistency ... OK * checking replacement functions ... OK * checking foreign function calls ... OK * checking R code for possible problems ... OK * checking Rd files ... OK * checking Rd metadata ... OK * checking Rd cross-references ... OK * checking for missing documentation entries ... OK * checking for code/documentation mismatches ... OK * checking Rd \usage sections ... OK * checking Rd contents ... OK * checking for unstated dependencies in examples ... OK * checking contents of ‘data’ directory ... OK * checking data for non-ASCII characters ... OK * checking LazyData ... OK * checking data for ASCII and uncompressed saves ... OK * checking files in ‘vignettes’ ... OK * checking examples ... OK * checking for unstated dependencies in vignettes ... OK * checking package vignettes ... OK * checking running R code from vignettes ... SKIPPED * checking re-building of vignette outputs ... SKIPPED * checking PDF version of manual ... OK * DONE Status: OK
RadioGx.Rcheck/00install.out
############################################################################## ############################################################################## ### ### Running command: ### ### /Library/Frameworks/R.framework/Resources/bin/R CMD INSTALL RadioGx ### ############################################################################## ############################################################################## * installing to library ‘/Library/Frameworks/R.framework/Versions/4.5-x86_64/Resources/library’ * installing *source* package ‘RadioGx’ ... ** this is package ‘RadioGx’ version ‘2.11.0’ ** using staged installation ** R ** data *** moving datasets to lazyload DB ** inst ** byte-compile and prepare package for lazy loading ** help *** installing help indices ** building package indices ** installing vignettes ** testing if installed package can be loaded from temporary location ** testing if installed package can be loaded from final location ** testing if installed package keeps a record of temporary installation path * DONE (RadioGx)
RadioGx.Rcheck/RadioGx-Ex.timings
name | user | system | elapsed | |
RadioSet-accessors | 1.615 | 0.192 | 1.825 | |
availableRSets | 0 | 0 | 0 | |
checkRSetStructure | 0.449 | 0.009 | 0.460 | |
computeAUC | 0.002 | 0.000 | 0.002 | |
computeD10 | 0 | 0 | 0 | |
computeSF2 | 0.000 | 0.001 | 0.001 | |
dim-RadioSet-method | 1.012 | 0.011 | 1.033 | |
doseResponseCurve | 0.420 | 0.018 | 0.440 | |
downloadRSet | 0 | 0 | 0 | |
linearQuadraticModel | 0.002 | 0.001 | 0.003 | |
plotCurve | 0.024 | 0.003 | 0.027 | |
radSensitivitySig | 0.710 | 0.039 | 0.769 | |
show-RadioSet-method | 0.403 | 0.009 | 0.418 | |
show-RadioSig-method | 0.601 | 0.035 | 0.659 | |
showSigAnnot-RadioSig-method | 0.647 | 0.039 | 0.709 | |
sub-RadioSet-ANY-ANY-ANY-method | 0.535 | 0.011 | 0.549 | |
subsetTo-RadioSet-method | 0.837 | 0.012 | 0.859 | |
summarizeMolecularProfiles-RadioSet-method | 0.440 | 0.006 | 0.450 | |
summarizeSensitivityProfiles-RadioSet-method | 0.342 | 0.008 | 0.353 | |