Back to Multiple platform build/check report for BioC 3.21:   simplified   long
ABCDEFGHIJKLMNOPQ[R]STUVWXYZ

This page was generated on 2025-02-15 11:40 -0500 (Sat, 15 Feb 2025).

HostnameOSArch (*)R versionInstalled pkgs
nebbiolo1Linux (Ubuntu 24.04.1 LTS)x86_64R Under development (unstable) (2025-01-20 r87609) -- "Unsuffered Consequences" 4720
palomino7Windows Server 2022 Datacenterx64R Under development (unstable) (2025-01-21 r87610 ucrt) -- "Unsuffered Consequences" 4482
lconwaymacOS 12.7.1 Montereyx86_64R Under development (unstable) (2025-01-22 r87618) -- "Unsuffered Consequences" 4493
kjohnson3macOS 13.7.1 Venturaarm64R Under development (unstable) (2025-01-20 r87609) -- "Unsuffered Consequences" 4446
Click on any hostname to see more info about the system (e.g. compilers)      (*) as reported by 'uname -p', except on Windows and Mac OS X

Package 1765/2295HostnameOS / ArchINSTALLBUILDCHECKBUILD BIN
RMassBank 3.17.0  (landing page)
RMassBank at Eawag
Snapshot Date: 2025-02-14 13:40 -0500 (Fri, 14 Feb 2025)
git_url: https://git.bioconductor.org/packages/RMassBank
git_branch: devel
git_last_commit: 8e633a1
git_last_commit_date: 2024-10-29 09:42:07 -0500 (Tue, 29 Oct 2024)
nebbiolo1Linux (Ubuntu 24.04.1 LTS) / x86_64  OK    OK    OK  UNNEEDED, same version is already published
palomino7Windows Server 2022 Datacenter / x64  OK    OK    OK    OK  UNNEEDED, same version is already published
lconwaymacOS 12.7.1 Monterey / x86_64  OK    OK    OK    OK  UNNEEDED, same version is already published
kjohnson3macOS 13.7.1 Ventura / arm64  OK    ERROR  skippedskipped


CHECK results for RMassBank on nebbiolo1

To the developers/maintainers of the RMassBank package:
- Allow up to 24 hours (and sometimes 48 hours) for your latest push to git@git.bioconductor.org:packages/RMassBank.git to reflect on this report. See Troubleshooting Build Report for more information.
- Use the following Renviron settings to reproduce errors and warnings.
- If 'R CMD check' started to fail recently on the Linux builder(s) over a missing dependency, add the missing dependency to 'Suggests:' in your DESCRIPTION file. See Renviron.bioc for more information.

raw results


Summary

Package: RMassBank
Version: 3.17.0
Command: /home/biocbuild/bbs-3.21-bioc/R/bin/R CMD check --install=check:RMassBank.install-out.txt --library=/home/biocbuild/bbs-3.21-bioc/R/site-library --timings RMassBank_3.17.0.tar.gz
StartedAt: 2025-02-15 01:36:50 -0500 (Sat, 15 Feb 2025)
EndedAt: 2025-02-15 01:48:14 -0500 (Sat, 15 Feb 2025)
EllapsedTime: 684.1 seconds
RetCode: 0
Status:   OK  
CheckDir: RMassBank.Rcheck
Warnings: 0

Command output

##############################################################################
##############################################################################
###
### Running command:
###
###   /home/biocbuild/bbs-3.21-bioc/R/bin/R CMD check --install=check:RMassBank.install-out.txt --library=/home/biocbuild/bbs-3.21-bioc/R/site-library --timings RMassBank_3.17.0.tar.gz
###
##############################################################################
##############################################################################


* using log directory ‘/home/biocbuild/bbs-3.21-bioc/meat/RMassBank.Rcheck’
* using R Under development (unstable) (2025-01-20 r87609)
* using platform: x86_64-pc-linux-gnu
* R was compiled by
    gcc (Ubuntu 13.3.0-6ubuntu2~24.04) 13.3.0
    GNU Fortran (Ubuntu 13.3.0-6ubuntu2~24.04) 13.3.0
* running under: Ubuntu 24.04.2 LTS
* using session charset: UTF-8
* checking for file ‘RMassBank/DESCRIPTION’ ... OK
* checking extension type ... Package
* this is package ‘RMassBank’ version ‘3.17.0’
* package encoding: UTF-8
* checking package namespace information ... OK
* checking package dependencies ... INFO
Imports includes 25 non-default packages.
Importing from so many packages makes the package vulnerable to any of
them becoming unavailable.  Move as many as possible to Suggests and
use conditionally.
* checking if this is a source package ... OK
* checking if there is a namespace ... OK
* checking for hidden files and directories ... NOTE
Found the following hidden files and directories:
  .travis.yml
These were most likely included in error. See section ‘Package
structure’ in the ‘Writing R Extensions’ manual.
* checking for portable file names ... OK
* checking for sufficient/correct file permissions ... OK
* checking whether package ‘RMassBank’ can be installed ... OK
* checking installed package size ... OK
* checking package directory ... OK
* checking ‘build’ directory ... OK
* checking DESCRIPTION meta-information ... OK
* checking top-level files ... OK
* checking for left-over files ... OK
* checking index information ... OK
* checking package subdirectories ... OK
* checking code files for non-ASCII characters ... OK
* checking R files for syntax errors ... OK
* checking whether the package can be loaded ... OK
* checking whether the package can be loaded with stated dependencies ... OK
* checking whether the package can be unloaded cleanly ... OK
* checking whether the namespace can be loaded with stated dependencies ... OK
* checking whether the namespace can be unloaded cleanly ... OK
* checking loading without being on the library search path ... OK
* checking whether startup messages can be suppressed ... OK
* checking dependencies in R code ... OK
* checking S3 generic/method consistency ... OK
* checking replacement functions ... OK
* checking foreign function calls ... OK
* checking R code for possible problems ... OK
* checking Rd files ... NOTE
checkRd: (-1) RmbSettings.Rd:11-16: Lost braces in \itemize; meant \describe ?
checkRd: (-1) RmbSettings.Rd:17-20: Lost braces in \itemize; meant \describe ?
checkRd: (-1) RmbSettings.Rd:21-27: Lost braces in \itemize; meant \describe ?
checkRd: (-1) RmbSettings.Rd:28-31: Lost braces in \itemize; meant \describe ?
checkRd: (-1) RmbSettings.Rd:32-35: Lost braces in \itemize; meant \describe ?
checkRd: (-1) RmbSettings.Rd:36-59: Lost braces in \itemize; meant \describe ?
checkRd: (-1) RmbSettings.Rd:60-62: Lost braces in \itemize; meant \describe ?
checkRd: (-1) RmbSettings.Rd:63-67: Lost braces in \itemize; meant \describe ?
checkRd: (-1) RmbSettings.Rd:68-72: Lost braces in \itemize; meant \describe ?
checkRd: (-1) RmbSettings.Rd:73-75: Lost braces in \itemize; meant \describe ?
checkRd: (-1) RmbSettings.Rd:76-78: Lost braces in \itemize; meant \describe ?
checkRd: (-1) RmbSettings.Rd:79-81: Lost braces in \itemize; meant \describe ?
checkRd: (-1) RmbSettings.Rd:82-86: Lost braces in \itemize; meant \describe ?
checkRd: (-1) RmbSettings.Rd:87-89: Lost braces in \itemize; meant \describe ?
checkRd: (-1) RmbSettings.Rd:90-99: Lost braces in \itemize; meant \describe ?
checkRd: (-1) RmbSettings.Rd:100-134: Lost braces in \itemize; meant \describe ?
checkRd: (-1) RmbSettings.Rd:135-149: Lost braces in \itemize; meant \describe ?
checkRd: (-1) checkIsotopes.Rd:51-53: Lost braces in \itemize; meant \describe ?
checkRd: (-1) filterPeaksMultiplicity.Rd:22-23: Lost braces in \itemize; \value handles \item{}{} directly
checkRd: (-1) findMsMsHR.Rd:49: Lost braces
    49 | to use for formula lookup. Note: In \\code{findMsMsHR.mass}, this is entirely optional and
       |                                           ^
* checking Rd metadata ... OK
* checking Rd cross-references ... NOTE
Found the following Rd file(s) with Rd \link{} targets missing package
anchors:
  RmbSpectrum2-class.Rd: generate.formula
  buildRecord.Rd: normalize
  getMolecule.Rd: parse.smiles
  to.limits.rcdk.Rd: generate.formula
Please provide package anchors for all Rd \link{} targets not in the
package itself and the base packages.
* checking for missing documentation entries ... OK
* checking for code/documentation mismatches ... OK
* checking Rd \usage sections ... OK
* checking Rd contents ... OK
* checking for unstated dependencies in examples ... OK
* checking line endings in Makefiles ... OK
* checking for GNU extensions in Makefiles ... OK
* checking include directives in Makefiles ... OK
* checking files in ‘vignettes’ ... OK
* checking examples ... OK
* checking for unstated dependencies in ‘tests’ ... OK
* checking tests ...
  Running ‘doRUnit.R’
 OK
* checking for unstated dependencies in vignettes ... OK
* checking package vignettes ... OK
* checking re-building of vignette outputs ... OK
* checking PDF version of manual ... OK
* DONE

Status: 3 NOTEs
See
  ‘/home/biocbuild/bbs-3.21-bioc/meat/RMassBank.Rcheck/00check.log’
for details.


Installation output

RMassBank.Rcheck/00install.out

##############################################################################
##############################################################################
###
### Running command:
###
###   /home/biocbuild/bbs-3.21-bioc/R/bin/R CMD INSTALL RMassBank
###
##############################################################################
##############################################################################


* installing to library ‘/home/biocbuild/bbs-3.21-bioc/R/site-library’
* installing *source* package ‘RMassBank’ ...
** this is package ‘RMassBank’ version ‘3.17.0’
** using staged installation
** R
** inst
** byte-compile and prepare package for lazy loading
** help
*** installing help indices
** building package indices
** installing vignettes
** testing if installed package can be loaded from temporary location
** testing if installed package can be loaded from final location
** testing if installed package keeps a record of temporary installation path
* DONE (RMassBank)

Tests output

RMassBank.Rcheck/tests/doRUnit.Rout


R Under development (unstable) (2025-01-20 r87609) -- "Unsuffered Consequences"
Copyright (C) 2025 The R Foundation for Statistical Computing
Platform: x86_64-pc-linux-gnu

R is free software and comes with ABSOLUTELY NO WARRANTY.
You are welcome to redistribute it under certain conditions.
Type 'license()' or 'licence()' for distribution details.

R is a collaborative project with many contributors.
Type 'contributors()' for more information and
'citation()' on how to cite R or R packages in publications.

Type 'demo()' for some demos, 'help()' for on-line help, or
'help.start()' for an HTML browser interface to help.
Type 'q()' to quit R.

> #### doRUnit.R --- Run RUnit tests
> ####------------------------------------------------------------------------
> 
> ### Structure borrowed from rcppgls:
> ### https://github.com/eddelbuettel/rcppgsl/blob/master/tests/doRUnit.R
> 
> if(require("RUnit", quietly = TRUE)) {
+ 	if(require("RMassBankData", quietly = TRUE) && !(compareVersion(installed.packages()["RMassBankData","Version"],"1.99.0") == -1)) {
+ 		pkg <- "RMassBank"
+ 		print("Starting tests")
+ 		require(pkg, character.only=TRUE)
+ 
+ 		path <- system.file("unitTests", package = pkg)
+ 
+ 		stopifnot(file.exists(path), file.info(path.expand(path))$isdir)
+ 
+ 		source(file.path(path, "runTests.R"), echo = TRUE)
+ 	} else {
+ 		## Taking this message out until the new RMassBankData is on bioc, just to avoid confusion.
+         # message("Package RMassBankData with version > 1.99 not available, cannot run unit tests")
+ 	}
+ } else {
+ 	message("Package RUnit not available, cannot run unit tests")
+ }
NULL
> 
> proc.time()
   user  system elapsed 
  0.216   0.057   0.262 

Example timings

RMassBank.Rcheck/RMassBank-Ex.timings

nameusersystemelapsed
CAS2SMILES0.0830.0030.700
CTS.externalIdSubset0.0000.0000.001
CTS.externalIdTypes000
RmbDefaultSettings0.0060.0000.007
add.formula0.0040.0000.005
addMB000
addPeaks000
addPeaksManually000
aggregateSpectra0.0000.0010.001
analyzeMsMs000
annotator.default0.0010.0000.000
archiveResults0.0120.0000.013
cleanElnoise0.0000.0000.001
combineMultiplicities000
compoundlist2SDF000
createCompoundlist000
createMolfile0.0000.0010.001
dbe0.0010.0010.001
deprofile000
dot-parseTitleString0.0000.0010.001
filterCompoundlist000
filterLowaccResults0.0010.0000.000
filterMultiplicity000
filterPeakSatellites0.0000.0010.001
filterPeaksMultiplicity000
findMass0.7320.0270.200
findMsMsHR000
findMsMsHRperxcms000
findMz0.0000.0000.001
findMz.formula0.3590.0230.162
findProgress000
flatten0.0010.0000.000
formulastring.to.list0.0010.0000.001
gatherCCTE000
gatherData0.0000.0000.001
gatherDataBabel000
gatherDataUnknown000
gatherPubChem000
getCASRN000
getCSID0.0000.0000.001
getCactus0.0250.0020.476
getCtsKey0.0860.0040.963
getCtsRecord0.0090.0000.317
getDTXCID000
getDTXSID0.0000.0000.001
getDTXSMILES000
getField000
getMolecule0.0550.0050.041
getPcId0.0900.0010.251
getPrefName000
is.valid.formula0.0010.0000.002
loadInfolists0.0000.0000.001
loadList000
makeRecalibration0.0000.0000.001
mbWorkflow0.0000.0000.001
mergePeaks0.0010.0000.000
order.formula0.0030.0010.004
parseMassBank0.0000.0000.001
parseMbRecord0.0000.0010.000
plotMbWorkspaces000
ppm0.0010.0000.001
problematicPeaks0.1220.0000.121
reanalyzeFailpeaks000
recalibrate000
recalibrate.addMS1data000
smiles2mass0.0000.0000.001
to.limits.rcdk0.0010.0010.001
toMassbank0.0010.0000.000
toRMB000
updateHeader000
updateSettings000
validate0.0000.0000.001