Back to Multiple platform build/check report for BioC 3.21:   simplified   long
ABCDEFGHIJKLMNOPQ[R]STUVWXYZ

This page was generated on 2025-01-28 11:47 -0500 (Tue, 28 Jan 2025).

HostnameOSArch (*)R versionInstalled pkgs
nebbiolo1Linux (Ubuntu 24.04.1 LTS)x86_64R Under development (unstable) (2025-01-20 r87609) -- "Unsuffered Consequences" 4659
palomino7Windows Server 2022 Datacenterx64R Under development (unstable) (2025-01-21 r87610 ucrt) -- "Unsuffered Consequences" 4454
lconwaymacOS 12.7.1 Montereyx86_64R Under development (unstable) (2025-01-22 r87618) -- "Unsuffered Consequences" 4465
kjohnson3macOS 13.7.1 Venturaarm64R Under development (unstable) (2025-01-20 r87609) -- "Unsuffered Consequences" 4419
kunpeng2Linux (openEuler 22.03 LTS-SP1)aarch64R Under development (unstable) (2024-11-24 r87369) -- "Unsuffered Consequences" 4409
Click on any hostname to see more info about the system (e.g. compilers)      (*) as reported by 'uname -p', except on Windows and Mac OS X

Package 1720/2286HostnameOS / ArchINSTALLBUILDCHECKBUILD BIN
RESOLVE 1.9.0  (landing page)
Luca De Sano
Snapshot Date: 2025-01-27 13:40 -0500 (Mon, 27 Jan 2025)
git_url: https://git.bioconductor.org/packages/RESOLVE
git_branch: devel
git_last_commit: 3575d7e
git_last_commit_date: 2024-10-29 11:15:24 -0500 (Tue, 29 Oct 2024)
nebbiolo1Linux (Ubuntu 24.04.1 LTS) / x86_64  OK    OK    OK  UNNEEDED, same version is already published
palomino7Windows Server 2022 Datacenter / x64  OK    OK    OK    OK  UNNEEDED, same version is already published
lconwaymacOS 12.7.1 Monterey / x86_64  OK    OK    OK    OK  UNNEEDED, same version is already published
kjohnson3macOS 13.7.1 Ventura / arm64  OK    OK    OK    OK  UNNEEDED, same version is already published
kunpeng2Linux (openEuler 22.03 LTS-SP1) / aarch64  OK    OK    OK  


CHECK results for RESOLVE on kunpeng2

To the developers/maintainers of the RESOLVE package:
- Allow up to 24 hours (and sometimes 48 hours) for your latest push to git@git.bioconductor.org:packages/RESOLVE.git to reflect on this report. See Troubleshooting Build Report for more information.
- Use the following Renviron settings to reproduce errors and warnings.
- If 'R CMD check' started to fail recently on the Linux builder(s) over a missing dependency, add the missing dependency to 'Suggests:' in your DESCRIPTION file. See Renviron.bioc for more information.
- See Martin Grigorov's blog post for how to debug Linux ARM64 related issues on a x86_64 host.

raw results


Summary

Package: RESOLVE
Version: 1.9.0
Command: /home/biocbuild/R/R/bin/R CMD check --install=check:RESOLVE.install-out.txt --library=/home/biocbuild/R/R/site-library --no-vignettes --timings RESOLVE_1.9.0.tar.gz
StartedAt: 2025-01-28 14:27:17 -0000 (Tue, 28 Jan 2025)
EndedAt: 2025-01-28 14:45:01 -0000 (Tue, 28 Jan 2025)
EllapsedTime: 1064.1 seconds
RetCode: 0
Status:   OK  
CheckDir: RESOLVE.Rcheck
Warnings: 0

Command output

##############################################################################
##############################################################################
###
### Running command:
###
###   /home/biocbuild/R/R/bin/R CMD check --install=check:RESOLVE.install-out.txt --library=/home/biocbuild/R/R/site-library --no-vignettes --timings RESOLVE_1.9.0.tar.gz
###
##############################################################################
##############################################################################


* using log directory ‘/home/biocbuild/bbs-3.21-bioc/meat/RESOLVE.Rcheck’
* using R Under development (unstable) (2024-11-24 r87369)
* using platform: aarch64-unknown-linux-gnu
* R was compiled by
    aarch64-unknown-linux-gnu-gcc (GCC) 14.2.0
    GNU Fortran (GCC) 14.2.0
* running under: openEuler 24.03 (LTS)
* using session charset: UTF-8
* using option ‘--no-vignettes’
* checking for file ‘RESOLVE/DESCRIPTION’ ... OK
* this is package ‘RESOLVE’ version ‘1.9.0’
* package encoding: UTF-8
* checking package namespace information ... OK
* checking package dependencies ... OK
* checking if this is a source package ... OK
* checking if there is a namespace ... OK
* checking for hidden files and directories ... OK
* checking for portable file names ... OK
* checking for sufficient/correct file permissions ... OK
* checking whether package ‘RESOLVE’ can be installed ... OK
* checking installed package size ... OK
* checking package directory ... OK
* checking ‘build’ directory ... OK
* checking DESCRIPTION meta-information ... OK
* checking top-level files ... OK
* checking for left-over files ... OK
* checking index information ... OK
* checking package subdirectories ... OK
* checking code files for non-ASCII characters ... OK
* checking R files for syntax errors ... OK
* checking whether the package can be loaded ... OK
* checking whether the package can be loaded with stated dependencies ... OK
* checking whether the package can be unloaded cleanly ... OK
* checking whether the namespace can be loaded with stated dependencies ... OK
* checking whether the namespace can be unloaded cleanly ... OK
* checking loading without being on the library search path ... OK
* checking dependencies in R code ... OK
* checking S3 generic/method consistency ... OK
* checking replacement functions ... OK
* checking foreign function calls ... OK
* checking R code for possible problems ... OK
* checking Rd files ... OK
* checking Rd metadata ... OK
* checking Rd cross-references ... OK
* checking for missing documentation entries ... OK
* checking for code/documentation mismatches ... OK
* checking Rd \usage sections ... OK
* checking Rd contents ... OK
* checking for unstated dependencies in examples ... OK
* checking contents of ‘data’ directory ... OK
* checking data for non-ASCII characters ... OK
* checking data for ASCII and uncompressed saves ... OK
* checking files in ‘vignettes’ ... OK
* checking examples ... OK
Examples with CPU (user + system) or elapsed time > 5s
                           user system elapsed
signaturesSignificance  157.355  0.403 158.051
signaturesCV            125.004  0.275 125.499
signaturesDecomposition  89.009  0.307  89.484
signaturesAssignment     49.687  0.259  50.040
getMNVCounts             17.942  0.403  18.390
getIDCounts               9.054  0.470   9.854
groupsMNVPlot             6.919  0.104   7.038
groupsIDPlot              6.382  0.044   6.444
groupsSBSPlot             6.222  0.008   6.245
getSBSCounts              1.627  0.424  10.423
* checking for unstated dependencies in ‘tests’ ... OK
* checking tests ...
  Running ‘testthat.R’
 OK
* checking for unstated dependencies in vignettes ... OK
* checking package vignettes ... OK
* checking running R code from vignettes ... SKIPPED
* checking re-building of vignette outputs ... SKIPPED
* checking PDF version of manual ... OK
* DONE

Status: OK


Installation output

RESOLVE.Rcheck/00install.out

##############################################################################
##############################################################################
###
### Running command:
###
###   /home/biocbuild/R/R/bin/R CMD INSTALL RESOLVE
###
##############################################################################
##############################################################################


* installing to library ‘/home/biocbuild/R/R-4.5.0-devel_2024-11-24/site-library’
* installing *source* package ‘RESOLVE’ ...
** using staged installation
** R
** data
** inst
** byte-compile and prepare package for lazy loading
** help
*** installing help indices
** building package indices
** installing vignettes
** testing if installed package can be loaded from temporary location
** testing if installed package can be loaded from final location
** testing if installed package keeps a record of temporary installation path
* DONE (RESOLVE)

Tests output

RESOLVE.Rcheck/tests/testthat.Rout


R Under development (unstable) (2024-11-24 r87369) -- "Unsuffered Consequences"
Copyright (C) 2024 The R Foundation for Statistical Computing
Platform: aarch64-unknown-linux-gnu

R is free software and comes with ABSOLUTELY NO WARRANTY.
You are welcome to redistribute it under certain conditions.
Type 'license()' or 'licence()' for distribution details.

R is a collaborative project with many contributors.
Type 'contributors()' for more information and
'citation()' on how to cite R or R packages in publications.

Type 'demo()' for some demos, 'help()' for on-line help, or
'help.start()' for an HTML browser interface to help.
Type 'q()' to quit R.

> Sys.setenv("R_TESTS" = "")
> 
> library("testthat")
> library("RESOLVE")
> 
> test_check("RESOLVE")
[ FAIL 0 | WARN 203 | SKIP 0 | PASS 6 ]

[ FAIL 0 | WARN 203 | SKIP 0 | PASS 6 ]
> 
> proc.time()
   user  system elapsed 
232.085   1.884 234.359 

Example timings

RESOLVE.Rcheck/RESOLVE-Ex.timings

nameusersystemelapsed
getCNCounts0.0180.0030.021
getIDCounts9.0540.4709.854
getMNVCounts17.942 0.40318.390
getSBSCounts 1.627 0.42410.423
groupsCNPlot4.2050.0804.297
groupsCXPlot2.7330.0352.778
groupsIDPlot6.3820.0446.444
groupsMNVPlot6.9190.1047.038
groupsSBSPlot6.2220.0086.245
patientsCNPlot1.7870.0001.792
patientsCXPlot0.8510.0030.856
patientsIDPlot2.7960.0002.803
patientsMNVPlot1.8310.0161.851
patientsSBSPlot1.2030.0001.207
signaturesAssignment49.687 0.25950.040
signaturesCNPlot2.6940.0322.732
signaturesCV125.004 0.275125.499
signaturesCXPlot1.2250.0321.261
signaturesDecomposition89.009 0.30789.484
signaturesIDPlot4.1670.0244.201
signaturesMNVPlot2.6910.0072.706
signaturesSBSPlot1.7740.0041.782
signaturesSignificance157.355 0.403158.051