Back to Multiple platform build/check report for BioC 3.21:   simplified   long
ABCDEFGHIJKLMNOPQ[R]STUVWXYZ

This page was generated on 2025-02-13 11:40 -0500 (Thu, 13 Feb 2025).

HostnameOSArch (*)R versionInstalled pkgs
nebbiolo1Linux (Ubuntu 24.04.1 LTS)x86_64R Under development (unstable) (2025-01-20 r87609) -- "Unsuffered Consequences" 4719
palomino7Windows Server 2022 Datacenterx64R Under development (unstable) (2025-01-21 r87610 ucrt) -- "Unsuffered Consequences" 4481
lconwaymacOS 12.7.1 Montereyx86_64R Under development (unstable) (2025-01-22 r87618) -- "Unsuffered Consequences" 4492
kjohnson3macOS 13.7.1 Venturaarm64R Under development (unstable) (2025-01-20 r87609) -- "Unsuffered Consequences" 4445
Click on any hostname to see more info about the system (e.g. compilers)      (*) as reported by 'uname -p', except on Windows and Mac OS X

Package 1692/2295HostnameOS / ArchINSTALLBUILDCHECKBUILD BIN
RCy3 2.27.0  (landing page)
Alex Pico
Snapshot Date: 2025-02-12 13:40 -0500 (Wed, 12 Feb 2025)
git_url: https://git.bioconductor.org/packages/RCy3
git_branch: devel
git_last_commit: 6d1a209
git_last_commit_date: 2024-10-29 10:04:47 -0500 (Tue, 29 Oct 2024)
nebbiolo1Linux (Ubuntu 24.04.1 LTS) / x86_64  OK    OK    OK  UNNEEDED, same version is already published
palomino7Windows Server 2022 Datacenter / x64  OK    OK    OK    OK  UNNEEDED, same version is already published
lconwaymacOS 12.7.1 Monterey / x86_64  OK    OK    OK    OK  UNNEEDED, same version is already published
kjohnson3macOS 13.7.1 Ventura / arm64  OK    OK    OK    OK  UNNEEDED, same version is already published


CHECK results for RCy3 on nebbiolo1

To the developers/maintainers of the RCy3 package:
- Allow up to 24 hours (and sometimes 48 hours) for your latest push to git@git.bioconductor.org:packages/RCy3.git to reflect on this report. See Troubleshooting Build Report for more information.
- Use the following Renviron settings to reproduce errors and warnings.
- If 'R CMD check' started to fail recently on the Linux builder(s) over a missing dependency, add the missing dependency to 'Suggests:' in your DESCRIPTION file. See Renviron.bioc for more information.

raw results


Summary

Package: RCy3
Version: 2.27.0
Command: /home/biocbuild/bbs-3.21-bioc/R/bin/R CMD check --install=check:RCy3.install-out.txt --library=/home/biocbuild/bbs-3.21-bioc/R/site-library --timings RCy3_2.27.0.tar.gz
StartedAt: 2025-02-13 01:45:09 -0500 (Thu, 13 Feb 2025)
EndedAt: 2025-02-13 01:46:46 -0500 (Thu, 13 Feb 2025)
EllapsedTime: 97.2 seconds
RetCode: 0
Status:   OK  
CheckDir: RCy3.Rcheck
Warnings: 0

Command output

##############################################################################
##############################################################################
###
### Running command:
###
###   /home/biocbuild/bbs-3.21-bioc/R/bin/R CMD check --install=check:RCy3.install-out.txt --library=/home/biocbuild/bbs-3.21-bioc/R/site-library --timings RCy3_2.27.0.tar.gz
###
##############################################################################
##############################################################################


* using log directory ‘/home/biocbuild/bbs-3.21-bioc/meat/RCy3.Rcheck’
* using R Under development (unstable) (2025-01-20 r87609)
* using platform: x86_64-pc-linux-gnu
* R was compiled by
    gcc (Ubuntu 13.3.0-6ubuntu2~24.04) 13.3.0
    GNU Fortran (Ubuntu 13.3.0-6ubuntu2~24.04) 13.3.0
* running under: Ubuntu 24.04.1 LTS
* using session charset: UTF-8
* checking for file ‘RCy3/DESCRIPTION’ ... OK
* checking extension type ... Package
* this is package ‘RCy3’ version ‘2.27.0’
* package encoding: UTF-8
* checking package namespace information ... OK
* checking package dependencies ... OK
* checking if this is a source package ... OK
* checking if there is a namespace ... OK
* checking for hidden files and directories ... NOTE
Found the following hidden files and directories:
  .travis.yml
These were most likely included in error. See section ‘Package
structure’ in the ‘Writing R Extensions’ manual.
* checking for portable file names ... OK
* checking for sufficient/correct file permissions ... OK
* checking whether package ‘RCy3’ can be installed ... OK
* checking installed package size ... OK
* checking package directory ... OK
* checking ‘build’ directory ... OK
* checking DESCRIPTION meta-information ... NOTE
License stub is invalid DCF.
* checking top-level files ... OK
* checking for left-over files ... OK
* checking index information ... OK
* checking package subdirectories ... OK
* checking code files for non-ASCII characters ... OK
* checking R files for syntax errors ... OK
* checking whether the package can be loaded ... OK
* checking whether the package can be loaded with stated dependencies ... OK
* checking whether the package can be unloaded cleanly ... OK
* checking whether the namespace can be loaded with stated dependencies ... OK
* checking whether the namespace can be unloaded cleanly ... OK
* checking loading without being on the library search path ... OK
* checking dependencies in R code ... OK
* checking S3 generic/method consistency ... OK
* checking replacement functions ... OK
* checking foreign function calls ... OK
* checking R code for possible problems ... NOTE
.checkHexColor: no visible global function definition for ‘colors’
.edgeNameToEdgeSUID: no visible binding for global variable ‘SUID’
.nodeNameToNodeSUID: no visible binding for global variable ‘SUID’
createNetworkFromDataFrames: no visible binding for global variable
  ‘SUID’
Undefined global functions or variables:
  SUID colors
Consider adding
  importFrom("grDevices", "colors")
to your NAMESPACE file.
* checking Rd files ... NOTE
checkRd: (-1) importFileFromUrl.Rd:24: Lost braces; missing escapes or markup?
    24 | dict: {'filePath': <new file's absolute path in Cytoscape workstation>, 'fileByteCount': number of bytes read}
       |       ^
checkRd: (-1) sandboxGetFileInfo.Rd:17: Lost braces; missing escapes or markup?
    17 | dict: {'filePath': <full path on Cytoscape workstation>, 'modifiedTime': <last changed time, '' if file doesn't exist>, 'isFile': <True if file, False if directory>}
       |       ^
checkRd: (-1) sandboxRemove.Rd:15: Lost braces; missing escapes or markup?
    15 | dict: {'sandboxPath': <directory on Cytoscape workstation>, 'existed': <True if sandbox existed>}
       |       ^
checkRd: (-1) sandboxRemoveFile.Rd:17: Lost braces; missing escapes or markup?
    17 | dict: {'filePath': <file's absolute path in Cytoscape workstation>, 'existed': True if file existed before being deleted}
       |       ^
checkRd: (-1) sandboxUrlTo.Rd:27: Lost braces; missing escapes or markup?
    27 | dict: {'filePath': <new file's absolute path in Cytoscape workstation>, 'fileByteCount': number of bytes read}
       |       ^
* checking Rd metadata ... OK
* checking Rd cross-references ... OK
* checking for missing documentation entries ... OK
* checking for code/documentation mismatches ... OK
* checking Rd \usage sections ... OK
* checking Rd contents ... OK
* checking for unstated dependencies in examples ... OK
* checking files in ‘vignettes’ ... OK
* checking examples ... OK
* checking for unstated dependencies in ‘tests’ ... OK
* checking tests ...
  Running ‘runTests.R’
 OK
* checking for unstated dependencies in vignettes ... OK
* checking package vignettes ... OK
* checking re-building of vignette outputs ... OK
* checking PDF version of manual ... OK
* DONE

Status: 4 NOTEs
See
  ‘/home/biocbuild/bbs-3.21-bioc/meat/RCy3.Rcheck/00check.log’
for details.


Installation output

RCy3.Rcheck/00install.out

##############################################################################
##############################################################################
###
### Running command:
###
###   /home/biocbuild/bbs-3.21-bioc/R/bin/R CMD INSTALL RCy3
###
##############################################################################
##############################################################################


* installing to library ‘/home/biocbuild/bbs-3.21-bioc/R/site-library’
* installing *source* package ‘RCy3’ ...
** this is package ‘RCy3’ version ‘2.27.0’
** using staged installation
** R
** inst
** byte-compile and prepare package for lazy loading
** help
*** installing help indices
** building package indices
** installing vignettes
** testing if installed package can be loaded from temporary location
** testing if installed package can be loaded from final location
** testing if installed package keeps a record of temporary installation path
* DONE (RCy3)

Tests output

RCy3.Rcheck/tests/runTests.Rout


R Under development (unstable) (2025-01-20 r87609) -- "Unsuffered Consequences"
Copyright (C) 2025 The R Foundation for Statistical Computing
Platform: x86_64-pc-linux-gnu

R is free software and comes with ABSOLUTELY NO WARRANTY.
You are welcome to redistribute it under certain conditions.
Type 'license()' or 'licence()' for distribution details.

R is a collaborative project with many contributors.
Type 'contributors()' for more information and
'citation()' on how to cite R or R packages in publications.

Type 'demo()' for some demos, 'help()' for on-line help, or
'help.start()' for an HTML browser interface to help.
Type 'q()' to quit R.

> # tests disabled as the Bioconductor build system no longer supports interactive sessions
> #require(RCy3) || stop("unable to load RCy3")
> #BiocGenerics:::testPackage('RCy3')
> 
> proc.time()
   user  system elapsed 
  0.139   0.040   0.166 

Example timings

RCy3.Rcheck/RCy3-Ex.timings

nameusersystemelapsed
AddToGroup000
RemoveFromGroup0.0000.0010.000
UpdateAnnotationBoundedText000
addAnnotationBoundedText000
addAnnotationImage000
addAnnotationShape000
addAnnotationText0.0000.0000.001
addCyEdges000
addCyNodes000
analyzeNetwork0.0010.0000.000
applyFilter0.0000.0010.000
bundleEdges0.0000.0010.000
checkNotebookIsRunning000
checkRunningRemote000
clearEdgeBends0.0000.0000.001
clearEdgePropertyBypass000
clearNetworkCenterBypass000
clearNetworkPropertyBypass0.0010.0000.000
clearNetworkZoomBypass000
clearNodeOpacityBypass000
clearNodePropertyBypass000
clearSelection0.0000.0000.001
cloneNetwork000
closeSession000
collapseGroup0.0010.0000.000
commandEcho000
commandOpenDialog000
commandPause000
commandQuit0.0000.0000.001
commandRunFile000
commandSleep000
commandsAPI0.0010.0000.000
commandsGET0.0000.0010.000
commandsHelp000
commandsPOST000
commandsRun0.0000.0000.001
copyVisualStyle000
createColumnFilter000
createCompositeFilter0.0010.0000.000
createCytoscapejsFromNetwork000
createDegreeFilter000
createGraphFromNetwork000
createGroup0.0000.0000.001
createGroupByColumn0.0010.0000.000
createIgraphFromNetwork0.0000.0010.000
createNetworkFromCytoscapejs000
createNetworkFromDataFrames000
createNetworkFromGraph000
createNetworkFromIgraph000
createSubnetwork0.0000.0000.001
createView0.0010.0000.000
createVisualStyle0.0000.0010.000
cybrowserClose000
cybrowserDialog000
cybrowserHide000
cybrowserList000
cybrowserSend0.0000.0000.001
cybrowserShow0.0010.0000.000
cybrowserVersion0.0000.0010.000
cyrestAPI000
cyrestDELETE000
cyrestGET000
cyrestPOST000
cyrestPUT0.0000.0000.001
cytoscapeApiVersions0.0010.0000.000
cytoscapeFreeMemory0.0000.0010.000
cytoscapeMemoryStatus000
cytoscapeNumberOfCores000
cytoscapePing000
cytoscapeVersionInfo000
deleteAllNetworks0.0000.0000.001
deleteAllVisualStyle000
deleteAnnotation0.0000.0010.000
deleteDuplicateEdges000
deleteGroup000
deleteNetwork0.0000.0000.001
deleteSelectedEdges000
deleteSelectedNodes000
deleteSelfLoops0.0010.0000.000
deleteStyleMapping000
deleteTableColumn000
deleteVisualStyle000
diffusionAdvanced0.0000.0000.001
diffusionBasic000
disableApp000
doInitializeSandbox0.0010.0000.000
doRequestRemote0.0000.0010.000
doSetSandbox000
dockPanel000
dot-exportShowImage0.0000.0000.001
dot-getDefaultSandbox0.0010.0000.000
dot-getRequester000
enableApp000
expandGroup0.0000.0010.000
exportFilters000
exportImage000
exportJPG0.0000.0000.001
exportNetwork000
exportNetworkToNDEx000
exportPDF0.0010.0000.000
exportPNG0.0000.0010.000
exportPS000
exportSVG000
exportVisualStyles0.0000.0000.001
findRemoteCytoscape000
fitContent000
floatPanel000
getAbsSandboxPath000
getAllEdges000
getAllNodes000
getAllStyleMappings0.0000.0000.001
getAnnotationList0.0010.0000.000
getAppInformation0.0000.0010.000
getAppStatus000
getAppUpdates000
getArrowShapes000
getAvailableApps000
getBackgroundColorDefault0.0000.0000.001
getBrowserClientChannel0.0010.0000.000
getBrowserClientJs0.0000.0010.000
getCollectionList000
getCollectionName000
getCollectionNetworks0.0000.0000.001
getCollectionSuid0.0010.0000.000
getCurrentSandbox000
getCurrentSandboxName000
getCurrentSandboxPath000
getCurrentStyle000
getDefaultSandbox000
getDefaultSandboxPath0.0000.0000.001
getDisabledApps0.0010.0000.000
getEdgeColor0.0000.0010.000
getEdgeCount000
getEdgeInfo000
getEdgeLineStyle0.0000.0000.001
getEdgeLineWidth000
getEdgeProperty000
getEdgeSelectionColorDefault0.0010.0000.000
getEdgeTargetArrowShape000
getFilterList000
getFirstNeighbors000
getGroupInfo0.0000.0000.001
getInstalledApps0.0010.0000.000
getJupyterBridgeURL0.0000.0010.000
getLayoutNameMapping000
getLayoutNames000
getLayoutPropertyNames000
getLayoutPropertyType000
getLayoutPropertyValue0.0000.0000.001
getLineStyles0.0010.0000.000
getNetworkCenter000
getNetworkCount000
getNetworkList000
getNetworkNDExId000
getNetworkName000
getNetworkProperty0.0000.0000.001
getNetworkSuid0.0010.0000.000
getNetworkViewSuid000
getNetworkViews000
getNetworkZoom000
getNodeColor000
getNodeCount000
getNodeHeight0.0000.0000.001
getNodeLabelPosition0.0010.0000.000
getNodeLabelPositionDefault000
getNodePosition000
getNodeProperty000
getNodeSelectionColorDefault000
getNodeShapes000
getNodeSize0.0000.0000.001
getNodeWidth000
getNotebookIsRunning000
getSandboxReinitialize000
getSelectedEdgeCount0.0000.0010.000
getSelectedEdges000
getSelectedNodeCount000
getSelectedNodes000
getStyleDependencies000
getStyleMapping000
getTableColumnNames0.0010.0000.000
getTableColumnTypes0.0000.0010.000
getTableColumns000
getTableValue000
getUninstalledApps0.0000.0000.001
getVisualPropertyDefault0.0010.0000.000
getVisualPropertyNames0.0000.0010.000
getVisualStyleJSON000
getVisualStyleNames000
groupAnnotation000
hideAllPanels000
hideEdges0.0000.0000.001
hideNodes0.0010.0000.000
hidePanel0.0000.0010.000
hideSelectedEdges000
hideSelectedNodes000
importFileFromUrl0.0000.0000.001
importFilters0.0010.0000.000
importNetworkFromFile000
importNetworkFromNDEx000
importVisualStyles0.0000.0010.000
installApp000
invertEdgeSelection000
invertNodeSelection0.0000.0000.001
layoutCopycat0.0010.0000.000
layoutNetwork000
listGroups000
lockNodeDimensions000
makeSimpleGraph0.0530.0000.054
makeSimpleIgraph0.0600.0030.063
mapTableColumn000
mapVisualProperty0.0000.0000.001
matchArrowColorToEdge000
mergeNetworks0.0000.0010.000
notebookExportShowImage000
notebookShowImage000
openAppStore0.0000.0000.001
openSession000
paletteColorBrewerAccent0.0030.0010.004
paletteColorBrewerBlues000
paletteColorBrewerBrBG000
paletteColorBrewerBuGn0.0000.0010.000
paletteColorBrewerBuPu0.0000.0000.001
paletteColorBrewerDark2000
paletteColorBrewerGnBu0.0010.0000.000
paletteColorBrewerGreens0.0000.0010.000
paletteColorBrewerGreys000
paletteColorBrewerOrRd000
paletteColorBrewerOranges0.0000.0010.000
paletteColorBrewerPRGn0.0000.0000.001
paletteColorBrewerPaired000
paletteColorBrewerPastel1000
paletteColorBrewerPastel20.0000.0010.001
paletteColorBrewerPiYG000
paletteColorBrewerPuBu000
paletteColorBrewerPuBuGn0.0000.0010.000
paletteColorBrewerPuOr0.0000.0000.001
paletteColorBrewerPuRd0.0010.0000.000
paletteColorBrewerPurples000
paletteColorBrewerRdBu0.0000.0010.001
paletteColorBrewerRdPu000
paletteColorBrewerRdYlBu000
paletteColorBrewerReds0.0000.0010.000
paletteColorBrewerSet10.0000.0000.001
paletteColorBrewerSet2000
paletteColorBrewerSet3000
paletteColorBrewerYlGn0.0000.0010.000
paletteColorBrewerYlGnBu0.0000.0000.001
paletteColorBrewerYlOrBr0.0010.0000.000
paletteColorBrewerYlOrRd000
paletteColorRandom0.0000.0000.001
paletteColorVirdis0.0000.0000.001
removeNodeCustomGraphics000
renameNetwork000
renameTableColumn0.0000.0000.001
resetDefaultSandbox000
rotateLayout0.0000.0010.000
runningRemoteCheck000
sandboxGetFileInfo000
sandboxGetFrom0.0000.0000.001
sandboxInitializer0.0010.0000.000
sandboxRemove0.0000.0010.000
sandboxRemoveFile000
sandboxSendTo000
sandboxSet000
sandboxUrlTo000
saveSession000
scaleLayout000
selectAll000
selectAllEdges0.0000.0000.001
selectAllNodes0.0010.0000.000
selectEdges000
selectEdgesAdjacentToNodes000
selectEdgesAdjacentToSelectedNodes000
selectEdgesConnectingSelectedNodes0.0000.0000.001
selectFirstNeighbors0.0010.0000.000
selectNodes0.0000.0010.000
selectNodesConnectedBySelectedEdges000
setBackgroundColorDefault000
setCatchupFilterSecs0.0000.0000.001
setCatchupNetworkSecs0.0000.0000.001
setCurrentNetwork0.0010.0000.000
setCurrentSandbox000
setCurrentView000
setDefaultSandbox000
setDefaultSandboxPath0.0000.0000.001
setEdgeColorBypass0.0010.0000.000
setEdgeColorDefault000
setEdgeColorMapping0.0000.0000.001
setEdgeFontFaceBypass0.0010.0000.000
setEdgeFontFaceDefault0.0000.0010.000
setEdgeFontFaceMapping000
setEdgeFontSizeBypass000
setEdgeFontSizeDefault0.0000.0000.001
setEdgeFontSizeMapping0.0010.0000.000
setEdgeLabelBypass0.0000.0010.000
setEdgeLabelColorBypass000
setEdgeLabelColorDefault000
setEdgeLabelColorMapping0.0000.0000.001
setEdgeLabelDefault0.0010.0000.000
setEdgeLabelMapping0.0000.0010.000
setEdgeLabelOpacityBypass000
setEdgeLabelOpacityDefault000
setEdgeLabelOpacityMapping0.0000.0000.001
setEdgeLineStyleBypass0.0010.0000.000
setEdgeLineStyleDefault000
setEdgeLineStyleMapping000
setEdgeLineWidthBypass000
setEdgeLineWidthDefault000
setEdgeLineWidthMapping000
setEdgeOpacityBypass000
setEdgeOpacityDefault0.0000.0000.001
setEdgeOpacityMapping000
setEdgePropertyBypass0.0000.0010.000
setEdgeSelectionColorDefault000
setEdgeSourceArrowColorBypass000
setEdgeSourceArrowColorDefault0.0000.0000.001
setEdgeSourceArrowColorMapping0.0010.0000.000
setEdgeSourceArrowMapping000
setEdgeSourceArrowShapeBypass000
setEdgeSourceArrowShapeDefault000
setEdgeSourceArrowShapeMapping0.0000.0000.001
setEdgeTargetArrowColorBypass0.0010.0000.000
setEdgeTargetArrowColorDefault0.0000.0010.000
setEdgeTargetArrowColorMapping000
setEdgeTargetArrowMapping000
setEdgeTargetArrowShapeBypass0.0000.0010.000
setEdgeTargetArrowShapeDefault000
setEdgeTargetArrowShapeMapping000
setEdgeTooltipBypass0.0000.0000.001
setEdgeTooltipDefault000
setEdgeTooltipMapping0.0000.0010.000
setLayoutProperties000
setModelPropagationSecs000
setNetworkCenterBypass000
setNetworkPropertyBypass0.0010.0000.000
setNetworkZoomBypass0.0000.0010.000
setNodeBorderColorBypass000
setNodeBorderColorDefault000
setNodeBorderColorMapping0.0000.0000.001
setNodeBorderOpacityBypass0.0010.0000.000
setNodeBorderOpacityDefault0.0000.0010.000
setNodeBorderOpacityMapping000
setNodeBorderWidthBypass000
setNodeBorderWidthDefault0.0000.0000.001
setNodeBorderWidthMapping0.0010.0000.000
setNodeColorBypass0.0000.0010.000
setNodeColorDefault000
setNodeColorMapping000
setNodeComboOpacityMapping0.0000.0000.001
setNodeCustomBarChart0.0010.0000.000
setNodeCustomBoxChart000
setNodeCustomHeatMapChart000
setNodeCustomLineChart0.0000.0010.000
setNodeCustomLinearGradient000
setNodeCustomPieChart000
setNodeCustomPosition0.0000.0000.001
setNodeCustomRadialGradient0.0010.0000.000
setNodeCustomRingChart000
setNodeFillOpacityBypass000
setNodeFillOpacityDefault000
setNodeFillOpacityMapping0.0000.0000.001
setNodeFontFaceBypass000
setNodeFontFaceDefault000
setNodeFontFaceMapping000
setNodeFontSizeBypass0.0000.0010.000
setNodeFontSizeDefault000
setNodeFontSizeMapping000
setNodeHeightBypass0.0000.0000.001
setNodeHeightDefault0.0010.0000.000
setNodeHeightMapping0.0000.0010.000
setNodeLabelBypass000
setNodeLabelColorBypass000
setNodeLabelColorDefault000
setNodeLabelColorMapping000
setNodeLabelDefault000
setNodeLabelMapping000
setNodeLabelOpacityBypass000
setNodeLabelOpacityDefault000
setNodeLabelOpacityMapping000
setNodeLabelPositionBypass0.0000.0000.001
setNodeLabelPositionDefault0.0010.0000.000
setNodeOpacityBypass000
setNodePositionBypass000
setNodePropertyBypass000
setNodeSelectionColorDefault000
setNodeShapeBypass0.0010.0000.000
setNodeShapeDefault0.0000.0000.001
setNodeShapeMapping0.0010.0000.000
setNodeSizeBypass0.0000.0010.000
setNodeSizeDefault000
setNodeSizeMapping000
setNodeTooltipBypass0.0000.0000.001
setNodeTooltipDefault000
setNodeTooltipMapping000
setNodeWidthBypass0.0010.0000.000
setNodeWidthDefault0.0000.0010.000
setNodeWidthMapping000
setNotebookIsRunning000
setSandboxReinitialize0.0000.0000.001
setStyleDependencies000
setVisualPropertyDefault000
setVisualStyle0.0010.0000.000
syncNodeCustomGraphicsSize0.0000.0010.000
toggleGraphicsDetails000
ungroupAnnotation000
unhideAll0.0000.0000.001
unhideEdges0.0010.0000.000
unhideNodes000
uninstallApp000
updateAnnotationImage0.0000.0010.000
updateAnnotationShape000
updateAnnotationText000
updateApp0.0000.0000.001
updateGroupAnnotation0.0010.0000.000
updateNetworkInNDEx0.0000.0010.000
updateStyleDefaults000
updateStyleMapping000