| Back to Multiple platform build/check report for BioC 3.21: simplified long |
|
This page was generated on 2025-10-16 11:38 -0400 (Thu, 16 Oct 2025).
| Hostname | OS | Arch (*) | R version | Installed pkgs |
|---|---|---|---|---|
| nebbiolo1 | Linux (Ubuntu 24.04.3 LTS) | x86_64 | 4.5.1 (2025-06-13) -- "Great Square Root" | 4833 |
| merida1 | macOS 12.7.6 Monterey | x86_64 | 4.5.1 RC (2025-06-05 r88288) -- "Great Square Root" | 4614 |
| kjohnson1 | macOS 13.7.5 Ventura | arm64 | 4.5.1 Patched (2025-06-14 r88325) -- "Great Square Root" | 4555 |
| kunpeng2 | Linux (openEuler 24.03 LTS) | aarch64 | R Under development (unstable) (2025-02-19 r87757) -- "Unsuffered Consequences" | 4586 |
| Click on any hostname to see more info about the system (e.g. compilers) (*) as reported by 'uname -p', except on Windows and Mac OS X | ||||
| Package 1665/2341 | Hostname | OS / Arch | INSTALL | BUILD | CHECK | BUILD BIN | ||||||||
| QSutils 1.26.0 (landing page) Mercedes Guerrero-Murillo
| nebbiolo1 | Linux (Ubuntu 24.04.3 LTS) / x86_64 | OK | OK | OK | |||||||||
| merida1 | macOS 12.7.6 Monterey / x86_64 | OK | OK | OK | OK | |||||||||
| kjohnson1 | macOS 13.7.5 Ventura / arm64 | OK | OK | OK | OK | |||||||||
| kunpeng2 | Linux (openEuler 24.03 LTS) / aarch64 | OK | OK | OK | ||||||||||
|
To the developers/maintainers of the QSutils package: - Allow up to 24 hours (and sometimes 48 hours) for your latest push to git@git.bioconductor.org:packages/QSutils.git to reflect on this report. See Troubleshooting Build Report for more information. - Use the following Renviron settings to reproduce errors and warnings. - If 'R CMD check' started to fail recently on the Linux builder(s) over a missing dependency, add the missing dependency to 'Suggests:' in your DESCRIPTION file. See Renviron.bioc for more information. |
| Package: QSutils |
| Version: 1.26.0 |
| Command: /home/biocbuild/bbs-3.21-bioc/R/bin/R CMD check --install=check:QSutils.install-out.txt --library=/home/biocbuild/bbs-3.21-bioc/R/site-library --timings QSutils_1.26.0.tar.gz |
| StartedAt: 2025-10-16 02:31:40 -0400 (Thu, 16 Oct 2025) |
| EndedAt: 2025-10-16 02:33:42 -0400 (Thu, 16 Oct 2025) |
| EllapsedTime: 122.1 seconds |
| RetCode: 0 |
| Status: OK |
| CheckDir: QSutils.Rcheck |
| Warnings: 0 |
##############################################################################
##############################################################################
###
### Running command:
###
### /home/biocbuild/bbs-3.21-bioc/R/bin/R CMD check --install=check:QSutils.install-out.txt --library=/home/biocbuild/bbs-3.21-bioc/R/site-library --timings QSutils_1.26.0.tar.gz
###
##############################################################################
##############################################################################
* using log directory ‘/home/biocbuild/bbs-3.21-bioc/meat/QSutils.Rcheck’
* using R version 4.5.1 (2025-06-13)
* using platform: x86_64-pc-linux-gnu
* R was compiled by
gcc (Ubuntu 13.3.0-6ubuntu2~24.04) 13.3.0
GNU Fortran (Ubuntu 13.3.0-6ubuntu2~24.04) 13.3.0
* running under: Ubuntu 24.04.3 LTS
* using session charset: UTF-8
* checking for file ‘QSutils/DESCRIPTION’ ... OK
* checking extension type ... Package
* this is package ‘QSutils’ version ‘1.26.0’
* package encoding: UTF-8
* checking package namespace information ... OK
* checking package dependencies ... OK
* checking if this is a source package ... OK
* checking if there is a namespace ... OK
* checking for hidden files and directories ... OK
* checking for portable file names ... OK
* checking for sufficient/correct file permissions ... OK
* checking whether package ‘QSutils’ can be installed ... OK
* checking installed package size ... OK
* checking package directory ... OK
* checking ‘build’ directory ... OK
* checking DESCRIPTION meta-information ... OK
* checking top-level files ... NOTE
File
LICENSE
is not mentioned in the DESCRIPTION file.
* checking for left-over files ... OK
* checking index information ... OK
* checking package subdirectories ... NOTE
Problems with news in ‘NEWS’:
Cannot process chunk/lines:
CHANGES IN VERSION 0.99.8
Internal changes:
- QSutils review correction:
· Add exports to NAMESPACE
Cannot process chunk/lines:
CHANGES IN VERSION 0.99.4,5, and 7
Internal changes:
- QSutils review correction:
· fn.ab function correction
Cannot process chunk/lines:
CHANGES IN VERSION 0.99.3
Internal changes:
- QSutils review correction:
· Vignette: add chunk names
· R Change class -> is()
· R hide helper functions
· R join more than one function in one file
· R vectorize some apply
· R Change fn.ab.1,fn.ab.2 and fn.ab.3 -> fn.ab with 3 agruments in fn
Cannot process chunk/lines:
CHANGES IN VERSION 0.99.2
Internal changes:
- Biocheck NOTEs correction:
· Change sapply()->vapply()
· Change 1:... -> seq_len()
Cannot process chunk/lines:
CHANGES IN VERSION 0.99.1
Internal changes:
- Correction of WARNINGS and ERRORS
with Biocheck:
· Collapse() example ERROR.
· Change class == -> is() or !is()
· Update R version dependency from 3.4.0 to 3.5.
· Correct -> 'VignetteIndexEntry{VignetteTitle}' in QSUtils-Alignment.Rmd
* checking code files for non-ASCII characters ... OK
* checking R files for syntax errors ... OK
* checking whether the package can be loaded ... OK
* checking whether the package can be loaded with stated dependencies ... OK
* checking whether the package can be unloaded cleanly ... OK
* checking whether the namespace can be loaded with stated dependencies ... OK
* checking whether the namespace can be unloaded cleanly ... OK
* checking loading without being on the library search path ... OK
* checking dependencies in R code ... OK
* checking S3 generic/method consistency ... OK
* checking replacement functions ... OK
* checking foreign function calls ... OK
* checking R code for possible problems ... OK
* checking Rd files ... OK
* checking Rd metadata ... OK
* checking Rd cross-references ... OK
* checking for missing documentation entries ... OK
* checking for code/documentation mismatches ... OK
* checking Rd \usage sections ... OK
* checking Rd contents ... OK
* checking for unstated dependencies in examples ... OK
* checking files in ‘vignettes’ ... OK
* checking examples ... OK
* checking for unstated dependencies in vignettes ... OK
* checking package vignettes ... OK
* checking re-building of vignette outputs ... OK
* checking PDF version of manual ... OK
* DONE
Status: 2 NOTEs
See
‘/home/biocbuild/bbs-3.21-bioc/meat/QSutils.Rcheck/00check.log’
for details.
QSutils.Rcheck/00install.out
############################################################################## ############################################################################## ### ### Running command: ### ### /home/biocbuild/bbs-3.21-bioc/R/bin/R CMD INSTALL QSutils ### ############################################################################## ############################################################################## * installing to library ‘/home/biocbuild/bbs-3.21-bioc/R/site-library’ * installing *source* package ‘QSutils’ ... ** this is package ‘QSutils’ version ‘1.26.0’ ** using staged installation ** R ** inst ** byte-compile and prepare package for lazy loading ** help *** installing help indices ** building package indices ** installing vignettes ** testing if installed package can be loaded from temporary location ** testing if installed package can be loaded from final location ** testing if installed package keeps a record of temporary installation path * DONE (QSutils)
QSutils.Rcheck/QSutils-Ex.timings
| name | user | system | elapsed | |
| Collapse | 0.109 | 0.024 | 0.133 | |
| ConsSeq | 0.019 | 0.004 | 0.022 | |
| CorrectGapsAndNs | 0.005 | 0.001 | 0.006 | |
| DBrule | 0.029 | 0.008 | 0.039 | |
| DNA.dist | 0.006 | 0.002 | 0.008 | |
| DSFT | 0.003 | 0.001 | 0.005 | |
| Diverge | 0.003 | 0.000 | 0.003 | |
| DottedAlignment | 0.007 | 0.001 | 0.009 | |
| FAD | 0.002 | 0.004 | 0.007 | |
| FreqMat | 0.014 | 0.003 | 0.017 | |
| GenerateVars | 0.002 | 0.002 | 0.004 | |
| GenotypeStandards_A-H.fas | 0.005 | 0.001 | 0.007 | |
| GetInfProfile | 0.016 | 0.002 | 0.018 | |
| GetQSData | 0.326 | 0.027 | 0.353 | |
| GetRandomSeq | 0.000 | 0.000 | 0.001 | |
| GiniSimpson | 0.001 | 0.000 | 0.001 | |
| HCq | 0.002 | 0.002 | 0.005 | |
| Hill | 0.001 | 0.002 | 0.004 | |
| IntersectStrandHpls | 0.055 | 0.002 | 0.060 | |
| MutationFreq | 0.467 | 0.012 | 0.480 | |
| MutsTbl | 0.013 | 0.002 | 0.015 | |
| NucleotideDiversity | 0.006 | 0.001 | 0.006 | |
| PolyDist | 0.018 | 0.001 | 0.019 | |
| Rao | 0.011 | 0.000 | 0.010 | |
| ReadAmplSeqs | 0.019 | 0.003 | 0.022 | |
| Renyi | 0.001 | 0.002 | 0.004 | |
| ReportVariants | 0.012 | 0.002 | 0.014 | |
| SegSites | 0.008 | 0.000 | 0.008 | |
| Shannon | 0.001 | 0.000 | 0.000 | |
| SortByMutations | 0.481 | 0.010 | 0.492 | |
| SummaryMuts | 0.013 | 0.001 | 0.014 | |
| TotalMutations | 0.012 | 0.000 | 0.013 | |
| Toy.GapsAndNs.fna | 0.042 | 0.000 | 0.042 | |
| ToyData_10_50_1000.fna | 0.021 | 0.001 | 0.023 | |
| ToyData_FWReads.fna | 0.052 | 0.004 | 0.056 | |
| ToyData_RVReads.fna | 0.052 | 0.001 | 0.052 | |
| UniqueMutations | 0.008 | 0.001 | 0.008 | |
| Unknown-Genotype.fna | 0.008 | 0.000 | 0.008 | |
| fn.ab | 0.002 | 0.001 | 0.003 | |
| geom.series | 0.002 | 0.000 | 0.002 | |